BEGIN:VCALENDAR
VERSION:2.0
PRODID:-//Boston Workers Circle - ECPv6.15.20//NONSGML v1.0//EN
CALSCALE:GREGORIAN
METHOD:PUBLISH
X-WR-CALNAME:Boston Workers Circle
X-ORIGINAL-URL:https://circleboston.org
X-WR-CALDESC:Events for Boston Workers Circle
REFRESH-INTERVAL;VALUE=DURATION:PT1H
X-Robots-Tag:noindex
X-PUBLISHED-TTL:PT1H
BEGIN:VTIMEZONE
TZID:America/New_York
BEGIN:DAYLIGHT
TZOFFSETFROM:-0500
TZOFFSETTO:-0400
TZNAME:EDT
DTSTART:20250309T070000
END:DAYLIGHT
BEGIN:STANDARD
TZOFFSETFROM:-0400
TZOFFSETTO:-0500
TZNAME:EST
DTSTART:20251102T060000
END:STANDARD
BEGIN:DAYLIGHT
TZOFFSETFROM:-0500
TZOFFSETTO:-0400
TZNAME:EDT
DTSTART:20260308T070000
END:DAYLIGHT
BEGIN:STANDARD
TZOFFSETFROM:-0400
TZOFFSETTO:-0500
TZNAME:EST
DTSTART:20261101T060000
END:STANDARD
BEGIN:DAYLIGHT
TZOFFSETFROM:-0500
TZOFFSETTO:-0400
TZNAME:EDT
DTSTART:20270314T070000
END:DAYLIGHT
BEGIN:STANDARD
TZOFFSETFROM:-0400
TZOFFSETTO:-0500
TZNAME:EST
DTSTART:20271107T060000
END:STANDARD
END:VTIMEZONE
BEGIN:VEVENT
DTSTART;TZID=America/New_York:20260421T190000
DTEND;TZID=America/New_York:20260421T203000
DTSTAMP:20260420T124336
CREATED:20260111T192227Z
LAST-MODIFIED:20260419T191142Z
UID:10003549-1776798000-1776803400@circleboston.org
SUMMARY:Intermediate Yiddish: Virtual
DESCRIPTION:Build confidence in your Yiddish – reading\, speaking\, and listening\, in a supportive and welcoming classroom of intermediate Yiddish students. We’ll focus on building reading fluency\, comprehension strategies\, dictionary skills\, and making meaning from texts while enjoying selections from the canon of Yiddish literature. In this class\, you will find abundant opportunities to stretch and grow your Yiddish. We’ll read slowly\, translate continuously\, and look up every unfamiliar word as we read (in Yiddish) and discuss (in English and Yiddish) literature together. This semester\, we’ll continue reading the memoirs of 19th-century feminist icon Puah Rakovsky\, whose spellbinding tell-all memoir describes her experiences of arranged marriage\, teen motherhood\, rejecting her religious upbringing\, divorcing her parents’ son-in-law\, starting a career\, and becoming one of the world’s first women’s rights activists. \nLearn more and register here.
URL:https://circleboston.org/event/intermediate-yiddish-virtual-17/
LOCATION:Zoom
CATEGORIES:Yiddish - Classes
END:VEVENT
BEGIN:VEVENT
DTSTART;TZID=America/New_York:20260421T190000
DTEND;TZID=America/New_York:20260421T203000
DTSTAMP:20260420T124336
CREATED:20260408T203519Z
LAST-MODIFIED:20260419T185658Z
UID:10003823-1776798000-1776803400@circleboston.org
SUMMARY:Counting the Omer Playwriting Workshops
DESCRIPTION:Who: Writers of all kinds! No playwriting experience necessary. \nWhat:  As we count the days from Pesach to Shavuot\, we invite members of our creative Jewish community to attend a series of low-stakes\, reflective playwriting workshops. Each week\, we will engage with text as a group\, then each write a two-page play based on the corresponding sefirot. These plays can connect to each other\, or each can exist in its own little world — the journey is ours to discover! \nWe hope to share some of these plays with our community on Shavuot – details TBA!  \n When: Tuesday nights\, April 14th – May 19th\, 7-8:30pm \n    Where: Hybrid – Boston Workers Circle (6 Webster Street in Brookline) and Zoom \n    How: Register here. \n    Please bring: Your writing implements of choice\, maybe some yummy snacks (hot tea provided!) \n    With support from Nehar Shalom members and the BWC’s Graggernicks
URL:https://circleboston.org/event/counting-the-omer-playwriting-workshops-2/
LOCATION:Zoom Only
CATEGORIES:Young Adult Community
END:VEVENT
BEGIN:VEVENT
DTSTART;TZID=America/New_York:20260421T190000
DTEND;TZID=America/New_York:20260421T210000
DTSTAMP:20260420T124336
CREATED:20260211T232349Z
LAST-MODIFIED:20260419T212638Z
UID:10003744-1776798000-1776805200@circleboston.org
SUMMARY:Combatants for Peace/Family Forum Joint Memorial Watch Gathering
DESCRIPTION:This event is a commemoration run by Israelis and Palestinians\, Muslims\, Jews\, and Christians\, that recognizes all of those lost to unjust violence\, oppression\, and endless war. It’s an alternative to the yearly commemoration of Israeli dead.This is an in-person gathering to watch the ceremony together\, and will take place at the Boston Workers Circle\, 6 Webster Street\, Brookline\, on April 21st\, at 7pm. It is sponsored by the Boston Friends of Standing Together\, and the BWC-IPC’s Boston Friends of Israeli Palestinian Alliances.  \nNo registration necessary. Contact mitchell.silver@umb.edu for more info.
URL:https://circleboston.org/event/joint-memorial-watch/
LOCATION:BWC Building
CATEGORIES:Israel/Palestine Committee
END:VEVENT
BEGIN:VEVENT
DTSTART;TZID=America/New_York:20260422T193000
DTEND;TZID=America/New_York:20260422T210000
DTSTAMP:20260420T124336
CREATED:20260111T192227Z
LAST-MODIFIED:20260419T191142Z
UID:10003551-1776886200-1776891600@circleboston.org
SUMMARY:Beginner Yiddish Semester II: In-Person
DESCRIPTION:Let’s continue to learn Yiddish — lomir vayter geyn mit lernen zikh yidish! This course continues to work through the fundamentals of Yiddish conversation\, reading\, and grammar through highly-interactive games\, songs\, activities\, and short texts. \nLearn more and register here.
URL:https://circleboston.org/event/beginner-yiddish-semester-ii-in-person-8/
LOCATION:BWC Building
CATEGORIES:Yiddish - Classes
END:VEVENT
BEGIN:VEVENT
DTSTART;TZID=America/New_York:20260422T200000
DTEND;TZID=America/New_York:20260422T213000
DTSTAMP:20260420T124336
CREATED:20260111T214150Z
LAST-MODIFIED:20260419T191142Z
UID:10003620-1776888000-1776893400@circleboston.org
SUMMARY:Advanced: Shtok Shraybt Vayter: Virtual
DESCRIPTION:שטָאק שרײַ בט נָאך ווײַ טער   \nֿפראַ דל שטאָ ק )1890-1990( ֿפאַ רּכישוֿפט און ֿפאַ רכאַ ּפט מיט אירע שאַ רֿפע אָ בסערוואַ ציעס און  שעֿפערישער שּפיל מיט ווערטער. די גאַ מע טעמעס\, ס ֿביֿבות און סטיליסטיק וואָ ס זי באַ ניצט\, איז  ֿפולשטענדיק און פאַ רשיידן.   \nשטאָ קס דורכדרינגענדיקע דערציילונגען שּפיגלען אָ ּפ\, מיט הומאָ ר\, איראָ ניע און קריטיק\, די נואַ נסן ֿפון  שטעטל- און אימיגראַ נטן-לעבן. זי ֿפאַ רנעמט זיך מיט מאַ רגינאַ ליזירטע\, ווייניק-רעּפרעזענטירטע  ּפערסאָ נאַ זשן\, וועלכע זי באַ שרײַבט מיט טיֿפקייט\, אויטענטישקייט און מיט אַ לע ּפיטעשעווקעס.  שטאָ קס דערציילונגען ֿפאַ רבלײַבן ֿפריש\, באַ טײַ טיק און שייכדיק\, איבער 100 יאָ ר נאָ ך דעם ווי זיי  זײַנען געשריבן געוואָ רן. אירע לידער זײַנען באַ שמײַסטערט\, באַ שאַ ֿפן מיט ליידנשאַ ֿפט\, ֿפעיִקייט און  ּפרעציזקייט. אירע ליטעראַ רישע עסייען זײַנען באַ לײַכטנדיק.  \nשטאָ קס שאַ ֿפונגען זײַנען גאָ ר עסטעטיש. בײַ ם לייענען שטאָ קס שיינשרײַ בן אינעם אָ ריגינעלן ייִדיש\,  קענען לייענערס זיך באַ לעקן מיט דער מוזיקאַ לישקייט\, און מיט די חושימדיקע קלאַ נגען און קלוגע  ווערטערשּפילן\, וואָ ס זײַנען וויכטיקע שטריכן ֿפון שטאָ קס שעֿפערישקייט. עס איז אַ פאַ רגעניגן  צוזאַ מען צו צעגלידערן שטאָ קס שרײַבן. איר איראָ נישער הומאָ ר\, טיֿפער באַ נעם און אוניקאַ לישע  שרײַבן סטימולירט שטאַ רקע\, הייס-בלוטיקע דיסקוסיעס אין קלאַ ס. \nFradl Shtok (1890-1990) continues to inspire and entice us with her brilliant observations and way with words. Her stories remain fresh and relevant\, a century after they were written. Shtok’s poems are crafted with breathtaking precision and passion and her essays are illuminating. Studying Shtok’s texts in Yiddish enables the reader to savor tthe sensuous sounds\, wordplay and musicality that are present throughout her work. Her ironic humour\, depth of perception and unique writing style will surely engage students in our discussions. \nLearn more and register here.
URL:https://circleboston.org/event/advanced-shtok-shraybt-vayter-virtual-17/
LOCATION:Zoom
CATEGORIES:Yiddish - Classes,Yiddish - Special Events
END:VEVENT
BEGIN:VEVENT
DTSTART;TZID=America/New_York:20260423T190000
DTEND;TZID=America/New_York:20260423T203000
DTSTAMP:20260420T124336
CREATED:20240805T162043Z
LAST-MODIFIED:20260419T215644Z
UID:10002250-1776970800-1776976200@circleboston.org
SUMMARY:Yiddish Sing
DESCRIPTION:Drop in for this free informal monthly gathering to sing Yiddish songs! All are welcome\, regardless of singing ability or knowledge of Yiddish. \nAttendees are welcome to attend in person or online. We will sing from the Yosl and Chana Mlotek collection of Yiddish songs. These songbooks will be available in person and are also available online at https://yiddishsongs.org. Online participants can request songs and listen and sing along with their mics muted. \nREGISTRATION REQUIRED. Please register here before the event.
URL:https://circleboston.org/event/yiddish-sing-27/
LOCATION:Hybrid: BWC Building & Zoom
CATEGORIES:Yiddish - Ongoing Programming
END:VEVENT
BEGIN:VEVENT
DTSTART;TZID=America/New_York:20260424T103000
DTEND;TZID=America/New_York:20260424T120000
DTSTAMP:20260420T124336
CREATED:20240424T125849Z
LAST-MODIFIED:20260419T215644Z
UID:10001820-1777026600-1777032000@circleboston.org
SUMMARY:Yiddish Reading Group
DESCRIPTION:Join our Yiddish Reading Group! We meet weekly (mostly) to read fiction in Yiddish. Group members select the readings which are usually short stories or novellas. Discussion is in English. Anyone who has taken an intermediate or advanced Yiddish class at the Workers’ Circle or has similar proficiency should be able to manage well in the group.  \nIf you would like more information about the group\, including the Zoom link\, email yiddishreadinggroup@circleboston.org
URL:https://circleboston.org/event/yiddish-reading-group-179/
LOCATION:Zoom
CATEGORIES:Yiddish - Ongoing Programming
END:VEVENT
BEGIN:VEVENT
DTSTART;TZID=America/New_York:20260426T103000
DTEND;TZID=America/New_York:20260426T123000
DTSTAMP:20260420T124336
CREATED:20250619T180639Z
LAST-MODIFIED:20260419T234213Z
UID:10003210-1777199400-1777206600@circleboston.org
SUMMARY:Shule Session 20 | Hey parent NYC trip meeting | Zayen Parent Meeting
DESCRIPTION:
URL:https://circleboston.org/event/shule-session-20-hey-parent-nyc-trip-meeting/
CATEGORIES:Shule
END:VEVENT
BEGIN:VEVENT
DTSTART;TZID=America/New_York:20260426T103000
DTEND;TZID=America/New_York:20260426T123000
DTSTAMP:20260420T124336
CREATED:20250915T162043Z
LAST-MODIFIED:20260419T224142Z
UID:10003377-1777199400-1777206600@circleboston.org
SUMMARY:TASC Session 15
DESCRIPTION:Teens Acting for Social Change (TASC) is back! Through our year-long TASC program\, teens ages 13-18 will build community with each other\, grow as social justice organizers and activists\, engage in the broader Boston social justice community\, and deepen their understanding of the connections between being Jewish and acting for social change. \nThis year TASC will meet for 16 sessions between September-May on Sundays in conjunction with Shule. Register here: https://circleboston.tfaforms.net/93
URL:https://circleboston.org/event/tasc-session-15-2/
LOCATION:BWC Building
CATEGORIES:Teens Acting for Social Change
END:VEVENT
BEGIN:VEVENT
DTSTART;TZID=America/New_York:20260426T103000
DTEND;TZID=America/New_York:20260426T123000
DTSTAMP:20260420T124336
CREATED:20260408T201652Z
LAST-MODIFIED:20260419T174143Z
UID:10003821-1777199400-1777206600@circleboston.org
SUMMARY:Aging in Community: The Role of an End-of-Life Doula
DESCRIPTION:The Role of an End-of-Life Doula – AIC Event \nSunday\, April 26th\, 10:30-12:30\, Zoom \nPresenter – Michele Bograd\, Certified Death Doula \n“Having things in place can ease the mind of the person who is dying and is a great gift to those who love and care for them.” \nThe session will include a presentation\, including what services are available well in advance of the end of life\, breakout sessions\, and time for Q&A. \nNote that session time has been extended to 2 hours. \nEmail AIC@circleboston.org for more information\, including the Zoom link.
URL:https://circleboston.org/event/aging-in-community-the-role-of-an-end-of-life-doula/
LOCATION:Zoom
CATEGORIES:Aging in Community
END:VEVENT
BEGIN:VEVENT
DTSTART;TZID=America/New_York:20260426T104500
DTEND;TZID=America/New_York:20260426T121500
DTSTAMP:20260420T124336
CREATED:20260404T184220Z
LAST-MODIFIED:20260419T234213Z
UID:10003808-1777200300-1777205700@circleboston.org
SUMMARY:BWC and Shule Community Safety discussion
DESCRIPTION:Join Shule caregivers to discuss community safety needs at Shule alongside the BWC Safety Team co-chairs Chris Messinger (circle Playtime parent) and Zohar Berman (BWC political and social justice organizer) whose committee has cultivated a posture towards community safety that leads from the community. Come to learn\, brainstorm and explore how we figure out what is takes to engage the world as it is and build the world we want to see.
URL:https://circleboston.org/event/bwc-and-shule-community-safety-discussion/
CATEGORIES:Shule
END:VEVENT
BEGIN:VEVENT
DTSTART;TZID=America/New_York:20260426T113000
DTEND;TZID=America/New_York:20260426T123000
DTSTAMP:20260420T124336
CREATED:20260324T202651Z
LAST-MODIFIED:20260419T234213Z
UID:10003803-1777203000-1777206600@circleboston.org
SUMMARY:Shule Open House
DESCRIPTION:Want to hear more about Shule\, our Jewish Cultural Sunday School for students pre-K – 7th grade? Please join us in Brookline for one of our upcoming Open Houses! Join us on April 12\, April 26\, or May 3 from 11:30 to 12:30pm! Exact location shared after registration. \nThis event will include a brief tour\, curriculum overview\, Q & A’s with staff\, a taste of a music class\, and a chance to connect with current and potential Shule parents. We’ll have bagels and coffee as well as Legos\, coloring supplies\, and books. \nRegister here. \nIf you’d like to register more than four children\, please complete the form again. Feel free to check out our website here (http://circleboston.org/shule) or reach out to Carly directly with any additional questions at youtheducation@circleboston.org before or after the event. \nWe look forward to meeting you and your family!
URL:https://circleboston.org/event/shule-open-house-4/
CATEGORIES:Shule
END:VEVENT
BEGIN:VEVENT
DTSTART;TZID=America/New_York:20260426T140000
DTEND;TZID=America/New_York:20260426T160000
DTSTAMP:20260420T124336
CREATED:20260409T173031Z
LAST-MODIFIED:20260419T182732Z
UID:10003828-1777212000-1777219200@circleboston.org
SUMMARY:FreeHer MA Canvass with Boston Workers Circle
DESCRIPTION:Join an in-person canvass hosted by Boston Workers Circle for The National Council and FJAH’s policy priorities! This canvass will be in the Brookline area\, exact location TBA\, in support of the FreeHer Policy Platform. Let’s talk to our neighbors and build people power! Exact location and all needed details will be provided to you by your canvass captain before the event. \nRegister here.
URL:https://circleboston.org/event/freeher-ma-canvass-with-boston-workers-circle/
CATEGORIES:AFREJ
END:VEVENT
BEGIN:VEVENT
DTSTART;TZID=America/New_York:20260428T190000
DTEND;TZID=America/New_York:20260428T203000
DTSTAMP:20260420T124336
CREATED:20260111T192228Z
LAST-MODIFIED:20260419T191142Z
UID:10003553-1777402800-1777408200@circleboston.org
SUMMARY:Intermediate Yiddish: Virtual
DESCRIPTION:Build confidence in your Yiddish – reading\, speaking\, and listening\, in a supportive and welcoming classroom of intermediate Yiddish students. We’ll focus on building reading fluency\, comprehension strategies\, dictionary skills\, and making meaning from texts while enjoying selections from the canon of Yiddish literature. In this class\, you will find abundant opportunities to stretch and grow your Yiddish. We’ll read slowly\, translate continuously\, and look up every unfamiliar word as we read (in Yiddish) and discuss (in English and Yiddish) literature together. This semester\, we’ll continue reading the memoirs of 19th-century feminist icon Puah Rakovsky\, whose spellbinding tell-all memoir describes her experiences of arranged marriage\, teen motherhood\, rejecting her religious upbringing\, divorcing her parents’ son-in-law\, starting a career\, and becoming one of the world’s first women’s rights activists. \nLearn more and register here.
URL:https://circleboston.org/event/intermediate-yiddish-virtual-18/
LOCATION:Zoom
CATEGORIES:Yiddish - Classes
END:VEVENT
BEGIN:VEVENT
DTSTART;TZID=America/New_York:20260428T190000
DTEND;TZID=America/New_York:20260428T203000
DTSTAMP:20260420T124336
CREATED:20260408T203519Z
LAST-MODIFIED:20260419T185658Z
UID:10003824-1777402800-1777408200@circleboston.org
SUMMARY:Counting the Omer Playwriting Workshops
DESCRIPTION:Who: Writers of all kinds! No playwriting experience necessary. \nWhat:  As we count the days from Pesach to Shavuot\, we invite members of our creative Jewish community to attend a series of low-stakes\, reflective playwriting workshops. Each week\, we will engage with text as a group\, then each write a two-page play based on the corresponding sefirot. These plays can connect to each other\, or each can exist in its own little world — the journey is ours to discover! \nWe hope to share some of these plays with our community on Shavuot – details TBA!  \n When: Tuesday nights\, April 14th – May 19th\, 7-8:30pm \n    Where: Hybrid – Boston Workers Circle (6 Webster Street in Brookline) and Zoom \n    How: Register here. \n    Please bring: Your writing implements of choice\, maybe some yummy snacks (hot tea provided!) \n    With support from Nehar Shalom members and the BWC’s Graggernicks
URL:https://circleboston.org/event/counting-the-omer-playwriting-workshops-3/
LOCATION:Hybrid: BWC Building and Zoom
CATEGORIES:Young Adult Community
END:VEVENT
BEGIN:VEVENT
DTSTART;TZID=America/New_York:20260429T190000
DTEND;TZID=America/New_York:20260429T203000
DTSTAMP:20260420T124336
CREATED:20241007T181806Z
LAST-MODIFIED:20260419T225643Z
UID:10002420-1777489200-1777494600@circleboston.org
SUMMARY:Jewish Muslim Solidarity Committee Meeting
DESCRIPTION:The Jewish Muslim Solidarity Committee (JMS) works to build and strengthen constructive\, mutually supportive relations between Jews and Muslims in Greater Boston. It is especially focused on Muslims’ and Jews’ mutual interest in continuing to learn about and engage with one another\, including on difficult issues\, all the while recognizing our common interest in opposing all manifestations of Islamophobia and antisemitism\, by standing together in the face of any form of ethnic harassment. The JMSC engages in political action\, community education\, and cooperative efforts with Boston area Muslims and Jews to foster its goal of deepening Jewish-Muslim understanding and solidarity. Our work is based on our belief that human rights are universal and human communities and individuals share the same rights and responsibilities toward one another.  To find out more about the meeting and get the zoom link\, please email jms@circleboston.org
URL:https://circleboston.org/event/jewish-muslim-solidarity-committee-meeting-24/
LOCATION:Zoom
CATEGORIES:Jewish Musilim Solidarity Committee
END:VEVENT
BEGIN:VEVENT
DTSTART;TZID=America/New_York:20260429T193000
DTEND;TZID=America/New_York:20260429T210000
DTSTAMP:20260420T124336
CREATED:20260111T192229Z
LAST-MODIFIED:20260419T191142Z
UID:10003555-1777491000-1777496400@circleboston.org
SUMMARY:Beginner Yiddish Semester II: In-Person
DESCRIPTION:Let’s continue to learn Yiddish — lomir vayter geyn mit lernen zikh yidish! This course continues to work through the fundamentals of Yiddish conversation\, reading\, and grammar through highly-interactive games\, songs\, activities\, and short texts. \nLearn more and register here.
URL:https://circleboston.org/event/beginner-yiddish-semester-ii-in-person-9/
LOCATION:BWC Building
CATEGORIES:Yiddish - Classes
END:VEVENT
BEGIN:VEVENT
DTSTART;TZID=America/New_York:20260429T200000
DTEND;TZID=America/New_York:20260429T213000
DTSTAMP:20260420T124336
CREATED:20260203T203803Z
LAST-MODIFIED:20260419T191142Z
UID:10003694-1777492800-1777498200@circleboston.org
SUMMARY:Advanced: Shtok Shraybt Vayter: Virtual
DESCRIPTION:שטָאק שרײַ בט נָאך ווײַ טער   \nֿפראַ דל שטאָ ק )1890-1990( ֿפאַ רּכישוֿפט און ֿפאַ רכאַ ּפט מיט אירע שאַ רֿפע אָ בסערוואַ ציעס און  שעֿפערישער שּפיל מיט ווערטער. די גאַ מע טעמעס\, ס ֿביֿבות און סטיליסטיק וואָ ס זי באַ ניצט\, איז  ֿפולשטענדיק און פאַ רשיידן.   \nשטאָ קס דורכדרינגענדיקע דערציילונגען שּפיגלען אָ ּפ\, מיט הומאָ ר\, איראָ ניע און קריטיק\, די נואַ נסן ֿפון  שטעטל- און אימיגראַ נטן-לעבן. זי ֿפאַ רנעמט זיך מיט מאַ רגינאַ ליזירטע\, ווייניק-רעּפרעזענטירטע  ּפערסאָ נאַ זשן\, וועלכע זי באַ שרײַבט מיט טיֿפקייט\, אויטענטישקייט און מיט אַ לע ּפיטעשעווקעס.  שטאָ קס דערציילונגען ֿפאַ רבלײַבן ֿפריש\, באַ טײַ טיק און שייכדיק\, איבער 100 יאָ ר נאָ ך דעם ווי זיי  זײַנען געשריבן געוואָ רן. אירע לידער זײַנען באַ שמײַסטערט\, באַ שאַ ֿפן מיט ליידנשאַ ֿפט\, ֿפעיִקייט און  ּפרעציזקייט. אירע ליטעראַ רישע עסייען זײַנען באַ לײַכטנדיק.  \nשטאָ קס שאַ ֿפונגען זײַנען גאָ ר עסטעטיש. בײַ ם לייענען שטאָ קס שיינשרײַ בן אינעם אָ ריגינעלן ייִדיש\,  קענען לייענערס זיך באַ לעקן מיט דער מוזיקאַ לישקייט\, און מיט די חושימדיקע קלאַ נגען און קלוגע  ווערטערשּפילן\, וואָ ס זײַנען וויכטיקע שטריכן ֿפון שטאָ קס שעֿפערישקייט. עס איז אַ פאַ רגעניגן  צוזאַ מען צו צעגלידערן שטאָ קס שרײַבן. איר איראָ נישער הומאָ ר\, טיֿפער באַ נעם און אוניקאַ לישע  שרײַבן סטימולירט שטאַ רקע\, הייס-בלוטיקע דיסקוסיעס אין קלאַ ס. \nFradl Shtok (1890-1990) continues to inspire and entice us with her brilliant observations and way with words. Her stories remain fresh and relevant\, a century after they were written. Shtok’s poems are crafted with breathtaking precision and passion and her essays are illuminating. Studying Shtok’s texts in Yiddish enables the reader to savor tthe sensuous sounds\, wordplay and musicality that are present throughout her work. Her ironic humour\, depth of perception and unique writing style will surely engage students in our discussions. \nLearn more and register here.
URL:https://circleboston.org/event/advanced-shtok-shraybt-vayter-virtual-19/
LOCATION:Zoom
CATEGORIES:Yiddish - Classes
END:VEVENT
BEGIN:VEVENT
DTSTART;TZID=America/New_York:20260430T120000
DTEND;TZID=America/New_York:20260430T130000
DTSTAMP:20260420T124336
CREATED:20260420T153010Z
LAST-MODIFIED:20260420T160908Z
UID:10003843-1777550400-1777554000@circleboston.org
SUMMARY:Jews Demand: ICE Out!
DESCRIPTION:On April 30\, Jews around the country will gather to demand ICE OUT\, anchored by a mass action in New York City. We’re doing this because we stand with immigrants and reject ICE brutality and violence. We want ICE out of our schools and workplaces\, out of our parks and streets\, out of our places of worship\, and out of communities everywhere. Grounded in our sacred teachings\, we will make the moral case that this system is both a failure of policy and of conscience\, and that it does not have to be this way. Jews demand: ICE Out!  Local stand-outs are organized by JALSA. Bring signs and wear BWC T-shirts if you can. Contact Judy Somberg\, judy.somberg@gmail.com\, for more information. \nMore information from Bend the Arc here. \nNoon to 1 pm at 315 Harvard St\, Brookline\, and 5:30 to 6:15pm at 696 Centre St. JP
URL:https://circleboston.org/event/jews-demand-ice-out/
LOCATION:315 Harvard St\, Brookline\, MA\, United States
CATEGORIES:Immigrant Justice Committee
GEO:42.343097;-71.123046
END:VEVENT
BEGIN:VEVENT
DTSTART;TZID=America/New_York:20260430T173000
DTEND;TZID=America/New_York:20260430T181500
DTSTAMP:20260420T124336
CREATED:20260420T153010Z
LAST-MODIFIED:20260420T160909Z
UID:10003844-1777570200-1777572900@circleboston.org
SUMMARY:Jews Demand: ICE Out!
DESCRIPTION:On April 30\, Jews around the country will gather to demand ICE OUT\, anchored by a mass action in New York City. We’re doing this because we stand with immigrants and reject ICE brutality and violence. We want ICE out of our schools and workplaces\, out of our parks and streets\, out of our places of worship\, and out of communities everywhere. Grounded in our sacred teachings\, we will make the moral case that this system is both a failure of policy and of conscience\, and that it does not have to be this way. Jews demand: ICE Out! Local stand-outs are organized by JALSA. Bring signs and wear BWC T-shirts if you can. Contact Judy Somberg\, judy.somberg@gmail.com\, for more information. \nMore information from Bend the Arc here. \nNoon to 1 pm at 315 Harvard St\, Brookline\, and 5:30 to 6:15pm at 696 Centre St. JP
URL:https://circleboston.org/event/jews-demand-ice-out-2/
LOCATION:696 Centre St\, Jamaica Plain\, MA\, United States
CATEGORIES:Immigrant Justice Committee
GEO:42.309661;-71.121097
END:VEVENT
END:VCALENDAR