BEGIN:VCALENDAR
VERSION:2.0
PRODID:-//Boston Workers Circle - ECPv6.15.20//NONSGML v1.0//EN
CALSCALE:GREGORIAN
METHOD:PUBLISH
X-ORIGINAL-URL:https://circleboston.org
X-WR-CALDESC:Events for Boston Workers Circle
REFRESH-INTERVAL;VALUE=DURATION:PT1H
X-Robots-Tag:noindex
X-PUBLISHED-TTL:PT1H
BEGIN:VTIMEZONE
TZID:America/New_York
BEGIN:DAYLIGHT
TZOFFSETFROM:-0500
TZOFFSETTO:-0400
TZNAME:EDT
DTSTART:20230312T070000
END:DAYLIGHT
BEGIN:STANDARD
TZOFFSETFROM:-0400
TZOFFSETTO:-0500
TZNAME:EST
DTSTART:20231105T060000
END:STANDARD
BEGIN:DAYLIGHT
TZOFFSETFROM:-0500
TZOFFSETTO:-0400
TZNAME:EDT
DTSTART:20240310T070000
END:DAYLIGHT
BEGIN:STANDARD
TZOFFSETFROM:-0400
TZOFFSETTO:-0500
TZNAME:EST
DTSTART:20241103T060000
END:STANDARD
BEGIN:DAYLIGHT
TZOFFSETFROM:-0500
TZOFFSETTO:-0400
TZNAME:EDT
DTSTART:20250309T070000
END:DAYLIGHT
BEGIN:STANDARD
TZOFFSETFROM:-0400
TZOFFSETTO:-0500
TZNAME:EST
DTSTART:20251102T060000
END:STANDARD
END:VTIMEZONE
BEGIN:VEVENT
DTSTART;TZID=America/New_York:20240801T180000
DTEND;TZID=America/New_York:20240801T190000
DTSTAMP:20260419T170743
CREATED:20240718T144459Z
LAST-MODIFIED:20240801T153211Z
UID:10002167-1722535200-1722538800@circleboston.org
SUMMARY:Membership Phone/Textbank Bank Pt 2! (Zoom)
DESCRIPTION:Join Zoom Meetinghttps://us06web.zoom.us/j/83953423018?pwd=y6CqzHBLLjJS1uX9N1gBI1BlfaaNhw.1 \nMeeting ID: 839 5342 3018Passcode: 577738 \n— \nOne tap mobile+13092053325\,\,83953423018#\,\,\,\,*577738# US+13126266799\,\,83953423018#\,\,\,\,*577738# US (Chicago) \n— \nDial by your location• +1 309 205 3325 US• +1 312 626 6799 US (Chicago)• +1 646 558 8656 US (New York)• +1 646 931 3860 US• +1 301 715 8592 US (Washington DC)• +1 305 224 1968 US• +1 689 278 1000 US• +1 719 359 4580 US• +1 720 707 2699 US (Denver)• +1 253 205 0468 US• +1 253 215 8782 US (Tacoma)• +1 346 248 7799 US (Houston)• +1 360 209 5623 US• +1 386 347 5053 US• +1 507 473 4847 US• +1 564 217 2000 US• +1 669 444 9171 US \nMeeting ID: 839 5342 3018Passcode: 577738 \nFind your local number: https://us06web.zoom.us/u/kbTE5H3Xs7\nJoin with Google Meet: https://meet.google.com/yyc-wqir-dsf\nLearn more about Meet at: https://support.google.com/a/users/answer/9282720
URL:https://circleboston.org/event/membership-phone-bank-pt-2-zoom/
CATEGORIES:General Events
ORGANIZER;CN="milesmeth@gmail.com":MAILTO:milesmeth@gmail.com
END:VEVENT
BEGIN:VEVENT
DTSTART;TZID=America/New_York:20240802T103000
DTEND;TZID=America/New_York:20240802T120000
DTSTAMP:20260419T170743
CREATED:20240202T221608Z
LAST-MODIFIED:20240801T200218Z
UID:10001627-1722594600-1722600000@circleboston.org
SUMMARY:Yiddish Reading Group
DESCRIPTION:Join our Yiddish Reading Group! We meet weekly (mostly) to read fiction in Yiddish. Group members select the readings which are usually short stories or novellas. Discussion is in English. Anyone who has taken an intermediate or advanced Yiddish class at the Workers’ Circle or has similar proficiency should be able to manage well in the group.  \nIf you would like more information about the group\, including the Zoom link\, email yiddishreadinggroup@circleboston.org
URL:https://circleboston.org/event/yiddish-reading-group-137/
LOCATION:Zoom
CATEGORIES:Yiddish - Ongoing Programming
END:VEVENT
BEGIN:VEVENT
DTSTART;TZID=America/New_York:20240807T180000
DTEND;TZID=America/New_York:20240807T193000
DTSTAMP:20260419T170743
CREATED:20240613T211058Z
LAST-MODIFIED:20240807T223311Z
UID:10002060-1723053600-1723059000@circleboston.org
SUMMARY:IPC Study Group
DESCRIPTION:The IPC Study Group is a subcommittee of the Israel/Palestine Committee (IPC) which meets on Zoom the first Wednesday of every month at 6pm to discuss books\, films\, articles\, and/or webinars we’re reading and watching together\, to deepen our understanding of the history and context of Israel/Palestine. \nAll are welcome to join us. You can find what we’re currently studying together here\, as well as information on what we’ve previously read and watched. Learn more about us here. The IPC Study Group communicates between sessions via google email list. Contact ipc@circleboston.org to let us know you’re coming\, for more information\, or to join the email list and help us choose what we’re going to learn about together for future sessions!
URL:https://circleboston.org/event/ipc-study-group-14/
LOCATION:Zoom
CATEGORIES:Israel/Palestine Committee
END:VEVENT
BEGIN:VEVENT
DTSTART;TZID=America/New_York:20240808T190000
DTEND;TZID=America/New_York:20240808T203000
DTSTAMP:20260419T170743
CREATED:20240307T130853Z
LAST-MODIFIED:20240808T153305Z
UID:10001736-1723143600-1723149000@circleboston.org
SUMMARY:CANCELED: Yiddish Vinkl
DESCRIPTION:Somerville Vinkl will be held virtually until it’s safe to meet in person again. This is an opportunity for you to sharpen your Yiddish skills in a comfortable and informal setting\, whatever your level of Yiddish. All are welcome. \nSomerville Vinkl is the second Thursday of every month\, from 7:00-8:30 PM. For questions contact yiddish@circleboston.org. 
URL:https://circleboston.org/event/yiddish-vinkl-19/
LOCATION:Zoom
CATEGORIES:Yiddish - Ongoing Programming
END:VEVENT
BEGIN:VEVENT
DTSTART;TZID=America/New_York:20240809T103000
DTEND;TZID=America/New_York:20240809T120000
DTSTAMP:20260419T170743
CREATED:20240202T221608Z
LAST-MODIFIED:20240809T154815Z
UID:10001628-1723199400-1723204800@circleboston.org
SUMMARY:Yiddish Reading Group
DESCRIPTION:Join our Yiddish Reading Group! We meet weekly (mostly) to read fiction in Yiddish. Group members select the readings which are usually short stories or novellas. Discussion is in English. Anyone who has taken an intermediate or advanced Yiddish class at the Workers’ Circle or has similar proficiency should be able to manage well in the group.  \nIf you would like more information about the group\, including the Zoom link\, email yiddishreadinggroup@circleboston.org
URL:https://circleboston.org/event/yiddish-reading-group-138/
LOCATION:Zoom
CATEGORIES:Yiddish - Ongoing Programming
END:VEVENT
BEGIN:VEVENT
DTSTART;TZID=America/New_York:20240811T110000
DTEND;TZID=America/New_York:20240811T130000
DTSTAMP:20260419T170743
CREATED:20240702T205359Z
LAST-MODIFIED:20240810T191914Z
UID:10002159-1723374000-1723381200@circleboston.org
SUMMARY:פֿאַרברענג:באָסטאָן ″פּאָטלאָק″-בראָנטש (Farbreng:boston "potlok" brontsh)
DESCRIPTION:זונטיק\, דעם 4טן אויגוסט 11:00 אין דער פֿרי.  פֿאַרברענגט מיט אַנדערע ייִדיש־רעדערס אויף אַ ″פּאָטלאָק″־בראָנטש בײַ יונהן און עלקען אין בעלמאָנט. די פּראָגראַם װעט פֿאָרקומען אין גאַנצן אויף ייִדיש. אַלע ייִדיש־רעדערס און סטודענטן װאָס װילן פֿאַרברענגען אין אַ ייִדיש־רעדנדיקער סבֿיבֿה זײַנען האַרציק פֿאַרבעטן \nזײַט אַזוי גוט\, און ברענגט אַ מאכל אויפֿן ″פּאָטלאָק.″ אַלץ מוז זײַן װעגעטאַריש \n יונה און עלקע װוינען אין בעלמאָנט. מיר װעלן שיקן דעם אַדרעס צו די אַלע אָנטײל נעמערס פֿאַרן בראָנטש. דער בראָנטש װעט פֿאָרקומען אין דרויסן טאָמער איז דער װעטער שײן. טאָמער נישט\, װעלן מיר פֿאַרברענגען אינעװײניק. אַז מיר װעלן זײַן אינעװײניק\, מוזן אַלע זײַן װאַקצינירט קעגן קאָװיד. אַז איר האָט סימפּטאָמען\, בעטן מיר\, איר זאָלט נישט קומען \nדי פּראָגראַם איז אַ צוזאַמענאַרבעט פֿונעם באָסטאָנער אַרבעטער־רינג און פֿאַרברענג:באָסטאָן\, אַ יוגנטרוף־פּראָיעקט װאָס שאַפֿט געלעגנהײטן צו רעדן און פֿאַרברענגען אויף ייִדיש פּנים־אל־פּנים אַ גאַנץ קײַלעכדיק יאָר \nZuntik\, dem 4tn oygust\, 11:00 in der fri. Farbrengt mit andere yidish-reders af a “potlok”-brontsh by Yoynen un Elken in Belmont. Di program vet forkumen in gantsn af yidish. Ale yidish-reders un studentn vos viln farbrengen in a yidish-redndiker svive zaynen hartsik farbetn \nZayt azoy gut\, un brengt a maykhl afn “potlok.” Alts muz zayn vegetarish \nYoyne un Elke voynen in Belmont. Mir veln shikn dem adres tsu ale onteyl nemers farn brontsh. Der brontsh vet forkumen in droysn tomer iz der veter sheyn. Tomer nisht\, veln mir farbrengen ineveynik. Az mir veln farbrengen ineveynik\, muzn ale zayn vaktsinirt kegn kovid. Az ir hot simptomen\, betn mir\, ir zolt nisht kumen \nDi program iz a tsuzamenarbet funem bostoner arbeter-ring un farbreng:boston\, a yugntruf-proyekt vos shaft gelegnheytn tsu redn un farbrengen af yidish ponem-al-ponem a gants kaylekhdik yorRegister Here
URL:https://circleboston.org/event/%d7%a4%d6%bf%d7%90%d6%b7%d7%a8%d7%91%d7%a8%d7%a2%d7%a0%d7%92%d7%91%d7%90%d6%b8%d7%a1%d7%98%d7%90%d6%b8%d7%9f-%e2%80%b3%d7%a4%d6%bc%d7%90%d6%b8%d7%98%d7%9c%d7%90%d6%b8%d7%a7%e2%80%b3-%d7%91%d7%a8/
LOCATION:Belmont\, MA – address will be sent to registrants before the event
CATEGORIES:Yiddish - Ongoing Programming
END:VEVENT
BEGIN:VEVENT
DTSTART;TZID=America/New_York:20240814T180000
DTEND;TZID=America/New_York:20240814T183000
DTSTAMP:20260419T170743
CREATED:20240218T184718Z
LAST-MODIFIED:20240811T211007Z
UID:10001685-1723658400-1723660200@circleboston.org
SUMMARY:Immigrant Justice Committee Meeting
DESCRIPTION:Get Involved To get involved or for more information\, join the Immigrant Justice Committee on the second Wednesday of the month on Zoom at 6:00 PM\n\n\n\n\nJoin the Zoom here.
URL:https://circleboston.org/event/immigrant-justice-committee-meeting-9/
LOCATION:Zoom
CATEGORIES:Immigrant Justice Committee
END:VEVENT
BEGIN:VEVENT
DTSTART;TZID=America/New_York:20240816T103000
DTEND;TZID=America/New_York:20240816T120000
DTSTAMP:20260419T170743
CREATED:20240202T221609Z
LAST-MODIFIED:20240811T210712Z
UID:10001629-1723804200-1723809600@circleboston.org
SUMMARY:Yiddish Reading Group
DESCRIPTION:Join our Yiddish Reading Group! We meet weekly (mostly) to read fiction in Yiddish. Group members select the readings which are usually short stories or novellas. Discussion is in English. Anyone who has taken an intermediate or advanced Yiddish class at the Workers’ Circle or has similar proficiency should be able to manage well in the group.  \nIf you would like more information about the group\, including the Zoom link\, email yiddishreadinggroup@circleboston.org
URL:https://circleboston.org/event/yiddish-reading-group-139/
LOCATION:Zoom
CATEGORIES:Yiddish - Ongoing Programming
END:VEVENT
BEGIN:VEVENT
DTSTART;TZID=America/New_York:20240818T160000
DTEND;TZID=America/New_York:20240818T190000
DTSTAMP:20260419T170743
CREATED:20240812T185933Z
LAST-MODIFIED:20240812T185933Z
UID:10002266-1723996800-1724007600@circleboston.org
SUMMARY:Boston Says: Not Another Bomb
DESCRIPTION:We know that in order to achieve a permanent ceasefire in Gaza\, the U.S. must stop arming Israel’s war and occupation against Palestinians. That’s why we are calling for an immediate embargo on US arms to Israel. Join us in calling on Biden and Harris to do the right thing and end this Administration’s disastrous policy of arming Israel’s war and occupation against Palestinians. \nRSVP to our action on Sun 8/18 at 4PM in Boston  \nThe call for a ceasefire and arms embargo is a moral and human imperative\, as well as a necessity as dictated by preexisting American and international law. We are witnessing a humanitarian catastrophe in Gaza\, with a reported >40\,000 Palestinians killed\, including\, a truly staggering amount of children\, and public health and infrastructure destruction that will lead to the indirect death of hundreds of thousands Palestinians.  \nThe time is now to act! Register to join our action on Sun 8/18 at 4PM to support the movement for arms embargo. For Gaza\, for the lives that are stake\, and for freedom for all. 
URL:https://circleboston.org/event/boston-says-not-another-bomb/
LOCATION:TBD – Registrants will receive location details via email.
CATEGORIES:General Events
END:VEVENT
BEGIN:VEVENT
DTSTART;TZID=America/New_York:20240819T191500
DTEND;TZID=America/New_York:20240819T203000
DTSTAMP:20260419T170743
CREATED:20240613T234058Z
LAST-MODIFIED:20240819T172554Z
UID:10002085-1724094900-1724099400@circleboston.org
SUMMARY:Anti-Racism Study Group
DESCRIPTION:The BWC Anti-racism Study Group meets for 90 minutes every month and currently has a schedule of the third Monday of each month at 7:15 \nThe focus is on reading books\, and learning through reading and discussion. The booklist is divided into three\, somewhat overlapping sections: History\, Black Experience and Working on White supremacy\, White privilege\, and ourselves; Reparations\, activism. \nWe would love to have more people joining us! Members attest to the ever deeper and richer understanding of the struggle for racial equity and justice that has come out of being a part of this group.  New insights and understandings come from every book we’ve read. To be added to the email list  and for the meeting Zoom link\, please email antiracismstudygroup@circleboston.org.  \nYou can find the book list here and the schedule here.
URL:https://circleboston.org/event/anti-racism-study-group-6/
LOCATION:Zoom
CATEGORIES:Anti-Racism Study Group
END:VEVENT
BEGIN:VEVENT
DTSTART;TZID=America/New_York:20240823T103000
DTEND;TZID=America/New_York:20240823T120000
DTSTAMP:20260419T170743
CREATED:20240202T221618Z
LAST-MODIFIED:20240819T172820Z
UID:10001631-1724409000-1724414400@circleboston.org
SUMMARY:Yiddish Reading Group
DESCRIPTION:Join our Yiddish Reading Group! We meet weekly (mostly) to read fiction in Yiddish. Group members select the readings which are usually short stories or novellas. Discussion is in English. Anyone who has taken an intermediate or advanced Yiddish class at the Workers’ Circle or has similar proficiency should be able to manage well in the group.  \nIf you would like more information about the group\, including the Zoom link\, email yiddishreadinggroup@circleboston.org
URL:https://circleboston.org/event/yiddish-reading-group-140/
LOCATION:Zoom
CATEGORIES:Yiddish - Ongoing Programming
END:VEVENT
BEGIN:VEVENT
DTSTART;TZID=America/New_York:20240827T173000
DTEND;TZID=America/New_York:20240827T190000
DTSTAMP:20260419T170743
CREATED:20230906T184311Z
LAST-MODIFIED:20240819T172707Z
UID:10000818-1724779800-1724785200@circleboston.org
SUMMARY:CANCELED: Aging Outside the Box
DESCRIPTION:A monthly discussion/support group for folks 60 and over who don’t have children and/or grandchildren\n\n\n\n\nPlease email AIC@circleboston.org to be put in touch with the Aging Outside the Box coordinator.
URL:https://circleboston.org/event/aging-outside-the-box-16/
LOCATION:Zoom
CATEGORIES:Aging in Community
END:VEVENT
BEGIN:VEVENT
DTSTART;TZID=America/New_York:20240828T190000
DTEND;TZID=America/New_York:20240828T203000
DTSTAMP:20260419T170743
CREATED:20240506T122448Z
LAST-MODIFIED:20240828T163135Z
UID:10001829-1724871600-1724877000@circleboston.org
SUMMARY:Jewish Muslim Solidarity Committee Meeting
DESCRIPTION:The Jewish Muslim Solidarity Committee (JMS) works to build and strengthen constructive\, mutually supportive relations between Jews and Muslims in Greater Boston. It is especially focused on Muslims’ and Jews’ mutual interest in continuing to learn about and engage with one another\, including on difficult issues\, all the while recognizing our common interest in opposing all manifestations of Islamophobia and antisemitism\, by standing together in the face of any form of ethnic harassment. The JMSC engages in political action\, community education\, and cooperative efforts with Boston area Muslims and Jews to foster its goal of deepening Jewish-Muslim understanding and solidarity. Our work is based on our belief that human rights are universal and human communities and individuals share the same rights and responsibilities toward one another.  \nTo find out more about the meeting and get the zoom link\, please email jms@circleboston.org
URL:https://circleboston.org/event/jewish-muslim-solidarity-committee-meeting-33/
LOCATION:Zoom
CATEGORIES:Jewish Musilim Solidarity Committee
END:VEVENT
BEGIN:VEVENT
DTSTART;TZID=America/New_York:20240830T103000
DTEND;TZID=America/New_York:20240830T120000
DTSTAMP:20260419T170743
CREATED:20240202T221618Z
LAST-MODIFIED:20240819T172821Z
UID:10001632-1725013800-1725019200@circleboston.org
SUMMARY:Yiddish Reading Group
DESCRIPTION:Join our Yiddish Reading Group! We meet weekly (mostly) to read fiction in Yiddish. Group members select the readings which are usually short stories or novellas. Discussion is in English. Anyone who has taken an intermediate or advanced Yiddish class at the Workers’ Circle or has similar proficiency should be able to manage well in the group.  \nIf you would like more information about the group\, including the Zoom link\, email yiddishreadinggroup@circleboston.org
URL:https://circleboston.org/event/yiddish-reading-group-141/
LOCATION:Zoom
CATEGORIES:Yiddish - Ongoing Programming
END:VEVENT
END:VCALENDAR