BEGIN:VCALENDAR
VERSION:2.0
PRODID:-//Boston Workers Circle - ECPv6.15.20//NONSGML v1.0//EN
CALSCALE:GREGORIAN
METHOD:PUBLISH
X-ORIGINAL-URL:https://circleboston.org
X-WR-CALDESC:Events for Boston Workers Circle
REFRESH-INTERVAL;VALUE=DURATION:PT1H
X-Robots-Tag:noindex
X-PUBLISHED-TTL:PT1H
BEGIN:VTIMEZONE
TZID:America/New_York
BEGIN:DAYLIGHT
TZOFFSETFROM:-0500
TZOFFSETTO:-0400
TZNAME:EDT
DTSTART:20220313T070000
END:DAYLIGHT
BEGIN:STANDARD
TZOFFSETFROM:-0400
TZOFFSETTO:-0500
TZNAME:EST
DTSTART:20221106T060000
END:STANDARD
BEGIN:DAYLIGHT
TZOFFSETFROM:-0500
TZOFFSETTO:-0400
TZNAME:EDT
DTSTART:20230312T070000
END:DAYLIGHT
BEGIN:STANDARD
TZOFFSETFROM:-0400
TZOFFSETTO:-0500
TZNAME:EST
DTSTART:20231105T060000
END:STANDARD
BEGIN:DAYLIGHT
TZOFFSETFROM:-0500
TZOFFSETTO:-0400
TZNAME:EDT
DTSTART:20240310T070000
END:DAYLIGHT
BEGIN:STANDARD
TZOFFSETFROM:-0400
TZOFFSETTO:-0500
TZNAME:EST
DTSTART:20241103T060000
END:STANDARD
END:VTIMEZONE
BEGIN:VEVENT
DTSTART;TZID=America/New_York:20230901T103000
DTEND;TZID=America/New_York:20230901T120000
DTSTAMP:20260420T110149
CREATED:20230106T013903Z
LAST-MODIFIED:20230831T222516Z
UID:10000237-1693564200-1693569600@circleboston.org
SUMMARY:Yiddish Reading Group
DESCRIPTION:Join our Yiddish Reading Group! We meet weekly (mostly) to read fiction in Yiddish. Group members select the readings which are usually short stories or novellas. Discussion is in English. Anyone who has taken an intermediate or advanced Yiddish class at the Workers’ Circle or has similar proficiency should be able to manage well in the group.  \nIf you would like more information about the group\, including the Zoom link\, email yiddishreadinggroup@circleboston.org
URL:https://circleboston.org/event/yiddish-reading-group-46/
LOCATION:Zoom
CATEGORIES:Yiddish - Ongoing Programming
END:VEVENT
BEGIN:VEVENT
DTSTART;TZID=America/New_York:20230904T163000
DTEND;TZID=America/New_York:20230904T200000
DTSTAMP:20260420T110149
CREATED:20230813T220528Z
LAST-MODIFIED:20230904T223902Z
UID:10000733-1693845000-1693857600@circleboston.org
SUMMARY:Yiddish Community Picnic & Campfire
DESCRIPTION:The BWC Yiddish Committee invites Yiddish speakers of all levels\, from Beginning students to fluent speakers\, and their families/friends\, to enjoy an outdoor potluck picnic and campfire in Medford. There will be an optional short walk to the nearby Mystic Lakes. Drop by for a short time or stay for the whole event. There will be plenty of opportunity to chat in both Yiddish and English. \nRegister Here.
URL:https://circleboston.org/event/yiddish-community-picnic-campfire/
LOCATION:Member Backyard – Address Provided in Registration Confirmation
CATEGORIES:Yiddish - Ongoing Programming
END:VEVENT
BEGIN:VEVENT
DTSTART;TZID=America/New_York:20230906T180000
DTEND;TZID=America/New_York:20230906T193000
DTSTAMP:20260420T110149
CREATED:20230106T013427Z
LAST-MODIFIED:20230906T205933Z
UID:10000080-1694023200-1694028600@circleboston.org
SUMMARY:IPC Study Group
DESCRIPTION:The IPC Study Group is a subcommittee of the Israel/Palestine Committee (IPC) which meets on Zoom the first Wednesday of every month at 6pm to discuss books\, films\, articles\, and/or webinars we’re reading and watching together\, to deepen our understanding of the history and context of Israel/Palestine. \nAll are welcome to join us. You can find what we’re currently studying together here\, as well as information on what we’ve previously read and watched. Join us here on Zoom at 6pm The IPC Study Group communicates between sessions via google email list. Contact ipc@circleboston.org to let us know you’re coming\, for more information\, or to join the email list and help us choose what we’re going to learn about together for future sessions!
URL:https://circleboston.org/event/ipc-study-group-11/
LOCATION:Zoom
CATEGORIES:Israel/Palestine Committee
END:VEVENT
BEGIN:VEVENT
DTSTART;TZID=America/New_York:20230907T193000
DTEND;TZID=America/New_York:20230907T210000
DTSTAMP:20260420T110149
CREATED:20230106T013903Z
LAST-MODIFIED:20230907T224000Z
UID:10000238-1694115000-1694120400@circleboston.org
SUMMARY:Di Nest: Yiddish Creative Project Incubator
DESCRIPTION:Di Nest is an incubator for Yiddish-language creative projects! Join us on the first Thursday of the month to share and workshop community members’ artistic works in progress. All forms of creativity in Yiddish (or prominently featuring Yiddish) are welcome: poetry\, prose\, music\, visual arts\, performing arts\, translations into Yiddish\, and more. \nDi Nest is open to Yiddish speakers and students of all levels. Whether you’re just starting to create in Yiddish or have been doing so for years\, you’re welcome to attend! Sessions will be in a mix of Yiddish and English. \nEach session will include time to workshop material of several participants and a chance for everyone to spend time creating. If you have material you would like to workshop\, please email yiddish@circleboston.org. Whether or not you’re bringing material to workshop\, you are welcome to attend and offer feedback to fellow participants. \nRegister Here.
URL:https://circleboston.org/event/di-nest-yiddish-creative-project-incubator-11/
LOCATION:Zoom
CATEGORIES:Yiddish - Ongoing Programming
END:VEVENT
BEGIN:VEVENT
DTSTART;TZID=America/New_York:20230908T103000
DTEND;TZID=America/New_York:20230908T120000
DTSTAMP:20260420T110149
CREATED:20230106T013903Z
LAST-MODIFIED:20230907T224000Z
UID:10000239-1694169000-1694174400@circleboston.org
SUMMARY:Yiddish Reading Group
DESCRIPTION:Join our Yiddish Reading Group! We meet weekly (mostly) to read fiction in Yiddish. Group members select the readings which are usually short stories or novellas. Discussion is in English. Anyone who has taken an intermediate or advanced Yiddish class at the Workers’ Circle or has similar proficiency should be able to manage well in the group.  \nIf you would like more information about the group\, including the Zoom link\, email yiddishreadinggroup@circleboston.org
URL:https://circleboston.org/event/yiddish-reading-group-47/
LOCATION:Zoom
CATEGORIES:Yiddish - Ongoing Programming
END:VEVENT
BEGIN:VEVENT
DTSTART;TZID=America/New_York:20230910T101500
DTEND;TZID=America/New_York:20230910T121500
DTSTAMP:20260420T110149
CREATED:20230629T162938Z
LAST-MODIFIED:20230909T233850Z
UID:10000680-1694340900-1694348100@circleboston.org
SUMMARY:Circle Book Group
DESCRIPTION:This is an open group that welcomes all readers interested in expanding their understanding of the wide variety of Jewish experiences throughout history and across the world. The Zoom information for this meeting will be shared closer to the event via email. To make sure you’re on the Book Group email list\, contact the Circle Book Group committee co-chairs at bookgroup@circleboston.org Click here to learn more\, see our current book of the month\, and view books we’ve read in the past. To make a donation for the Book Group\, visit this page. \nThis month we are reading East West Street by Philippe Sands.  \nAbout the book:A profound\, important book\, a moving personal detective story and an uncovering of secret pasts\, set in Europe’s center\, the city of bright colors—Lviv\, Ukraine\, dividing east from west\, north from south\, in what had been the Austro-Hungarian Empire. \nA book that explores the development of the world-changing legal concepts of “genocide” and “crimes against humanity” that came about as a result of the unprecedented atrocities of Hitler’s Third Reich. \nIt is also a spellbinding family memoir\, as the author traces the mysterious story of his grandfather as he maneuvered through Europe in the face of Nazi atrocities. This is “a monumental achievement …  told with love\, anger and precision” (John le Carré\, acclaimed internationally bestselling author). \nEast West Street looks at the personal and intellectual evolution of the two men who simultaneously originated the ideas of “genocide” and “crimes against humanity\,” both of whom\, not knowing the other\, studied at the same university with the same professors\, in “the Paris of Ukraine\,” a major cultural center of Europe\, a city variously called Lemberg\, Lwów\, Lvov\, or Lviv. (Source: Penguin Random House)
URL:https://circleboston.org/event/circle-book-group-4/
LOCATION:Zoom
CATEGORIES:Circle Book Group
END:VEVENT
BEGIN:VEVENT
DTSTART;TZID=America/New_York:20230910T103000
DTEND;TZID=America/New_York:20230910T123000
DTSTAMP:20260420T110149
CREATED:20230519T172118Z
LAST-MODIFIED:20230910T140905Z
UID:10000465-1694341800-1694349000@circleboston.org
SUMMARY:Shule Session 1 & New Family Orientation
DESCRIPTION:
URL:https://circleboston.org/event/shule-session-1-new-family-orientation/
CATEGORIES:Shule
END:VEVENT
BEGIN:VEVENT
DTSTART;TZID=America/New_York:20230910T103000
DTEND;TZID=America/New_York:20230910T123000
DTSTAMP:20260420T110149
CREATED:20230530T221937Z
LAST-MODIFIED:20230909T183855Z
UID:10000634-1694341800-1694349000@circleboston.org
SUMMARY:AIC Brunch: Welcome to the New Year!
DESCRIPTION:AIC Brunch: Welcome to the New Year will take place in Cambridge\, exact location TBA.   \nMore detailed description coming soon.
URL:https://circleboston.org/event/aic-brunch-welcome-to-the-new-year/
LOCATION:Cambridge\, MA\, USA
CATEGORIES:Aging in Community
END:VEVENT
BEGIN:VEVENT
DTSTART;VALUE=DATE:20230915
DTEND;VALUE=DATE:20230916
DTSTAMP:20260420T110149
CREATED:20230502T141942Z
LAST-MODIFIED:20230915T235354Z
UID:10000460-1694736000-1694822399@circleboston.org
SUMMARY:Rosh Hashanah begins at Sundown
DESCRIPTION:
URL:https://circleboston.org/event/rosh-hashanah-begins-at-sundown/
CATEGORIES:General Events
END:VEVENT
BEGIN:VEVENT
DTSTART;TZID=America/New_York:20230915T103000
DTEND;TZID=America/New_York:20230915T120000
DTSTAMP:20260420T110149
CREATED:20230106T013904Z
LAST-MODIFIED:20230914T225402Z
UID:10000241-1694773800-1694779200@circleboston.org
SUMMARY:Yiddish Reading Group
DESCRIPTION:Join our Yiddish Reading Group! We meet weekly (mostly) to read fiction in Yiddish. Group members select the readings which are usually short stories or novellas. Discussion is in English. Anyone who has taken an intermediate or advanced Yiddish class at the Workers’ Circle or has similar proficiency should be able to manage well in the group.  \nIf you would like more information about the group\, including the Zoom link\, email yiddishreadinggroup@circleboston.org
URL:https://circleboston.org/event/yiddish-reading-group-48/
LOCATION:Zoom
CATEGORIES:Yiddish - Ongoing Programming
END:VEVENT
BEGIN:VEVENT
DTSTART;TZID=America/New_York:20230916T100000
DTEND;TZID=America/New_York:20230916T120000
DTSTAMP:20260420T110149
CREATED:20230502T020440Z
LAST-MODIFIED:20230915T190907Z
UID:10000458-1694858400-1694865600@circleboston.org
SUMMARY:Rosh Hashanah
DESCRIPTION:Please see full details and registration link here.
URL:https://circleboston.org/event/rosh-hashanah/
LOCATION:Eliot Church of Newton UCC\, 474 Centre St\, Newton\, MA 02458\, USA
CATEGORIES:Ritual Committee
END:VEVENT
BEGIN:VEVENT
DTSTART;TZID=America/New_York:20230916T150000
DTEND;TZID=America/New_York:20230916T160000
DTSTAMP:20260420T110149
CREATED:20230808T121134Z
LAST-MODIFIED:20230916T190903Z
UID:10000728-1694876400-1694880000@circleboston.org
SUMMARY:Neighborhood Tashlikh
DESCRIPTION:Everyone welcome\, children & families\, especially! \nTASHLIKH — (You shall cast away) is based on biblical passages – most notably from Micah (7:9) “You will hurl all of our sins into the depths of the sea”. The traditional word for “sin” is “khet”.  A more modern translation goes back to the original meaning of “khet” from archery — “to miss the mark”. \nWe throw pebbles into the water to represent our “sins” and those burdens\, regrets\, disappointments\, old thinking\, missed opportunities\, excuses\, or rationalizations that interfere with our living full lives. At the same time\, we embrace hope to do better and set our intentions on hitting our marks in the coming year. \nWhat to throw? We suggest bringing pebbles to throw because bread\, even challah\, is not good for the ducks and geese. \nDetails will be shared closer to the holiday! \nRegister Here.
URL:https://circleboston.org/event/neighborhood-tashlikh/
LOCATION:Various Locations
CATEGORIES:Ritual Committee
END:VEVENT
BEGIN:VEVENT
DTSTART;TZID=America/New_York:20230922T103000
DTEND;TZID=America/New_York:20230922T120000
DTSTAMP:20260420T110149
CREATED:20230106T013904Z
LAST-MODIFIED:20230922T153854Z
UID:10000242-1695378600-1695384000@circleboston.org
SUMMARY:Yiddish Reading Group
DESCRIPTION:Join our Yiddish Reading Group! We meet weekly (mostly) to read fiction in Yiddish. Group members select the readings which are usually short stories or novellas. Discussion is in English. Anyone who has taken an intermediate or advanced Yiddish class at the Workers’ Circle or has similar proficiency should be able to manage well in the group.  \nIf you would like more information about the group\, including the Zoom link\, email yiddishreadinggroup@circleboston.org
URL:https://circleboston.org/event/yiddish-reading-group-49/
LOCATION:Zoom
CATEGORIES:Yiddish - Ongoing Programming
END:VEVENT
BEGIN:VEVENT
DTSTART;VALUE=DATE:20230924
DTEND;VALUE=DATE:20230925
DTSTAMP:20260420T110149
CREATED:20230502T141942Z
LAST-MODIFIED:20230924T105430Z
UID:10000461-1695513600-1695599999@circleboston.org
SUMMARY:Yom Kippur begins at sundown
DESCRIPTION:
URL:https://circleboston.org/event/yom-kippur-begins-at-sundown/
CATEGORIES:General Events
END:VEVENT
BEGIN:VEVENT
DTSTART;TZID=America/New_York:20230924T103000
DTEND;TZID=America/New_York:20230924T123000
DTSTAMP:20260420T110149
CREATED:20230519T172119Z
LAST-MODIFIED:20230924T145357Z
UID:10000466-1695551400-1695558600@circleboston.org
SUMMARY:Shule Session 2
DESCRIPTION:
URL:https://circleboston.org/event/shule-session-2/
CATEGORIES:Shule
END:VEVENT
BEGIN:VEVENT
DTSTART;TZID=America/New_York:20230924T104500
DTEND;TZID=America/New_York:20230924T121500
DTSTAMP:20260420T110149
CREATED:20230718T161946Z
LAST-MODIFIED:20230718T161946Z
UID:10000699-1695552300-1695557700@circleboston.org
SUMMARY:Circle Playtime
DESCRIPTION:Circle Playtime is a free playgroup for families with children ages 2-5 years old. Each session includes fun age-appropriate activities\, filled with music-making and storytelling related to a Jewish or social justice holiday. It is followed by open play at the nearby playground. \nRSVP HERE.
URL:https://circleboston.org/event/circle-playtime-7/
CATEGORIES:Shule
END:VEVENT
BEGIN:VEVENT
DTSTART;TZID=America/New_York:20230925T100000
DTEND;TZID=America/New_York:20230925T120000
DTSTAMP:20260420T110149
CREATED:20230502T020440Z
LAST-MODIFIED:20230924T192411Z
UID:10000459-1695636000-1695643200@circleboston.org
SUMMARY:Yom Kippur
DESCRIPTION:Please see full details and registration link here.
URL:https://circleboston.org/event/yom-kippur/
LOCATION:Eliot Church of Newton UCC\, 474 Centre St\, Newton\, MA 02458\, USA
CATEGORIES:Ritual Committee
END:VEVENT
BEGIN:VEVENT
DTSTART;TZID=America/New_York:20230926T173000
DTEND;TZID=America/New_York:20230926T190000
DTSTAMP:20260420T110149
CREATED:20230906T183509Z
LAST-MODIFIED:20230926T193856Z
UID:10000803-1695749400-1695754800@circleboston.org
SUMMARY:Aging Outside the Box
DESCRIPTION:A monthly discussion/support group for folks 60 and over who don’t have children and/or grandchildren\n\n\n\n\nPlease email AIC@circleboston.org to be put in touch with the Aging Outside the Box coordinator.
URL:https://circleboston.org/event/aging-outside-the-box/
LOCATION:Zoom
CATEGORIES:Aging in Community
END:VEVENT
BEGIN:VEVENT
DTSTART;TZID=America/New_York:20230927T183000
DTEND;TZID=America/New_York:20230927T203000
DTSTAMP:20260420T110149
CREATED:20230625T173932Z
LAST-MODIFIED:20230927T182818Z
UID:10000677-1695839400-1695846600@circleboston.org
SUMMARY:AFREJ Fall Gathering with the Jewish Alliance for Law and Social Action (JALSA)
DESCRIPTION:Join us as we begin our new year with an in-person gathering at BWC. Following a discussion of AFREJ commitments and coalitions\, we will host a (hybrid) program from 7-8pm with Andrew Steinberg from JALSA\, the Jewish Alliance for Law and Social Action. We will learn about the bills that JALSA supports in the Massachusetts State Legislature to achieve economic justice\, combat climate change\, address the housing crisis\, and advance solutions for other pressing issues.  \nThe program also includes a virtual action for folks to contact their legislators about these policy priorities. Whether new to AFREJ or an AFREJ veteran\, we welcome you!  \nAndrew Steinberg is an organizer for the Jewish Alliance for Law and Social Action (JALSA). As a grassroots\, nonprofit\, advocacy organization\, JALSA puts Jewish values into action by engaging the Jewish community and other allies in the pursuit of social\, economic\, environmental\, and racial justice. \nRegister here.
URL:https://circleboston.org/event/afrej-gathering-and-presentation-from-jewish-alliance-for-law-and-social-action-jalsa/
LOCATION:HYBRID – Boston Workers Circle: Center for Jewish Culture & Social Justice\, 6 Webster St\, Brookline\, MA 02446\, USA
CATEGORIES:AFREJ
END:VEVENT
BEGIN:VEVENT
DTSTART;TZID=America/New_York:20230928T183000
DTEND;TZID=America/New_York:20230928T203000
DTSTAMP:20260420T110149
CREATED:20230906T205933Z
LAST-MODIFIED:20230928T184327Z
UID:10000831-1695925800-1695933000@circleboston.org
SUMMARY:Book Talk with Linda Dittmar
DESCRIPTION:BWC is excited to co-present a book event with IfNotNow\, Jewish Voice for Peace\, and the Alliance for Water Justice in Palestine. Please join us in person or on zoom and invite your friends to hear and engage with Linda Dittmar as she shares her powerful story of the early years of Israel’s statehood and the Palestinian Nakba. \nIsraeli-American writer and academic Linda Dittmar is the author of Tracing Homelands; Israel\, Palestine\, and the Claims of Belonging. Part history\, part travelogue\, and part memoir\, it is a braided account of Israel’s early years of statehood and the Palestinian Nakba—the “catastrophe” of mass expulsion—remembered as an Israeli child growing into young adulthood and as an adult\, now living in the U.S.\, who comes to see that history with new eyes. A recipient of an Artist Fellowship from the Massachusetts Cultural Council\, Linda’s writings have appeared in The Massachusetts Review\, Jewish Currents\, Harvard’s Divinity School’s Bulletin\, Consequence\, and Nowhere magazine. \nMasks and rapid tests are recommended for in person attendance\, and registration is required whether attendance is in person or via Zoom.Register Here.
URL:https://circleboston.org/event/book-talk-with-linda-dittmar/
LOCATION:HYBRID – Friends Meeting At Cambridge\, 5 Longfellow Park\, Cambridge\, MA 02138\, USA
CATEGORIES:Israel/Palestine Committee
END:VEVENT
BEGIN:VEVENT
DTSTART;TZID=America/New_York:20230928T190000
DTEND;TZID=America/New_York:20230928T203000
DTSTAMP:20260420T110149
CREATED:20230106T013904Z
LAST-MODIFIED:20230928T155844Z
UID:10000243-1695927600-1695933000@circleboston.org
SUMMARY:Yiddish Sing
DESCRIPTION:Drop in for this free informal monthly gathering to sing Yiddish songs! All are welcome\, regardless of singing ability or knowledge of Yiddish. \nVirtual Yiddish Sing –  The song booklet will be provided to registrants day of the event.  Participants can request songs from the booklet and listen and sing along with their mics muted. \nREGISTRATION REQUIRED. Please register here before the event.
URL:https://circleboston.org/event/yiddish-sing-11/
LOCATION:Zoom
CATEGORIES:Yiddish - Ongoing Programming
END:VEVENT
BEGIN:VEVENT
DTSTART;TZID=America/New_York:20230929T103000
DTEND;TZID=America/New_York:20230929T120000
DTSTAMP:20260420T110149
CREATED:20230106T013904Z
LAST-MODIFIED:20230929T155818Z
UID:10000244-1695983400-1695988800@circleboston.org
SUMMARY:Yiddish Reading Group
DESCRIPTION:Join our Yiddish Reading Group! We meet weekly (mostly) to read fiction in Yiddish. Group members select the readings which are usually short stories or novellas. Discussion is in English. Anyone who has taken an intermediate or advanced Yiddish class at the Workers’ Circle or has similar proficiency should be able to manage well in the group.  \nIf you would like more information about the group\, including the Zoom link\, email yiddishreadinggroup@circleboston.org
URL:https://circleboston.org/event/yiddish-reading-group-50/
LOCATION:Zoom
CATEGORIES:Yiddish - Ongoing Programming
END:VEVENT
END:VCALENDAR