BEGIN:VCALENDAR
VERSION:2.0
PRODID:-//Boston Workers Circle - ECPv6.15.20//NONSGML v1.0//EN
CALSCALE:GREGORIAN
METHOD:PUBLISH
X-ORIGINAL-URL:https://circleboston.org
X-WR-CALDESC:Events for Boston Workers Circle
REFRESH-INTERVAL;VALUE=DURATION:PT1H
X-Robots-Tag:noindex
X-PUBLISHED-TTL:PT1H
BEGIN:VTIMEZONE
TZID:America/New_York
BEGIN:DAYLIGHT
TZOFFSETFROM:-0500
TZOFFSETTO:-0400
TZNAME:EDT
DTSTART:20250309T070000
END:DAYLIGHT
BEGIN:STANDARD
TZOFFSETFROM:-0400
TZOFFSETTO:-0500
TZNAME:EST
DTSTART:20251102T060000
END:STANDARD
BEGIN:DAYLIGHT
TZOFFSETFROM:-0500
TZOFFSETTO:-0400
TZNAME:EDT
DTSTART:20260308T070000
END:DAYLIGHT
BEGIN:STANDARD
TZOFFSETFROM:-0400
TZOFFSETTO:-0500
TZNAME:EST
DTSTART:20261101T060000
END:STANDARD
BEGIN:DAYLIGHT
TZOFFSETFROM:-0500
TZOFFSETTO:-0400
TZNAME:EDT
DTSTART:20270314T070000
END:DAYLIGHT
BEGIN:STANDARD
TZOFFSETFROM:-0400
TZOFFSETTO:-0500
TZNAME:EST
DTSTART:20271107T060000
END:STANDARD
END:VTIMEZONE
BEGIN:VEVENT
DTSTART;TZID=America/New_York:20260428T190000
DTEND;TZID=America/New_York:20260428T203000
DTSTAMP:20260422T233001
CREATED:20260111T192228Z
LAST-MODIFIED:20260422T191140Z
UID:10003553-1777402800-1777408200@circleboston.org
SUMMARY:Intermediate Yiddish: Virtual
DESCRIPTION:Build confidence in your Yiddish – reading\, speaking\, and listening\, in a supportive and welcoming classroom of intermediate Yiddish students. We’ll focus on building reading fluency\, comprehension strategies\, dictionary skills\, and making meaning from texts while enjoying selections from the canon of Yiddish literature. In this class\, you will find abundant opportunities to stretch and grow your Yiddish. We’ll read slowly\, translate continuously\, and look up every unfamiliar word as we read (in Yiddish) and discuss (in English and Yiddish) literature together. This semester\, we’ll continue reading the memoirs of 19th-century feminist icon Puah Rakovsky\, whose spellbinding tell-all memoir describes her experiences of arranged marriage\, teen motherhood\, rejecting her religious upbringing\, divorcing her parents’ son-in-law\, starting a career\, and becoming one of the world’s first women’s rights activists. \nLearn more and register here.
URL:https://circleboston.org/event/intermediate-yiddish-virtual-18/
LOCATION:Zoom
CATEGORIES:Yiddish - Classes
END:VEVENT
BEGIN:VEVENT
DTSTART;TZID=America/New_York:20260429T193000
DTEND;TZID=America/New_York:20260429T210000
DTSTAMP:20260422T233001
CREATED:20260111T192229Z
LAST-MODIFIED:20260422T191140Z
UID:10003555-1777491000-1777496400@circleboston.org
SUMMARY:Beginner Yiddish Semester II: In-Person
DESCRIPTION:Let’s continue to learn Yiddish — lomir vayter geyn mit lernen zikh yidish! This course continues to work through the fundamentals of Yiddish conversation\, reading\, and grammar through highly-interactive games\, songs\, activities\, and short texts. \nLearn more and register here.
URL:https://circleboston.org/event/beginner-yiddish-semester-ii-in-person-9/
LOCATION:BWC Building
CATEGORIES:Yiddish - Classes
END:VEVENT
BEGIN:VEVENT
DTSTART;TZID=America/New_York:20260429T200000
DTEND;TZID=America/New_York:20260429T213000
DTSTAMP:20260422T233001
CREATED:20260203T203803Z
LAST-MODIFIED:20260422T191140Z
UID:10003694-1777492800-1777498200@circleboston.org
SUMMARY:Advanced: Shtok Shraybt Vayter: Virtual
DESCRIPTION:שטָאק שרײַ בט נָאך ווײַ טער   \nֿפראַ דל שטאָ ק )1890-1990( ֿפאַ רּכישוֿפט און ֿפאַ רכאַ ּפט מיט אירע שאַ רֿפע אָ בסערוואַ ציעס און  שעֿפערישער שּפיל מיט ווערטער. די גאַ מע טעמעס\, ס ֿביֿבות און סטיליסטיק וואָ ס זי באַ ניצט\, איז  ֿפולשטענדיק און פאַ רשיידן.   \nשטאָ קס דורכדרינגענדיקע דערציילונגען שּפיגלען אָ ּפ\, מיט הומאָ ר\, איראָ ניע און קריטיק\, די נואַ נסן ֿפון  שטעטל- און אימיגראַ נטן-לעבן. זי ֿפאַ רנעמט זיך מיט מאַ רגינאַ ליזירטע\, ווייניק-רעּפרעזענטירטע  ּפערסאָ נאַ זשן\, וועלכע זי באַ שרײַבט מיט טיֿפקייט\, אויטענטישקייט און מיט אַ לע ּפיטעשעווקעס.  שטאָ קס דערציילונגען ֿפאַ רבלײַבן ֿפריש\, באַ טײַ טיק און שייכדיק\, איבער 100 יאָ ר נאָ ך דעם ווי זיי  זײַנען געשריבן געוואָ רן. אירע לידער זײַנען באַ שמײַסטערט\, באַ שאַ ֿפן מיט ליידנשאַ ֿפט\, ֿפעיִקייט און  ּפרעציזקייט. אירע ליטעראַ רישע עסייען זײַנען באַ לײַכטנדיק.  \nשטאָ קס שאַ ֿפונגען זײַנען גאָ ר עסטעטיש. בײַ ם לייענען שטאָ קס שיינשרײַ בן אינעם אָ ריגינעלן ייִדיש\,  קענען לייענערס זיך באַ לעקן מיט דער מוזיקאַ לישקייט\, און מיט די חושימדיקע קלאַ נגען און קלוגע  ווערטערשּפילן\, וואָ ס זײַנען וויכטיקע שטריכן ֿפון שטאָ קס שעֿפערישקייט. עס איז אַ פאַ רגעניגן  צוזאַ מען צו צעגלידערן שטאָ קס שרײַבן. איר איראָ נישער הומאָ ר\, טיֿפער באַ נעם און אוניקאַ לישע  שרײַבן סטימולירט שטאַ רקע\, הייס-בלוטיקע דיסקוסיעס אין קלאַ ס. \nFradl Shtok (1890-1990) continues to inspire and entice us with her brilliant observations and way with words. Her stories remain fresh and relevant\, a century after they were written. Shtok’s poems are crafted with breathtaking precision and passion and her essays are illuminating. Studying Shtok’s texts in Yiddish enables the reader to savor tthe sensuous sounds\, wordplay and musicality that are present throughout her work. Her ironic humour\, depth of perception and unique writing style will surely engage students in our discussions. \nLearn more and register here.
URL:https://circleboston.org/event/advanced-shtok-shraybt-vayter-virtual-19/
LOCATION:Zoom
CATEGORIES:Yiddish - Classes
END:VEVENT
BEGIN:VEVENT
DTSTART;TZID=America/New_York:20260506T193000
DTEND;TZID=America/New_York:20260506T210000
DTSTAMP:20260422T233001
CREATED:20260111T192229Z
LAST-MODIFIED:20260422T191141Z
UID:10003557-1778095800-1778101200@circleboston.org
SUMMARY:Beginner Yiddish Semester II: In-Person
DESCRIPTION:Let’s continue to learn Yiddish — lomir vayter geyn mit lernen zikh yidish! This course continues to work through the fundamentals of Yiddish conversation\, reading\, and grammar through highly-interactive games\, songs\, activities\, and short texts. \nLearn more and register here.
URL:https://circleboston.org/event/beginner-yiddish-semester-ii-in-person-10/
LOCATION:BWC Building
CATEGORIES:Yiddish - Classes
END:VEVENT
BEGIN:VEVENT
DTSTART;TZID=America/New_York:20260506T200000
DTEND;TZID=America/New_York:20260506T213000
DTSTAMP:20260422T233001
CREATED:20260203T203804Z
LAST-MODIFIED:20260422T191141Z
UID:10003695-1778097600-1778103000@circleboston.org
SUMMARY:Advanced: Shtok Shraybt Vayter: Virtual
DESCRIPTION:שטָאק שרײַ בט נָאך ווײַ טער   \nֿפראַ דל שטאָ ק )1890-1990( ֿפאַ רּכישוֿפט און ֿפאַ רכאַ ּפט מיט אירע שאַ רֿפע אָ בסערוואַ ציעס און  שעֿפערישער שּפיל מיט ווערטער. די גאַ מע טעמעס\, ס ֿביֿבות און סטיליסטיק וואָ ס זי באַ ניצט\, איז  ֿפולשטענדיק און פאַ רשיידן.   \nשטאָ קס דורכדרינגענדיקע דערציילונגען שּפיגלען אָ ּפ\, מיט הומאָ ר\, איראָ ניע און קריטיק\, די נואַ נסן ֿפון  שטעטל- און אימיגראַ נטן-לעבן. זי ֿפאַ רנעמט זיך מיט מאַ רגינאַ ליזירטע\, ווייניק-רעּפרעזענטירטע  ּפערסאָ נאַ זשן\, וועלכע זי באַ שרײַבט מיט טיֿפקייט\, אויטענטישקייט און מיט אַ לע ּפיטעשעווקעס.  שטאָ קס דערציילונגען ֿפאַ רבלײַבן ֿפריש\, באַ טײַ טיק און שייכדיק\, איבער 100 יאָ ר נאָ ך דעם ווי זיי  זײַנען געשריבן געוואָ רן. אירע לידער זײַנען באַ שמײַסטערט\, באַ שאַ ֿפן מיט ליידנשאַ ֿפט\, ֿפעיִקייט און  ּפרעציזקייט. אירע ליטעראַ רישע עסייען זײַנען באַ לײַכטנדיק.  \nשטאָ קס שאַ ֿפונגען זײַנען גאָ ר עסטעטיש. בײַ ם לייענען שטאָ קס שיינשרײַ בן אינעם אָ ריגינעלן ייִדיש\,  קענען לייענערס זיך באַ לעקן מיט דער מוזיקאַ לישקייט\, און מיט די חושימדיקע קלאַ נגען און קלוגע  ווערטערשּפילן\, וואָ ס זײַנען וויכטיקע שטריכן ֿפון שטאָ קס שעֿפערישקייט. עס איז אַ פאַ רגעניגן  צוזאַ מען צו צעגלידערן שטאָ קס שרײַבן. איר איראָ נישער הומאָ ר\, טיֿפער באַ נעם און אוניקאַ לישע  שרײַבן סטימולירט שטאַ רקע\, הייס-בלוטיקע דיסקוסיעס אין קלאַ ס. \nFradl Shtok (1890-1990) continues to inspire and entice us with her brilliant observations and way with words. Her stories remain fresh and relevant\, a century after they were written. Shtok’s poems are crafted with breathtaking precision and passion and her essays are illuminating. Studying Shtok’s texts in Yiddish enables the reader to savor tthe sensuous sounds\, wordplay and musicality that are present throughout her work. Her ironic humour\, depth of perception and unique writing style will surely engage students in our discussions. \nLearn more and register here.
URL:https://circleboston.org/event/advanced-shtok-shraybt-vayter-virtual-20/
LOCATION:Zoom
CATEGORIES:Yiddish - Classes
END:VEVENT
BEGIN:VEVENT
DTSTART;TZID=America/New_York:20260511T193000
DTEND;TZID=America/New_York:20260511T204500
DTSTAMP:20260422T233001
CREATED:20260413T155248Z
LAST-MODIFIED:20260422T191141Z
UID:10003832-1778527800-1778532300@circleboston.org
SUMMARY:Taste of Yiddish: Yiddish Songs Against Kings
DESCRIPTION:Taste of Yiddish: Yiddish Songs Against KingsInstructor: Adah Hetko \nMondays\, May 11\, 18\, 25\, and June 1\, 20267:30 – 8:45 PM\, in-person at the BWC Building (6 Webster Street\, Brookline) \nLearn a selection of Yiddish songs that expose and resist kings from Pharaoh to today. We’ll do warm-ups\, read and discuss song texts\, listen to and discuss recordings\, and learn songs by ear. No experience with Yiddish or singing required. Lyrics will be provided in Yiddish\, transliteration\, and translation. Learn more here.  \nRegister here.
URL:https://circleboston.org/event/a-taste-of-yiddish-yiddish-songs-against-kings/
LOCATION:BWC Building
CATEGORIES:Yiddish - Classes
END:VEVENT
BEGIN:VEVENT
DTSTART;TZID=America/New_York:20260518T193000
DTEND;TZID=America/New_York:20260518T204500
DTSTAMP:20260422T233001
CREATED:20260413T155248Z
LAST-MODIFIED:20260422T191141Z
UID:10003833-1779132600-1779137100@circleboston.org
SUMMARY:Taste of Yiddish: Yiddish Songs Against Kings
DESCRIPTION:Taste of Yiddish: Yiddish Songs Against KingsInstructor: Adah Hetko \nMondays\, May 11\, 18\, 25\, and June 1\, 20267:30 – 8:45 PM\, in-person at the BWC Building (6 Webster Street\, Brookline) \nLearn a selection of Yiddish songs that expose and resist kings from Pharaoh to today. We’ll do warm-ups\, read and discuss song texts\, listen to and discuss recordings\, and learn songs by ear. No experience with Yiddish or singing required. Lyrics will be provided in Yiddish\, transliteration\, and translation. Learn more here.  \nRegister here.
URL:https://circleboston.org/event/a-taste-of-yiddish-yiddish-songs-against-kings-2/
LOCATION:BWC Building
CATEGORIES:Yiddish - Classes
END:VEVENT
BEGIN:VEVENT
DTSTART;TZID=America/New_York:20260525T193000
DTEND;TZID=America/New_York:20260525T204500
DTSTAMP:20260422T233001
CREATED:20260413T155248Z
LAST-MODIFIED:20260422T191141Z
UID:10003834-1779737400-1779741900@circleboston.org
SUMMARY:Taste of Yiddish: Yiddish Songs Against Kings
DESCRIPTION:Taste of Yiddish: Yiddish Songs Against KingsInstructor: Adah Hetko \nMondays\, May 11\, 18\, 25\, and June 1\, 20267:30 – 8:45 PM\, in-person at the BWC Building (6 Webster Street\, Brookline) \nLearn a selection of Yiddish songs that expose and resist kings from Pharaoh to today. We’ll do warm-ups\, read and discuss song texts\, listen to and discuss recordings\, and learn songs by ear. No experience with Yiddish or singing required. Lyrics will be provided in Yiddish\, transliteration\, and translation. Learn more here.  \nRegister here.
URL:https://circleboston.org/event/a-taste-of-yiddish-yiddish-songs-against-kings-3/
LOCATION:BWC Building
CATEGORIES:Yiddish - Classes
END:VEVENT
BEGIN:VEVENT
DTSTART;TZID=America/New_York:20260601T193000
DTEND;TZID=America/New_York:20260601T204500
DTSTAMP:20260422T233001
CREATED:20260413T155249Z
LAST-MODIFIED:20260422T191141Z
UID:10003835-1780342200-1780346700@circleboston.org
SUMMARY:Taste of Yiddish: Yiddish Songs Against Kings
DESCRIPTION:Taste of Yiddish: Yiddish Songs Against KingsInstructor: Adah Hetko \nMondays\, May 11\, 18\, 25\, and June 1\, 20267:30 – 8:45 PM\, in-person at the BWC Building (6 Webster Street\, Brookline) \nLearn a selection of Yiddish songs that expose and resist kings from Pharaoh to today. We’ll do warm-ups\, read and discuss song texts\, listen to and discuss recordings\, and learn songs by ear. No experience with Yiddish or singing required. Lyrics will be provided in Yiddish\, transliteration\, and translation. Learn more here.  \nRegister here.
URL:https://circleboston.org/event/a-taste-of-yiddish-yiddish-songs-against-kings-4/
LOCATION:BWC Building
CATEGORIES:Yiddish - Classes
END:VEVENT
END:VCALENDAR