BEGIN:VCALENDAR
VERSION:2.0
PRODID:-//Boston Workers Circle - ECPv6.15.20//NONSGML v1.0//EN
CALSCALE:GREGORIAN
METHOD:PUBLISH
X-ORIGINAL-URL:https://circleboston.org
X-WR-CALDESC:Events for Boston Workers Circle
REFRESH-INTERVAL;VALUE=DURATION:PT1H
X-Robots-Tag:noindex
X-PUBLISHED-TTL:PT1H
BEGIN:VTIMEZONE
TZID:America/New_York
BEGIN:DAYLIGHT
TZOFFSETFROM:-0500
TZOFFSETTO:-0400
TZNAME:EDT
DTSTART:20250309T070000
END:DAYLIGHT
BEGIN:STANDARD
TZOFFSETFROM:-0400
TZOFFSETTO:-0500
TZNAME:EST
DTSTART:20251102T060000
END:STANDARD
BEGIN:DAYLIGHT
TZOFFSETFROM:-0500
TZOFFSETTO:-0400
TZNAME:EDT
DTSTART:20260308T070000
END:DAYLIGHT
BEGIN:STANDARD
TZOFFSETFROM:-0400
TZOFFSETTO:-0500
TZNAME:EST
DTSTART:20261101T060000
END:STANDARD
BEGIN:DAYLIGHT
TZOFFSETFROM:-0500
TZOFFSETTO:-0400
TZNAME:EDT
DTSTART:20270314T070000
END:DAYLIGHT
BEGIN:STANDARD
TZOFFSETFROM:-0400
TZOFFSETTO:-0500
TZNAME:EST
DTSTART:20271107T060000
END:STANDARD
END:VTIMEZONE
BEGIN:VEVENT
DTSTART;TZID=America/New_York:20260318T193000
DTEND;TZID=America/New_York:20260318T210000
DTSTAMP:20260422T164957
CREATED:20260111T192223Z
LAST-MODIFIED:20260318T205653Z
UID:10003539-1773862200-1773867600@circleboston.org
SUMMARY:Beginner Yiddish Semester II: In-Person
DESCRIPTION:Let’s continue to learn Yiddish — lomir vayter geyn mit lernen zikh yidish! This course continues to work through the fundamentals of Yiddish conversation\, reading\, and grammar through highly-interactive games\, songs\, activities\, and short texts. \nLearn more and register here.
URL:https://circleboston.org/event/beginner-yiddish-semester-ii-in-person-5/
LOCATION:BWC Building
CATEGORIES:Yiddish - Classes
END:VEVENT
BEGIN:VEVENT
DTSTART;TZID=America/New_York:20260318T200000
DTEND;TZID=America/New_York:20260318T213000
DTSTAMP:20260422T164957
CREATED:20260111T214149Z
LAST-MODIFIED:20260318T205653Z
UID:10003617-1773864000-1773869400@circleboston.org
SUMMARY:Advanced: Shtok Shraybt Vayter: Virtual
DESCRIPTION:שטָאק שרײַ בט נָאך ווײַ טער   \nֿפראַ דל שטאָ ק )1890-1990( ֿפאַ רּכישוֿפט און ֿפאַ רכאַ ּפט מיט אירע שאַ רֿפע אָ בסערוואַ ציעס און  שעֿפערישער שּפיל מיט ווערטער. די גאַ מע טעמעס\, ס ֿביֿבות און סטיליסטיק וואָ ס זי באַ ניצט\, איז  ֿפולשטענדיק און פאַ רשיידן.   \nשטאָ קס דורכדרינגענדיקע דערציילונגען שּפיגלען אָ ּפ\, מיט הומאָ ר\, איראָ ניע און קריטיק\, די נואַ נסן ֿפון  שטעטל- און אימיגראַ נטן-לעבן. זי ֿפאַ רנעמט זיך מיט מאַ רגינאַ ליזירטע\, ווייניק-רעּפרעזענטירטע  ּפערסאָ נאַ זשן\, וועלכע זי באַ שרײַבט מיט טיֿפקייט\, אויטענטישקייט און מיט אַ לע ּפיטעשעווקעס.  שטאָ קס דערציילונגען ֿפאַ רבלײַבן ֿפריש\, באַ טײַ טיק און שייכדיק\, איבער 100 יאָ ר נאָ ך דעם ווי זיי  זײַנען געשריבן געוואָ רן. אירע לידער זײַנען באַ שמײַסטערט\, באַ שאַ ֿפן מיט ליידנשאַ ֿפט\, ֿפעיִקייט און  ּפרעציזקייט. אירע ליטעראַ רישע עסייען זײַנען באַ לײַכטנדיק.  \nשטאָ קס שאַ ֿפונגען זײַנען גאָ ר עסטעטיש. בײַ ם לייענען שטאָ קס שיינשרײַ בן אינעם אָ ריגינעלן ייִדיש\,  קענען לייענערס זיך באַ לעקן מיט דער מוזיקאַ לישקייט\, און מיט די חושימדיקע קלאַ נגען און קלוגע  ווערטערשּפילן\, וואָ ס זײַנען וויכטיקע שטריכן ֿפון שטאָ קס שעֿפערישקייט. עס איז אַ פאַ רגעניגן  צוזאַ מען צו צעגלידערן שטאָ קס שרײַבן. איר איראָ נישער הומאָ ר\, טיֿפער באַ נעם און אוניקאַ לישע  שרײַבן סטימולירט שטאַ רקע\, הייס-בלוטיקע דיסקוסיעס אין קלאַ ס. \nFradl Shtok (1890-1990) continues to inspire and entice us with her brilliant observations and way with words. Her stories remain fresh and relevant\, a century after they were written. Shtok’s poems are crafted with breathtaking precision and passion and her essays are illuminating. Studying Shtok’s texts in Yiddish enables the reader to savor tthe sensuous sounds\, wordplay and musicality that are present throughout her work. Her ironic humour\, depth of perception and unique writing style will surely engage students in our discussions. \nLearn more and register here.
URL:https://circleboston.org/event/advanced-shtok-shraybt-vayter-virtual-14/
LOCATION:Zoom
CATEGORIES:Yiddish - Classes,Yiddish - Special Events
END:VEVENT
END:VCALENDAR