BEGIN:VCALENDAR
VERSION:2.0
PRODID:-//Boston Workers Circle - ECPv6.15.20//NONSGML v1.0//EN
CALSCALE:GREGORIAN
METHOD:PUBLISH
X-WR-CALNAME:Boston Workers Circle
X-ORIGINAL-URL:https://circleboston.org
X-WR-CALDESC:Events for Boston Workers Circle
REFRESH-INTERVAL;VALUE=DURATION:PT1H
X-Robots-Tag:noindex
X-PUBLISHED-TTL:PT1H
BEGIN:VTIMEZONE
TZID:America/New_York
BEGIN:DAYLIGHT
TZOFFSETFROM:-0500
TZOFFSETTO:-0400
TZNAME:EDT
DTSTART:20250309T070000
END:DAYLIGHT
BEGIN:STANDARD
TZOFFSETFROM:-0400
TZOFFSETTO:-0500
TZNAME:EST
DTSTART:20251102T060000
END:STANDARD
BEGIN:DAYLIGHT
TZOFFSETFROM:-0500
TZOFFSETTO:-0400
TZNAME:EDT
DTSTART:20260308T070000
END:DAYLIGHT
BEGIN:STANDARD
TZOFFSETFROM:-0400
TZOFFSETTO:-0500
TZNAME:EST
DTSTART:20261101T060000
END:STANDARD
BEGIN:DAYLIGHT
TZOFFSETFROM:-0500
TZOFFSETTO:-0400
TZNAME:EDT
DTSTART:20270314T070000
END:DAYLIGHT
BEGIN:STANDARD
TZOFFSETFROM:-0400
TZOFFSETTO:-0500
TZNAME:EST
DTSTART:20271107T060000
END:STANDARD
END:VTIMEZONE
BEGIN:VEVENT
DTSTART;TZID=America/New_York:20260517T101500
DTEND;TZID=America/New_York:20260517T123000
DTSTAMP:20260424T220823
CREATED:20250619T180639Z
LAST-MODIFIED:20260422T181142Z
UID:10003212-1779012900-1779021000@circleboston.org
SUMMARY:Shule Session 22 | Hey Presentations
DESCRIPTION:
URL:https://circleboston.org/event/shule-session-22-hey-presentations/
CATEGORIES:Shule
END:VEVENT
BEGIN:VEVENT
DTSTART;TZID=America/New_York:20260520T183000
DTEND;TZID=America/New_York:20260520T213000
DTSTAMP:20260424T220823
CREATED:20251111T211217Z
LAST-MODIFIED:20260422T181142Z
UID:10003467-1779301800-1779312600@circleboston.org
SUMMARY:Student Rehearsal for B'nai Mitzvah + Zayen Parent Rehearsal and meeting
DESCRIPTION:
URL:https://circleboston.org/event/student-rehearsal-for-bnai-mitzvah-zayen-parent-rehearsal-and-meeting/
CATEGORIES:Shule
END:VEVENT
BEGIN:VEVENT
DTSTART;TZID=America/New_York:20260606T100000
DTEND;TZID=America/New_York:20260606T160000
DTSTAMP:20260424T220823
CREATED:20250226T183704Z
LAST-MODIFIED:20260422T181143Z
UID:10002821-1780740000-1780761600@circleboston.org
SUMMARY:Shule B'nai Mitzvah
DESCRIPTION:
URL:https://circleboston.org/event/shule-bnai-mitzvah-2/
LOCATION:offsite
CATEGORIES:Shule
END:VEVENT
BEGIN:VEVENT
DTSTART;TZID=America/New_York:20260607T104500
DTEND;TZID=America/New_York:20260607T130000
DTSTAMP:20260424T220823
CREATED:20250619T180640Z
LAST-MODIFIED:20260422T181143Z
UID:10003213-1780829100-1780837200@circleboston.org
SUMMARY:Shule End-of-Year Picnic @ Larz Anderson
DESCRIPTION:
URL:https://circleboston.org/event/shule-end-of-year-picnic-larz-anderson/
CATEGORIES:Shule
END:VEVENT
BEGIN:VEVENT
DTSTART;TZID=America/New_York:20260920T103000
DTEND;TZID=America/New_York:20260920T123000
DTSTAMP:20260424T220823
CREATED:20260408T184150Z
LAST-MODIFIED:20260422T181143Z
UID:10003813-1789900200-1789907400@circleboston.org
SUMMARY:First Day Of Shule
DESCRIPTION:
URL:https://circleboston.org/event/first-day-of-shule/
CATEGORIES:Shule
END:VEVENT
BEGIN:VEVENT
DTSTART;VALUE=DATE:20260926
DTEND;VALUE=DATE:20260928
DTSTAMP:20260424T220823
CREATED:20260409T184144Z
LAST-MODIFIED:20260422T181143Z
UID:10003829-1790380800-1790553599@circleboston.org
SUMMARY:Zayen Families overnight
DESCRIPTION:
URL:https://circleboston.org/event/zayen-families-overnight/
CATEGORIES:Shule
END:VEVENT
BEGIN:VEVENT
DTSTART;TZID=America/New_York:20260927T103000
DTEND;TZID=America/New_York:20260927T123000
DTSTAMP:20260424T220823
CREATED:20260408T184150Z
LAST-MODIFIED:20260422T181143Z
UID:10003814-1790505000-1790512200@circleboston.org
SUMMARY:Shule Session 2
DESCRIPTION:
URL:https://circleboston.org/event/shule-session-2-3/
CATEGORIES:Shule
END:VEVENT
BEGIN:VEVENT
DTSTART;TZID=America/New_York:20261004T103000
DTEND;TZID=America/New_York:20261004T123000
DTSTAMP:20260424T220823
CREATED:20260408T184150Z
LAST-MODIFIED:20260422T181143Z
UID:10003815-1791109800-1791117000@circleboston.org
SUMMARY:Shule Session 3 | All Caregiver Assembly
DESCRIPTION:
URL:https://circleboston.org/event/shule-session-3-all-caregiver-assembly/
CATEGORIES:Shule
END:VEVENT
BEGIN:VEVENT
DTSTART;TZID=America/New_York:20261018T103000
DTEND;TZID=America/New_York:20261018T123000
DTSTAMP:20260424T220823
CREATED:20260408T184151Z
LAST-MODIFIED:20260422T181143Z
UID:10003816-1792319400-1792326600@circleboston.org
SUMMARY:Shule Session 4 | No Vov
DESCRIPTION:
URL:https://circleboston.org/event/shule-session-4-no-vov/
CATEGORIES:Shule
END:VEVENT
BEGIN:VEVENT
DTSTART;TZID=America/New_York:20261025T103000
DTEND;TZID=America/New_York:20261025T123000
DTSTAMP:20260424T220823
CREATED:20260408T184151Z
LAST-MODIFIED:20260422T181143Z
UID:10003817-1792924200-1792931400@circleboston.org
SUMMARY:Shule Session 5 - Class brunches
DESCRIPTION:
URL:https://circleboston.org/event/shule-session-5-class-brunches/
CATEGORIES:Shule
END:VEVENT
BEGIN:VEVENT
DTSTART;TZID=America/New_York:20261108T103000
DTEND;TZID=America/New_York:20261108T123000
DTSTAMP:20260424T220823
CREATED:20260408T184151Z
LAST-MODIFIED:20260422T181143Z
UID:10003818-1794133800-1794141000@circleboston.org
SUMMARY:Shule Session 6
DESCRIPTION:
URL:https://circleboston.org/event/shule-session-6-4/
CATEGORIES:Shule
END:VEVENT
BEGIN:VEVENT
DTSTART;TZID=America/New_York:20261115T103000
DTEND;TZID=America/New_York:20261115T123000
DTSTAMP:20260424T220823
CREATED:20260408T184151Z
LAST-MODIFIED:20260422T181144Z
UID:10003819-1794738600-1794745800@circleboston.org
SUMMARY:Shule Session 7
DESCRIPTION:
URL:https://circleboston.org/event/shule-session-7-4/
CATEGORIES:Shule
END:VEVENT
BEGIN:VEVENT
DTSTART;TZID=America/New_York:20261122T103000
DTEND;TZID=America/New_York:20261122T123000
DTSTAMP:20260424T220823
CREATED:20260408T184151Z
LAST-MODIFIED:20260422T181144Z
UID:10003820-1795343400-1795350600@circleboston.org
SUMMARY:Shule Session 8
DESCRIPTION:
URL:https://circleboston.org/event/shule-session-8-4/
CATEGORIES:Shule
END:VEVENT
END:VCALENDAR