BEGIN:VCALENDAR
VERSION:2.0
PRODID:-//Boston Workers Circle - ECPv6.15.20//NONSGML v1.0//EN
CALSCALE:GREGORIAN
METHOD:PUBLISH
X-ORIGINAL-URL:https://circleboston.org
X-WR-CALDESC:Events for Boston Workers Circle
REFRESH-INTERVAL;VALUE=DURATION:PT1H
X-Robots-Tag:noindex
X-PUBLISHED-TTL:PT1H
BEGIN:VTIMEZONE
TZID:America/New_York
BEGIN:DAYLIGHT
TZOFFSETFROM:-0500
TZOFFSETTO:-0400
TZNAME:EDT
DTSTART:20250309T070000
END:DAYLIGHT
BEGIN:STANDARD
TZOFFSETFROM:-0400
TZOFFSETTO:-0500
TZNAME:EST
DTSTART:20251102T060000
END:STANDARD
BEGIN:DAYLIGHT
TZOFFSETFROM:-0500
TZOFFSETTO:-0400
TZNAME:EDT
DTSTART:20260308T070000
END:DAYLIGHT
BEGIN:STANDARD
TZOFFSETFROM:-0400
TZOFFSETTO:-0500
TZNAME:EST
DTSTART:20261101T060000
END:STANDARD
BEGIN:DAYLIGHT
TZOFFSETFROM:-0500
TZOFFSETTO:-0400
TZNAME:EDT
DTSTART:20270314T070000
END:DAYLIGHT
BEGIN:STANDARD
TZOFFSETFROM:-0400
TZOFFSETTO:-0500
TZNAME:EST
DTSTART:20271107T060000
END:STANDARD
END:VTIMEZONE
BEGIN:VEVENT
DTSTART;TZID=America/New_York:20260405T103000
DTEND;TZID=America/New_York:20260405T123000
DTSTAMP:20260420T101300
CREATED:20250619T180638Z
LAST-MODIFIED:20260404T184218Z
UID:10003208-1775385000-1775392200@circleboston.org
SUMMARY:Shule Session 18
DESCRIPTION:
URL:https://circleboston.org/event/shule-session-18-4/
CATEGORIES:Shule
END:VEVENT
BEGIN:VEVENT
DTSTART;TZID=America/New_York:20260405T104500
DTEND;TZID=America/New_York:20260405T121500
DTSTAMP:20260420T101300
CREATED:20260313T234144Z
LAST-MODIFIED:20260404T184218Z
UID:10003794-1775385900-1775391300@circleboston.org
SUMMARY:Kumzits: LUCE Verifier training
DESCRIPTION:Sunday\, Ap﻿ril 5th\, 10:30 – 12:30 PM @ Shule \nPre-register here \n﻿ \nThe LUCE *Verifier Training is intended to prepare attendees to verify reports of ICE activity in your community\, as part of the LUCE Immigrant Justice Network (Massachusetts). The first part of the training will cover how to spot ICE and the utilities of the LUCE Hotline\, the second part will cover verification best practices and next steps for connecting with your local LUCE verification hub. We keep us safe!
URL:https://circleboston.org/event/kumzits-luce-verifier-training/
LOCATION:At Shule
CATEGORIES:Shule
END:VEVENT
END:VCALENDAR