BEGIN:VCALENDAR
VERSION:2.0
PRODID:-//Boston Workers Circle - ECPv6.15.20//NONSGML v1.0//EN
CALSCALE:GREGORIAN
METHOD:PUBLISH
X-ORIGINAL-URL:https://circleboston.org
X-WR-CALDESC:Events for Boston Workers Circle
REFRESH-INTERVAL;VALUE=DURATION:PT1H
X-Robots-Tag:noindex
X-PUBLISHED-TTL:PT1H
BEGIN:VTIMEZONE
TZID:America/New_York
BEGIN:DAYLIGHT
TZOFFSETFROM:-0500
TZOFFSETTO:-0400
TZNAME:EDT
DTSTART:20250309T070000
END:DAYLIGHT
BEGIN:STANDARD
TZOFFSETFROM:-0400
TZOFFSETTO:-0500
TZNAME:EST
DTSTART:20251102T060000
END:STANDARD
BEGIN:DAYLIGHT
TZOFFSETFROM:-0500
TZOFFSETTO:-0400
TZNAME:EDT
DTSTART:20260308T070000
END:DAYLIGHT
BEGIN:STANDARD
TZOFFSETFROM:-0400
TZOFFSETTO:-0500
TZNAME:EST
DTSTART:20261101T060000
END:STANDARD
BEGIN:DAYLIGHT
TZOFFSETFROM:-0500
TZOFFSETTO:-0400
TZNAME:EDT
DTSTART:20270314T070000
END:DAYLIGHT
BEGIN:STANDARD
TZOFFSETFROM:-0400
TZOFFSETTO:-0500
TZNAME:EST
DTSTART:20271107T060000
END:STANDARD
END:VTIMEZONE
BEGIN:VEVENT
DTSTART;TZID=America/New_York:20260503T103000
DTEND;TZID=America/New_York:20260503T123000
DTSTAMP:20260420T101233
CREATED:20250619T180639Z
LAST-MODIFIED:20260416T231149Z
UID:10003211-1777804200-1777811400@circleboston.org
SUMMARY:Shule Session 21 | Zayen Parent Meeting | Vov Bnai Mitzvah meeting (10:45)
DESCRIPTION:
URL:https://circleboston.org/event/shule-session-21-3/
CATEGORIES:Shule
END:VEVENT
BEGIN:VEVENT
DTSTART;TZID=America/New_York:20260503T104500
DTEND;TZID=America/New_York:20260503T124500
DTSTAMP:20260420T101233
CREATED:20250904T162000Z
LAST-MODIFIED:20260416T231148Z
UID:10003325-1777805100-1777812300@circleboston.org
SUMMARY:Circle Playtime
DESCRIPTION:
URL:https://circleboston.org/event/circle-playtime-24/
CATEGORIES:Shule
END:VEVENT
BEGIN:VEVENT
DTSTART;TZID=America/New_York:20260503T113000
DTEND;TZID=America/New_York:20260503T123000
DTSTAMP:20260420T101233
CREATED:20260324T202652Z
LAST-MODIFIED:20260416T231148Z
UID:10003804-1777807800-1777811400@circleboston.org
SUMMARY:Shule Open House
DESCRIPTION:Want to hear more about Shule\, our Jewish Cultural Sunday School for students pre-K – 7th grade? Please join us in Brookline for one of our upcoming Open Houses! Join us on April 12\, April 26\, or May 3 from 11:30 to 12:30pm! Exact location shared after registration. \nThis event will include a brief tour\, curriculum overview\, Q & A’s with staff\, a taste of a music class\, and a chance to connect with current and potential Shule parents. We’ll have bagels and coffee as well as Legos\, coloring supplies\, and books. \nRegister here. \nIf you’d like to register more than four children\, please complete the form again. Feel free to check out our website here (http://circleboston.org/shule) or reach out to Carly directly with any additional questions at youtheducation@circleboston.org before or after the event. \nWe look forward to meeting you and your family!
URL:https://circleboston.org/event/shule-open-house-5/
CATEGORIES:Shule
END:VEVENT
BEGIN:VEVENT
DTSTART;TZID=America/New_York:20260506T190000
DTEND;TZID=America/New_York:20260506T200000
DTSTAMP:20260420T101233
CREATED:20260416T205920Z
LAST-MODIFIED:20260416T231149Z
UID:10003841-1778094000-1778097600@circleboston.org
SUMMARY:Busy
DESCRIPTION:
URL:https://circleboston.org/event/busy/
CATEGORIES:Shule
END:VEVENT
BEGIN:VEVENT
DTSTART;TZID=America/New_York:20260517T101500
DTEND;TZID=America/New_York:20260517T123000
DTSTAMP:20260420T101233
CREATED:20250619T180639Z
LAST-MODIFIED:20260416T231149Z
UID:10003212-1779012900-1779021000@circleboston.org
SUMMARY:Shule Session 22 | Hey Presentations
DESCRIPTION:
URL:https://circleboston.org/event/shule-session-22-hey-presentations/
CATEGORIES:Shule
END:VEVENT
BEGIN:VEVENT
DTSTART;TZID=America/New_York:20260520T183000
DTEND;TZID=America/New_York:20260520T213000
DTSTAMP:20260420T101233
CREATED:20251111T211217Z
LAST-MODIFIED:20260416T231149Z
UID:10003467-1779301800-1779312600@circleboston.org
SUMMARY:Student Rehearsal for B'nai Mitzvah + Zayen Parent Rehearsal and meeting
DESCRIPTION:
URL:https://circleboston.org/event/student-rehearsal-for-bnai-mitzvah-zayen-parent-rehearsal-and-meeting/
CATEGORIES:Shule
END:VEVENT
END:VCALENDAR