BEGIN:VCALENDAR
VERSION:2.0
PRODID:-//Boston Workers Circle - ECPv6.15.20//NONSGML v1.0//EN
CALSCALE:GREGORIAN
METHOD:PUBLISH
X-WR-CALNAME:Boston Workers Circle
X-ORIGINAL-URL:https://circleboston.org
X-WR-CALDESC:Events for Boston Workers Circle
REFRESH-INTERVAL;VALUE=DURATION:PT1H
X-Robots-Tag:noindex
X-PUBLISHED-TTL:PT1H
BEGIN:VTIMEZONE
TZID:America/New_York
BEGIN:DAYLIGHT
TZOFFSETFROM:-0500
TZOFFSETTO:-0400
TZNAME:EDT
DTSTART:20250309T070000
END:DAYLIGHT
BEGIN:STANDARD
TZOFFSETFROM:-0400
TZOFFSETTO:-0500
TZNAME:EST
DTSTART:20251102T060000
END:STANDARD
BEGIN:DAYLIGHT
TZOFFSETFROM:-0500
TZOFFSETTO:-0400
TZNAME:EDT
DTSTART:20260308T070000
END:DAYLIGHT
BEGIN:STANDARD
TZOFFSETFROM:-0400
TZOFFSETTO:-0500
TZNAME:EST
DTSTART:20261101T060000
END:STANDARD
BEGIN:DAYLIGHT
TZOFFSETFROM:-0500
TZOFFSETTO:-0400
TZNAME:EDT
DTSTART:20270314T070000
END:DAYLIGHT
BEGIN:STANDARD
TZOFFSETFROM:-0400
TZOFFSETTO:-0500
TZNAME:EST
DTSTART:20271107T060000
END:STANDARD
END:VTIMEZONE
BEGIN:VEVENT
DTSTART;TZID=America/New_York:20260501T183000
DTEND;TZID=America/New_York:20260501T200000
DTSTAMP:20260424T191619
CREATED:20250909T201506Z
LAST-MODIFIED:20260422T181141Z
UID:10003333-1777660200-1777665600@circleboston.org
SUMMARY:May Day Yiddish Shabes
DESCRIPTION:Celebrate the May Day workers’ holiday and this year’s May Day Strong general strike with a special Shabes program conducted in Yiddish on Friday\, May 1st\, 2026 from 6:30pm – 8:00pm. Non-Yiddish speakers are welcome! Written English translations and transliterations will be provided for the readings and the songs. \nThis event is pay-what-you-can (suggested donation of $5 to $10+). Registration is required. \nAll registrants (in person and online) will be invited to actively participate\, with the option to read aloud from the program. The written program will be provided closer to the date to those who register. Shmoozing will begin at 6:15pm; the program will begin at 6:30 \nThe Shabes ceremony will be followed by an optional potluck dinner (and more singing) for those attending in person. If you attend the potluck\, please bring food to share (your choice of a main\, side\, salad\, or dessert dish). Sign up for the potluck here. Please try to buy your food contribution (or ingredients) before Friday in solidarity with the May Day Strong general strike. \nIf you are attending online\, here is a list of ritual items that we invite you to have during the ceremony: \n\ncandles\nwine or juice\nchallah\n\nRegister here. Questions? Contact yiddish@circleboston.org
URL:https://circleboston.org/event/yiddish-shabes-2/
LOCATION:Zoom & BWC Building
CATEGORIES:Shabes Committee
END:VEVENT
END:VCALENDAR