BEGIN:VCALENDAR
VERSION:2.0
PRODID:-//Boston Workers Circle - ECPv6.15.20//NONSGML v1.0//EN
CALSCALE:GREGORIAN
METHOD:PUBLISH
X-ORIGINAL-URL:https://circleboston.org
X-WR-CALDESC:Events for Boston Workers Circle
REFRESH-INTERVAL;VALUE=DURATION:PT1H
X-Robots-Tag:noindex
X-PUBLISHED-TTL:PT1H
BEGIN:VTIMEZONE
TZID:America/New_York
BEGIN:DAYLIGHT
TZOFFSETFROM:-0500
TZOFFSETTO:-0400
TZNAME:EDT
DTSTART:20230312T070000
END:DAYLIGHT
BEGIN:STANDARD
TZOFFSETFROM:-0400
TZOFFSETTO:-0500
TZNAME:EST
DTSTART:20231105T060000
END:STANDARD
BEGIN:DAYLIGHT
TZOFFSETFROM:-0500
TZOFFSETTO:-0400
TZNAME:EDT
DTSTART:20240310T070000
END:DAYLIGHT
BEGIN:STANDARD
TZOFFSETFROM:-0400
TZOFFSETTO:-0500
TZNAME:EST
DTSTART:20241103T060000
END:STANDARD
BEGIN:DAYLIGHT
TZOFFSETFROM:-0500
TZOFFSETTO:-0400
TZNAME:EDT
DTSTART:20250309T070000
END:DAYLIGHT
BEGIN:STANDARD
TZOFFSETFROM:-0400
TZOFFSETTO:-0500
TZNAME:EST
DTSTART:20251102T060000
END:STANDARD
BEGIN:DAYLIGHT
TZOFFSETFROM:-0500
TZOFFSETTO:-0400
TZNAME:EDT
DTSTART:20260308T070000
END:DAYLIGHT
BEGIN:STANDARD
TZOFFSETFROM:-0400
TZOFFSETTO:-0500
TZNAME:EST
DTSTART:20261101T060000
END:STANDARD
END:VTIMEZONE
BEGIN:VEVENT
DTSTART;TZID=America/New_York:20250519T183000
DTEND;TZID=America/New_York:20250519T200000
DTSTAMP:20260425T060930
CREATED:20250509T151903Z
LAST-MODIFIED:20250519T195130Z
UID:10003156-1747679400-1747684800@circleboston.org
SUMMARY:Mutual Aid Team Meeting
DESCRIPTION:Join BWC’s Mutual Aid Team as we gather to build new systems to support our fellow members in the areas of telephone outreach\, meals\, skill sharing\, and bereavement support. \nRegister here to receive meeting information. \nThe Mutual Aid Team meets every 3rd Monday of the month\, with sub-teams meeting as needed.
URL:https://circleboston.org/event/mutual-aid-team-meeting/
LOCATION:BWC Building & Zoom
CATEGORIES:Mutual Aid Group
END:VEVENT
BEGIN:VEVENT
DTSTART;TZID=America/New_York:20250426T110000
DTEND;TZID=America/New_York:20250426T130000
DTSTAMP:20260425T060930
CREATED:20250408T172308Z
LAST-MODIFIED:20250425T203654Z
UID:10002922-1745665200-1745672400@circleboston.org
SUMMARY:Stitch and Resist
DESCRIPTION:Attention\, fellow crafters and resistors: BWC Mutual Aid is hosting an event for you! Join us on Saturday\, April 26th\, at the BWC building from 11 am-1 pm for crafting\, community building and skill sharing! \nAll are welcome: bring your fiber craft projects\, share some crafting materials if you have extra\, and get to know our community better.  \nBring your projects already in process! We will also have some supplies (extra yarn and some crochet and knitting needles donated by BWC members) if you want to start something new. This event is for every skill level!! There won’t be formal lessons in fiber arts\, but we can happily problem-solve together. \nThis event is a drop-in. Come when it feels right\, and leave when it feels right! \nAnd feel free to reach out to mutualaid@circleboston.org with any questions. \nRegister here.
URL:https://circleboston.org/event/stitch-and-resist/
LOCATION:BWC Building
CATEGORIES:Mutual Aid Group
END:VEVENT
BEGIN:VEVENT
DTSTART;TZID=America/New_York:20250414T183000
DTEND;TZID=America/New_York:20250414T194500
DTSTAMP:20260425T060930
CREATED:20250324T180236Z
LAST-MODIFIED:20250414T183634Z
UID:10002854-1744655400-1744659900@circleboston.org
SUMMARY:Mutual Aid Team General Meeting
DESCRIPTION:Please join us on Zoom for a Mutual Aid General Meeting. This will be our first meeting since we’ve divided into task-oriented sub-groups: Bereavement\, Meals\, Telephone Check-Ins\, and SkillShare. \nWe will spend most of this meeting hearing share-backs from each sub-group\, continuing community building\, and looking towards our future efforts! \nAll are welcome whether you’ve attended in the past or not; we look forward to virtually seeing you there! \nPlease reach out to mutualaid@circleboston.org with any questions! \nRSVP here.
URL:https://circleboston.org/event/mutual-aid-team-general-meeting-3/
LOCATION:Zoom
CATEGORIES:Mutual Aid Group
END:VEVENT
BEGIN:VEVENT
DTSTART;TZID=America/New_York:20250221T183000
DTEND;TZID=America/New_York:20250221T200000
DTSTAMP:20260425T060930
CREATED:20250218T183104Z
LAST-MODIFIED:20250219T185233Z
UID:10002788-1740162600-1740168000@circleboston.org
SUMMARY:Mutual Aid Team General Meeting
DESCRIPTION:BWC’s Mutual Aid team will be meeting on February 21 from 6:30-8:00 pm at BWC to continue shaping the future work of our team! Come through for continued relational team building\, shared education around mutual aid\, and identifying action items for our community. Didn’t make it to our past meetings? No problem\, now is still a great time to get involved with the team as we’re shaping our vision of our team’s work.  \nRegister to join us here. This meeting will also be a potluck Shabes. Please fill out this potluck form at your convenience.  \nAs always\, please reach out with questions or comments to Julie at mutualaid@circleboston.org and to Zohar at zohar@circleboston.org.
URL:https://circleboston.org/event/mutual-aid-team-general-meeting-2/
LOCATION:BWC Building
CATEGORIES:Mutual Aid Group
END:VEVENT
BEGIN:VEVENT
DTSTART;TZID=America/New_York:20241219T190000
DTEND;TZID=America/New_York:20241219T203000
DTSTAMP:20260425T060930
CREATED:20241209T202801Z
LAST-MODIFIED:20241209T202802Z
UID:10002667-1734634800-1734640200@circleboston.org
SUMMARY:Mutual Aid Team General Meeting
DESCRIPTION:BWC’s Mutual Aid team will be meeting on December 19 from 7-8:30 pm on Zoom to continue shaping the future work of our team! Come through for continued relational team building\, creation of our team norms\, and project brainstorming. Didn’t make our kickoff? No problem\, now is still a great time to get involved with the team as we’re shaping our vision of our team’s work.  \nRegister to join us here. Email mutualaid@circleboston.org with any questions.
URL:https://circleboston.org/event/mutual-aid-team-general-meeting/
LOCATION:Zoom
CATEGORIES:Mutual Aid Group
END:VEVENT
BEGIN:VEVENT
DTSTART;TZID=America/New_York:20241122T190000
DTEND;TZID=America/New_York:20241122T203000
DTSTAMP:20260425T060931
CREATED:20241114T163301Z
LAST-MODIFIED:20241114T163301Z
UID:10002569-1732302000-1732307400@circleboston.org
SUMMARY:Community Care & Mutual Aid Kickoff
DESCRIPTION:Join us as we initiate a new phase in our community care and mutual aid work at BWC! We’ll gather to mark shabes and come together to discuss the history of this work at BWC and brainstorm where we want to take this work in the future! The location will be shared after you register. \nRegister to join us here.
URL:https://circleboston.org/event/community-care-mutual-aid-kickoff/
CATEGORIES:Mutual Aid Group
END:VEVENT
END:VCALENDAR