BEGIN:VCALENDAR
VERSION:2.0
PRODID:-//Boston Workers Circle - ECPv6.15.20//NONSGML v1.0//EN
CALSCALE:GREGORIAN
METHOD:PUBLISH
X-WR-CALNAME:Boston Workers Circle
X-ORIGINAL-URL:https://circleboston.org
X-WR-CALDESC:Events for Boston Workers Circle
REFRESH-INTERVAL;VALUE=DURATION:PT1H
X-Robots-Tag:noindex
X-PUBLISHED-TTL:PT1H
BEGIN:VTIMEZONE
TZID:America/New_York
BEGIN:DAYLIGHT
TZOFFSETFROM:-0500
TZOFFSETTO:-0400
TZNAME:EDT
DTSTART:20250309T070000
END:DAYLIGHT
BEGIN:STANDARD
TZOFFSETFROM:-0400
TZOFFSETTO:-0500
TZNAME:EST
DTSTART:20251102T060000
END:STANDARD
BEGIN:DAYLIGHT
TZOFFSETFROM:-0500
TZOFFSETTO:-0400
TZNAME:EDT
DTSTART:20260308T070000
END:DAYLIGHT
BEGIN:STANDARD
TZOFFSETFROM:-0400
TZOFFSETTO:-0500
TZNAME:EST
DTSTART:20261101T060000
END:STANDARD
BEGIN:DAYLIGHT
TZOFFSETFROM:-0500
TZOFFSETTO:-0400
TZNAME:EDT
DTSTART:20270314T070000
END:DAYLIGHT
BEGIN:STANDARD
TZOFFSETFROM:-0400
TZOFFSETTO:-0500
TZNAME:EST
DTSTART:20271107T060000
END:STANDARD
BEGIN:DAYLIGHT
TZOFFSETFROM:-0500
TZOFFSETTO:-0400
TZNAME:EDT
DTSTART:20280312T070000
END:DAYLIGHT
BEGIN:STANDARD
TZOFFSETFROM:-0400
TZOFFSETTO:-0500
TZNAME:EST
DTSTART:20281105T060000
END:STANDARD
BEGIN:DAYLIGHT
TZOFFSETFROM:-0500
TZOFFSETTO:-0400
TZNAME:EDT
DTSTART:20290311T070000
END:DAYLIGHT
BEGIN:STANDARD
TZOFFSETFROM:-0400
TZOFFSETTO:-0500
TZNAME:EST
DTSTART:20291104T060000
END:STANDARD
END:VTIMEZONE
BEGIN:VEVENT
DTSTART;TZID=America/New_York:20260516T110000
DTEND;TZID=America/New_York:20260516T130000
DTSTAMP:20260422T164805
CREATED:20250915T204147Z
LAST-MODIFIED:20260422T195644Z
UID:10003388-1778929200-1778936400@circleboston.org
SUMMARY:Stitch and Resist
DESCRIPTION:Attention\, fellow crafters and resistors: BWC Mutual Aid is hosting an event for you! Join us every third Saturday of the month at the BWC building from 11am – 1pm for crafting\, community building and skill sharing! \nAll are welcome: bring your fiber craft projects\, share some crafting materials if you have extra\, and get to know our community better. \nBring your projects already in process! We will also have some supplies (extra yarn and some crochet and knitting needles donated by BWC members) if you want to start something new. This event is for every skill level!! There won’t be formal lessons in fiber arts\, but we can happily problem-solve together. \nThis event is a drop-in. Come when it feels right\, and leave when it feels right. \nRegister here.
URL:https://circleboston.org/event/stitch-and-resist-35/
LOCATION:BWC Building
CATEGORIES:Mutual Aid Group
END:VEVENT
BEGIN:VEVENT
DTSTART;TZID=America/New_York:20260620T110000
DTEND;TZID=America/New_York:20260620T130000
DTSTAMP:20260422T164805
CREATED:20250915T204148Z
LAST-MODIFIED:20260422T195645Z
UID:10003389-1781953200-1781960400@circleboston.org
SUMMARY:Stitch and Resist
DESCRIPTION:Attention\, fellow crafters and resistors: BWC Mutual Aid is hosting an event for you! Join us every third Saturday of the month at the BWC building from 11am – 1pm for crafting\, community building and skill sharing! \nAll are welcome: bring your fiber craft projects\, share some crafting materials if you have extra\, and get to know our community better. \nBring your projects already in process! We will also have some supplies (extra yarn and some crochet and knitting needles donated by BWC members) if you want to start something new. This event is for every skill level!! There won’t be formal lessons in fiber arts\, but we can happily problem-solve together. \nThis event is a drop-in. Come when it feels right\, and leave when it feels right. \nRegister here.
URL:https://circleboston.org/event/stitch-and-resist-36/
LOCATION:BWC Building
CATEGORIES:Mutual Aid Group
END:VEVENT
BEGIN:VEVENT
DTSTART;TZID=America/New_York:20260718T110000
DTEND;TZID=America/New_York:20260718T130000
DTSTAMP:20260422T164805
CREATED:20250915T204148Z
LAST-MODIFIED:20260422T195645Z
UID:10003390-1784372400-1784379600@circleboston.org
SUMMARY:Stitch and Resist
DESCRIPTION:Attention\, fellow crafters and resistors: BWC Mutual Aid is hosting an event for you! Join us every third Saturday of the month at the BWC building from 11am – 1pm for crafting\, community building and skill sharing! \nAll are welcome: bring your fiber craft projects\, share some crafting materials if you have extra\, and get to know our community better. \nBring your projects already in process! We will also have some supplies (extra yarn and some crochet and knitting needles donated by BWC members) if you want to start something new. This event is for every skill level!! There won’t be formal lessons in fiber arts\, but we can happily problem-solve together. \nThis event is a drop-in. Come when it feels right\, and leave when it feels right. \nRegister here.
URL:https://circleboston.org/event/stitch-and-resist-37/
LOCATION:BWC Building
CATEGORIES:Mutual Aid Group
END:VEVENT
BEGIN:VEVENT
DTSTART;TZID=America/New_York:20260815T110000
DTEND;TZID=America/New_York:20260815T130000
DTSTAMP:20260422T164805
CREATED:20250915T204148Z
LAST-MODIFIED:20260422T195645Z
UID:10003391-1786791600-1786798800@circleboston.org
SUMMARY:Stitch and Resist
DESCRIPTION:Attention\, fellow crafters and resistors: BWC Mutual Aid is hosting an event for you! Join us every third Saturday of the month at the BWC building from 11am – 1pm for crafting\, community building and skill sharing! \nAll are welcome: bring your fiber craft projects\, share some crafting materials if you have extra\, and get to know our community better. \nBring your projects already in process! We will also have some supplies (extra yarn and some crochet and knitting needles donated by BWC members) if you want to start something new. This event is for every skill level!! There won’t be formal lessons in fiber arts\, but we can happily problem-solve together. \nThis event is a drop-in. Come when it feels right\, and leave when it feels right. \nRegister here.
URL:https://circleboston.org/event/stitch-and-resist-38/
LOCATION:BWC Building
CATEGORIES:Mutual Aid Group
END:VEVENT
BEGIN:VEVENT
DTSTART;TZID=America/New_York:20260919T110000
DTEND;TZID=America/New_York:20260919T130000
DTSTAMP:20260422T164805
CREATED:20250915T204149Z
LAST-MODIFIED:20260422T195645Z
UID:10003392-1789815600-1789822800@circleboston.org
SUMMARY:Stitch and Resist
DESCRIPTION:Attention\, fellow crafters and resistors: BWC Mutual Aid is hosting an event for you! Join us every third Saturday of the month at the BWC building from 11am – 1pm for crafting\, community building and skill sharing! \nAll are welcome: bring your fiber craft projects\, share some crafting materials if you have extra\, and get to know our community better. \nBring your projects already in process! We will also have some supplies (extra yarn and some crochet and knitting needles donated by BWC members) if you want to start something new. This event is for every skill level!! There won’t be formal lessons in fiber arts\, but we can happily problem-solve together. \nThis event is a drop-in. Come when it feels right\, and leave when it feels right. \nRegister here.
URL:https://circleboston.org/event/stitch-and-resist-39/
LOCATION:BWC Building
CATEGORIES:Mutual Aid Group
END:VEVENT
BEGIN:VEVENT
DTSTART;TZID=America/New_York:20261017T110000
DTEND;TZID=America/New_York:20261017T130000
DTSTAMP:20260422T164805
CREATED:20250915T204149Z
LAST-MODIFIED:20260422T195645Z
UID:10003393-1792234800-1792242000@circleboston.org
SUMMARY:Stitch and Resist
DESCRIPTION:Attention\, fellow crafters and resistors: BWC Mutual Aid is hosting an event for you! Join us every third Saturday of the month at the BWC building from 11am – 1pm for crafting\, community building and skill sharing! \nAll are welcome: bring your fiber craft projects\, share some crafting materials if you have extra\, and get to know our community better. \nBring your projects already in process! We will also have some supplies (extra yarn and some crochet and knitting needles donated by BWC members) if you want to start something new. This event is for every skill level!! There won’t be formal lessons in fiber arts\, but we can happily problem-solve together. \nThis event is a drop-in. Come when it feels right\, and leave when it feels right. \nRegister here.
URL:https://circleboston.org/event/stitch-and-resist-40/
LOCATION:BWC Building
CATEGORIES:Mutual Aid Group
END:VEVENT
BEGIN:VEVENT
DTSTART;TZID=America/New_York:20261121T110000
DTEND;TZID=America/New_York:20261121T130000
DTSTAMP:20260422T164805
CREATED:20250915T204150Z
LAST-MODIFIED:20260422T195645Z
UID:10003394-1795258800-1795266000@circleboston.org
SUMMARY:Stitch and Resist
DESCRIPTION:Attention\, fellow crafters and resistors: BWC Mutual Aid is hosting an event for you! Join us every third Saturday of the month at the BWC building from 11am – 1pm for crafting\, community building and skill sharing! \nAll are welcome: bring your fiber craft projects\, share some crafting materials if you have extra\, and get to know our community better. \nBring your projects already in process! We will also have some supplies (extra yarn and some crochet and knitting needles donated by BWC members) if you want to start something new. This event is for every skill level!! There won’t be formal lessons in fiber arts\, but we can happily problem-solve together. \nThis event is a drop-in. Come when it feels right\, and leave when it feels right. \nRegister here.
URL:https://circleboston.org/event/stitch-and-resist-41/
LOCATION:BWC Building
CATEGORIES:Mutual Aid Group
END:VEVENT
BEGIN:VEVENT
DTSTART;TZID=America/New_York:20261219T110000
DTEND;TZID=America/New_York:20261219T130000
DTSTAMP:20260422T164805
CREATED:20250915T204150Z
LAST-MODIFIED:20260422T195645Z
UID:10003395-1797678000-1797685200@circleboston.org
SUMMARY:Stitch and Resist
DESCRIPTION:Attention\, fellow crafters and resistors: BWC Mutual Aid is hosting an event for you! Join us every third Saturday of the month at the BWC building from 11am – 1pm for crafting\, community building and skill sharing! \nAll are welcome: bring your fiber craft projects\, share some crafting materials if you have extra\, and get to know our community better. \nBring your projects already in process! We will also have some supplies (extra yarn and some crochet and knitting needles donated by BWC members) if you want to start something new. This event is for every skill level!! There won’t be formal lessons in fiber arts\, but we can happily problem-solve together. \nThis event is a drop-in. Come when it feels right\, and leave when it feels right. \nRegister here.
URL:https://circleboston.org/event/stitch-and-resist-42/
LOCATION:BWC Building
CATEGORIES:Mutual Aid Group
END:VEVENT
BEGIN:VEVENT
DTSTART;TZID=America/New_York:20270116T110000
DTEND;TZID=America/New_York:20270116T130000
DTSTAMP:20260422T164805
CREATED:20250915T204150Z
LAST-MODIFIED:20260422T195645Z
UID:10003396-1800097200-1800104400@circleboston.org
SUMMARY:Stitch and Resist
DESCRIPTION:Attention\, fellow crafters and resistors: BWC Mutual Aid is hosting an event for you! Join us every third Saturday of the month at the BWC building from 11am – 1pm for crafting\, community building and skill sharing! \nAll are welcome: bring your fiber craft projects\, share some crafting materials if you have extra\, and get to know our community better. \nBring your projects already in process! We will also have some supplies (extra yarn and some crochet and knitting needles donated by BWC members) if you want to start something new. This event is for every skill level!! There won’t be formal lessons in fiber arts\, but we can happily problem-solve together. \nThis event is a drop-in. Come when it feels right\, and leave when it feels right. \nRegister here.
URL:https://circleboston.org/event/stitch-and-resist-43/
LOCATION:BWC Building
CATEGORIES:Mutual Aid Group
END:VEVENT
BEGIN:VEVENT
DTSTART;TZID=America/New_York:20270220T110000
DTEND;TZID=America/New_York:20270220T130000
DTSTAMP:20260422T164805
CREATED:20250915T204151Z
LAST-MODIFIED:20260422T195645Z
UID:10003397-1803121200-1803128400@circleboston.org
SUMMARY:Stitch and Resist
DESCRIPTION:Attention\, fellow crafters and resistors: BWC Mutual Aid is hosting an event for you! Join us every third Saturday of the month at the BWC building from 11am – 1pm for crafting\, community building and skill sharing! \nAll are welcome: bring your fiber craft projects\, share some crafting materials if you have extra\, and get to know our community better. \nBring your projects already in process! We will also have some supplies (extra yarn and some crochet and knitting needles donated by BWC members) if you want to start something new. This event is for every skill level!! There won’t be formal lessons in fiber arts\, but we can happily problem-solve together. \nThis event is a drop-in. Come when it feels right\, and leave when it feels right. \nRegister here.
URL:https://circleboston.org/event/stitch-and-resist-44/
LOCATION:BWC Building
CATEGORIES:Mutual Aid Group
END:VEVENT
BEGIN:VEVENT
DTSTART;TZID=America/New_York:20270320T110000
DTEND;TZID=America/New_York:20270320T130000
DTSTAMP:20260422T164805
CREATED:20250915T204151Z
LAST-MODIFIED:20260422T195646Z
UID:10003398-1805540400-1805547600@circleboston.org
SUMMARY:Stitch and Resist
DESCRIPTION:Attention\, fellow crafters and resistors: BWC Mutual Aid is hosting an event for you! Join us every third Saturday of the month at the BWC building from 11am – 1pm for crafting\, community building and skill sharing! \nAll are welcome: bring your fiber craft projects\, share some crafting materials if you have extra\, and get to know our community better. \nBring your projects already in process! We will also have some supplies (extra yarn and some crochet and knitting needles donated by BWC members) if you want to start something new. This event is for every skill level!! There won’t be formal lessons in fiber arts\, but we can happily problem-solve together. \nThis event is a drop-in. Come when it feels right\, and leave when it feels right. \nRegister here.
URL:https://circleboston.org/event/stitch-and-resist-45/
LOCATION:BWC Building
CATEGORIES:Mutual Aid Group
END:VEVENT
BEGIN:VEVENT
DTSTART;TZID=America/New_York:20270417T110000
DTEND;TZID=America/New_York:20270417T130000
DTSTAMP:20260422T164805
CREATED:20250915T204151Z
LAST-MODIFIED:20260422T195646Z
UID:10003399-1807959600-1807966800@circleboston.org
SUMMARY:Stitch and Resist
DESCRIPTION:Attention\, fellow crafters and resistors: BWC Mutual Aid is hosting an event for you! Join us every third Saturday of the month at the BWC building from 11am – 1pm for crafting\, community building and skill sharing! \nAll are welcome: bring your fiber craft projects\, share some crafting materials if you have extra\, and get to know our community better. \nBring your projects already in process! We will also have some supplies (extra yarn and some crochet and knitting needles donated by BWC members) if you want to start something new. This event is for every skill level!! There won’t be formal lessons in fiber arts\, but we can happily problem-solve together. \nThis event is a drop-in. Come when it feels right\, and leave when it feels right. \nRegister here.
URL:https://circleboston.org/event/stitch-and-resist-46/
LOCATION:BWC Building
CATEGORIES:Mutual Aid Group
END:VEVENT
BEGIN:VEVENT
DTSTART;TZID=America/New_York:20270515T110000
DTEND;TZID=America/New_York:20270515T130000
DTSTAMP:20260422T164805
CREATED:20250915T204152Z
LAST-MODIFIED:20260422T195646Z
UID:10003400-1810378800-1810386000@circleboston.org
SUMMARY:Stitch and Resist
DESCRIPTION:Attention\, fellow crafters and resistors: BWC Mutual Aid is hosting an event for you! Join us every third Saturday of the month at the BWC building from 11am – 1pm for crafting\, community building and skill sharing! \nAll are welcome: bring your fiber craft projects\, share some crafting materials if you have extra\, and get to know our community better. \nBring your projects already in process! We will also have some supplies (extra yarn and some crochet and knitting needles donated by BWC members) if you want to start something new. This event is for every skill level!! There won’t be formal lessons in fiber arts\, but we can happily problem-solve together. \nThis event is a drop-in. Come when it feels right\, and leave when it feels right. \nRegister here.
URL:https://circleboston.org/event/stitch-and-resist-47/
LOCATION:BWC Building
CATEGORIES:Mutual Aid Group
END:VEVENT
BEGIN:VEVENT
DTSTART;TZID=America/New_York:20270619T110000
DTEND;TZID=America/New_York:20270619T130000
DTSTAMP:20260422T164805
CREATED:20250915T204152Z
LAST-MODIFIED:20260422T195646Z
UID:10003401-1813402800-1813410000@circleboston.org
SUMMARY:Stitch and Resist
DESCRIPTION:Attention\, fellow crafters and resistors: BWC Mutual Aid is hosting an event for you! Join us every third Saturday of the month at the BWC building from 11am – 1pm for crafting\, community building and skill sharing! \nAll are welcome: bring your fiber craft projects\, share some crafting materials if you have extra\, and get to know our community better. \nBring your projects already in process! We will also have some supplies (extra yarn and some crochet and knitting needles donated by BWC members) if you want to start something new. This event is for every skill level!! There won’t be formal lessons in fiber arts\, but we can happily problem-solve together. \nThis event is a drop-in. Come when it feels right\, and leave when it feels right. \nRegister here.
URL:https://circleboston.org/event/stitch-and-resist-48/
LOCATION:BWC Building
CATEGORIES:Mutual Aid Group
END:VEVENT
BEGIN:VEVENT
DTSTART;TZID=America/New_York:20270717T110000
DTEND;TZID=America/New_York:20270717T130000
DTSTAMP:20260422T164805
CREATED:20250915T204153Z
LAST-MODIFIED:20260422T195646Z
UID:10003402-1815822000-1815829200@circleboston.org
SUMMARY:Stitch and Resist
DESCRIPTION:Attention\, fellow crafters and resistors: BWC Mutual Aid is hosting an event for you! Join us every third Saturday of the month at the BWC building from 11am – 1pm for crafting\, community building and skill sharing! \nAll are welcome: bring your fiber craft projects\, share some crafting materials if you have extra\, and get to know our community better. \nBring your projects already in process! We will also have some supplies (extra yarn and some crochet and knitting needles donated by BWC members) if you want to start something new. This event is for every skill level!! There won’t be formal lessons in fiber arts\, but we can happily problem-solve together. \nThis event is a drop-in. Come when it feels right\, and leave when it feels right. \nRegister here.
URL:https://circleboston.org/event/stitch-and-resist-49/
LOCATION:BWC Building
CATEGORIES:Mutual Aid Group
END:VEVENT
BEGIN:VEVENT
DTSTART;TZID=America/New_York:20270821T110000
DTEND;TZID=America/New_York:20270821T130000
DTSTAMP:20260422T164805
CREATED:20250915T204153Z
LAST-MODIFIED:20260422T195646Z
UID:10003403-1818846000-1818853200@circleboston.org
SUMMARY:Stitch and Resist
DESCRIPTION:Attention\, fellow crafters and resistors: BWC Mutual Aid is hosting an event for you! Join us every third Saturday of the month at the BWC building from 11am – 1pm for crafting\, community building and skill sharing! \nAll are welcome: bring your fiber craft projects\, share some crafting materials if you have extra\, and get to know our community better. \nBring your projects already in process! We will also have some supplies (extra yarn and some crochet and knitting needles donated by BWC members) if you want to start something new. This event is for every skill level!! There won’t be formal lessons in fiber arts\, but we can happily problem-solve together. \nThis event is a drop-in. Come when it feels right\, and leave when it feels right. \nRegister here.
URL:https://circleboston.org/event/stitch-and-resist-50/
LOCATION:BWC Building
CATEGORIES:Mutual Aid Group
END:VEVENT
BEGIN:VEVENT
DTSTART;TZID=America/New_York:20270918T110000
DTEND;TZID=America/New_York:20270918T130000
DTSTAMP:20260422T164805
CREATED:20250918T211318Z
LAST-MODIFIED:20260422T195646Z
UID:10003413-1821265200-1821272400@circleboston.org
SUMMARY:Stitch and Resist
DESCRIPTION:Attention\, fellow crafters and resistors: BWC Mutual Aid is hosting an event for you! Join us every third Saturday of the month at the BWC building from 11am – 1pm for crafting\, community building and skill sharing! \nAll are welcome: bring your fiber craft projects\, share some crafting materials if you have extra\, and get to know our community better. \nBring your projects already in process! We will also have some supplies (extra yarn and some crochet and knitting needles donated by BWC members) if you want to start something new. This event is for every skill level!! There won’t be formal lessons in fiber arts\, but we can happily problem-solve together. \nThis event is a drop-in. Come when it feels right\, and leave when it feels right. \nRegister here.
URL:https://circleboston.org/event/stitch-and-resist-3/
LOCATION:BWC Building
CATEGORIES:Mutual Aid Group
END:VEVENT
BEGIN:VEVENT
DTSTART;TZID=America/New_York:20271016T110000
DTEND;TZID=America/New_York:20271016T130000
DTSTAMP:20260422T164805
CREATED:20251016T194202Z
LAST-MODIFIED:20260422T195646Z
UID:10003445-1823684400-1823691600@circleboston.org
SUMMARY:Stitch and Resist
DESCRIPTION:Attention\, fellow crafters and resistors: BWC Mutual Aid is hosting an event for you! Join us every third Saturday of the month at the BWC building from 11am – 1pm for crafting\, community building and skill sharing! \nAll are welcome: bring your fiber craft projects\, share some crafting materials if you have extra\, and get to know our community better. \nBring your projects already in process! We will also have some supplies (extra yarn and some crochet and knitting needles donated by BWC members) if you want to start something new. This event is for every skill level!! There won’t be formal lessons in fiber arts\, but we can happily problem-solve together. \nThis event is a drop-in. Come when it feels right\, and leave when it feels right. \nRegister here.
URL:https://circleboston.org/event/stitch-and-resist-5/
LOCATION:BWC Building
CATEGORIES:Mutual Aid Group
END:VEVENT
BEGIN:VEVENT
DTSTART;TZID=America/New_York:20271120T110000
DTEND;TZID=America/New_York:20271120T130000
DTSTAMP:20260422T164805
CREATED:20251120T214222Z
LAST-MODIFIED:20260422T195647Z
UID:10003474-1826708400-1826715600@circleboston.org
SUMMARY:Stitch and Resist
DESCRIPTION:Attention\, fellow crafters and resistors: BWC Mutual Aid is hosting an event for you! Join us every third Saturday of the month at the BWC building from 11am – 1pm for crafting\, community building and skill sharing! \nAll are welcome: bring your fiber craft projects\, share some crafting materials if you have extra\, and get to know our community better. \nBring your projects already in process! We will also have some supplies (extra yarn and some crochet and knitting needles donated by BWC members) if you want to start something new. This event is for every skill level!! There won’t be formal lessons in fiber arts\, but we can happily problem-solve together. \nThis event is a drop-in. Come when it feels right\, and leave when it feels right. \nRegister here.
URL:https://circleboston.org/event/stitch-and-resist-6/
LOCATION:BWC Building
CATEGORIES:Mutual Aid Group
END:VEVENT
BEGIN:VEVENT
DTSTART;TZID=America/New_York:20271218T110000
DTEND;TZID=America/New_York:20271218T130000
DTSTAMP:20260422T164805
CREATED:20251218T181321Z
LAST-MODIFIED:20260422T195647Z
UID:10003502-1829127600-1829134800@circleboston.org
SUMMARY:Stitch and Resist
DESCRIPTION:Attention\, fellow crafters and resistors: BWC Mutual Aid is hosting an event for you! Join us every third Saturday of the month at the BWC building from 11am – 1pm for crafting\, community building and skill sharing! \nAll are welcome: bring your fiber craft projects\, share some crafting materials if you have extra\, and get to know our community better. \nBring your projects already in process! We will also have some supplies (extra yarn and some crochet and knitting needles donated by BWC members) if you want to start something new. This event is for every skill level!! There won’t be formal lessons in fiber arts\, but we can happily problem-solve together. \nThis event is a drop-in. Come when it feels right\, and leave when it feels right. \nRegister here.
URL:https://circleboston.org/event/stitch-and-resist-7/
LOCATION:BWC Building
CATEGORIES:Mutual Aid Group
END:VEVENT
BEGIN:VEVENT
DTSTART;TZID=America/New_York:20280115T110000
DTEND;TZID=America/New_York:20280115T130000
DTSTAMP:20260422T164805
CREATED:20260115T224225Z
LAST-MODIFIED:20260422T195647Z
UID:10003678-1831546800-1831554000@circleboston.org
SUMMARY:Stitch and Resist
DESCRIPTION:Attention\, fellow crafters and resistors: BWC Mutual Aid is hosting an event for you! Join us every third Saturday of the month at the BWC building from 11am – 1pm for crafting\, community building and skill sharing! \nAll are welcome: bring your fiber craft projects\, share some crafting materials if you have extra\, and get to know our community better. \nBring your projects already in process! We will also have some supplies (extra yarn and some crochet and knitting needles donated by BWC members) if you want to start something new. This event is for every skill level!! There won’t be formal lessons in fiber arts\, but we can happily problem-solve together. \nThis event is a drop-in. Come when it feels right\, and leave when it feels right. \nRegister here.
URL:https://circleboston.org/event/stitch-and-resist-8/
LOCATION:BWC Building
CATEGORIES:Mutual Aid Group
END:VEVENT
BEGIN:VEVENT
DTSTART;TZID=America/New_York:20280219T110000
DTEND;TZID=America/New_York:20280219T130000
DTSTAMP:20260422T164805
CREATED:20260219T184254Z
LAST-MODIFIED:20260422T195647Z
UID:10003776-1834570800-1834578000@circleboston.org
SUMMARY:Stitch and Resist
DESCRIPTION:Attention\, fellow crafters and resistors: BWC Mutual Aid is hosting an event for you! Join us every third Saturday of the month at the BWC building from 11am – 1pm for crafting\, community building and skill sharing! \nAll are welcome: bring your fiber craft projects\, share some crafting materials if you have extra\, and get to know our community better. \nBring your projects already in process! We will also have some supplies (extra yarn and some crochet and knitting needles donated by BWC members) if you want to start something new. This event is for every skill level!! There won’t be formal lessons in fiber arts\, but we can happily problem-solve together. \nThis event is a drop-in. Come when it feels right\, and leave when it feels right. \nRegister here.
URL:https://circleboston.org/event/stitch-and-resist-9/
LOCATION:BWC Building
CATEGORIES:Mutual Aid Group
END:VEVENT
BEGIN:VEVENT
DTSTART;TZID=America/New_York:20280318T110000
DTEND;TZID=America/New_York:20280318T130000
DTSTAMP:20260422T164805
CREATED:20260318T202652Z
LAST-MODIFIED:20260422T195647Z
UID:10003798-1836990000-1836997200@circleboston.org
SUMMARY:Stitch and Resist
DESCRIPTION:Attention\, fellow crafters and resistors: BWC Mutual Aid is hosting an event for you! Join us every third Saturday of the month at the BWC building from 11am – 1pm for crafting\, community building and skill sharing! \nAll are welcome: bring your fiber craft projects\, share some crafting materials if you have extra\, and get to know our community better. \nBring your projects already in process! We will also have some supplies (extra yarn and some crochet and knitting needles donated by BWC members) if you want to start something new. This event is for every skill level!! There won’t be formal lessons in fiber arts\, but we can happily problem-solve together. \nThis event is a drop-in. Come when it feels right\, and leave when it feels right. \nRegister here.
URL:https://circleboston.org/event/stitch-and-resist-10/
LOCATION:BWC Building
CATEGORIES:Mutual Aid Group
END:VEVENT
BEGIN:VEVENT
DTSTART;TZID=America/New_York:20280415T110000
DTEND;TZID=America/New_York:20280415T130000
DTSTAMP:20260422T164805
CREATED:20260415T192645Z
LAST-MODIFIED:20260422T195647Z
UID:10003839-1839409200-1839416400@circleboston.org
SUMMARY:Stitch and Resist
DESCRIPTION:Attention\, fellow crafters and resistors: BWC Mutual Aid is hosting an event for you! Join us every third Saturday of the month at the BWC building from 11am – 1pm for crafting\, community building and skill sharing! \nAll are welcome: bring your fiber craft projects\, share some crafting materials if you have extra\, and get to know our community better. \nBring your projects already in process! We will also have some supplies (extra yarn and some crochet and knitting needles donated by BWC members) if you want to start something new. This event is for every skill level!! There won’t be formal lessons in fiber arts\, but we can happily problem-solve together. \nThis event is a drop-in. Come when it feels right\, and leave when it feels right. \nRegister here.
URL:https://circleboston.org/event/stitch-and-resist-11/
LOCATION:BWC Building
CATEGORIES:Mutual Aid Group
END:VEVENT
END:VCALENDAR