BEGIN:VCALENDAR
VERSION:2.0
PRODID:-//Boston Workers Circle - ECPv6.15.20//NONSGML v1.0//EN
CALSCALE:GREGORIAN
METHOD:PUBLISH
X-ORIGINAL-URL:https://circleboston.org
X-WR-CALDESC:Events for Boston Workers Circle
REFRESH-INTERVAL;VALUE=DURATION:PT1H
X-Robots-Tag:noindex
X-PUBLISHED-TTL:PT1H
BEGIN:VTIMEZONE
TZID:America/New_York
BEGIN:DAYLIGHT
TZOFFSETFROM:-0500
TZOFFSETTO:-0400
TZNAME:EDT
DTSTART:20250309T070000
END:DAYLIGHT
BEGIN:STANDARD
TZOFFSETFROM:-0400
TZOFFSETTO:-0500
TZNAME:EST
DTSTART:20251102T060000
END:STANDARD
BEGIN:DAYLIGHT
TZOFFSETFROM:-0500
TZOFFSETTO:-0400
TZNAME:EDT
DTSTART:20260308T070000
END:DAYLIGHT
BEGIN:STANDARD
TZOFFSETFROM:-0400
TZOFFSETTO:-0500
TZNAME:EST
DTSTART:20261101T060000
END:STANDARD
BEGIN:DAYLIGHT
TZOFFSETFROM:-0500
TZOFFSETTO:-0400
TZNAME:EDT
DTSTART:20270314T070000
END:DAYLIGHT
BEGIN:STANDARD
TZOFFSETFROM:-0400
TZOFFSETTO:-0500
TZNAME:EST
DTSTART:20271107T060000
END:STANDARD
END:VTIMEZONE
BEGIN:VEVENT
DTSTART;TZID=America/New_York:20260501T161500
DTEND;TZID=America/New_York:20260501T173000
DTSTAMP:20260420T104144
CREATED:20260409T203347Z
LAST-MODIFIED:20260416T204148Z
UID:10003830-1777652100-1777656600@circleboston.org
SUMMARY:May Day Rally
DESCRIPTION:There was a great BWC turnout at the March 28th NO Kings Rally\, and we are now inviting BWC members to join us for a May Day Rally on the Boston Common Friday May 1st. We will meet at The Embrace ( a short walk from the Park Street T station) at 4:15. The rally begins at 4:30.RSVP to the May Day Rally so we know who to expect: bit.ly/BWCMayDayRally \nFor more information contact Jill Edelson at jaedelson25@gmail.com \nFollowing the rally Workers Circle is hosting a May Day Yiddish Shabes beginning at 6:30pm to celebrate the worker’s holiday and the May Day Strong General Strike. The Shabes will be in Yiddish with English translations. There will be a potluck dinner\, and we encourage people to shop for their contribution before Friday to be aligned with the May Day NO Shopping. We hope you will join us! You can register for the Shabes here.
URL:https://circleboston.org/event/may-day-rally/
CATEGORIES:General Events
END:VEVENT
BEGIN:VEVENT
DTSTART;TZID=America/New_York:20260609T180000
DTEND;TZID=America/New_York:20260609T200000
DTSTAMP:20260420T104144
CREATED:20260416T204148Z
LAST-MODIFIED:20260416T204148Z
UID:10003840-1781028000-1781035200@circleboston.org
SUMMARY:Annual Meeting
DESCRIPTION:
URL:https://circleboston.org/event/annual-meeting-3/
CATEGORIES:General Events
END:VEVENT
BEGIN:VEVENT
DTSTART;VALUE=DATE:20260710
DTEND;VALUE=DATE:20260713
DTSTAMP:20260420T104144
CREATED:20260212T154435Z
LAST-MODIFIED:20260416T204148Z
UID:10003745-1783641600-1783900799@circleboston.org
SUMMARY:BWC at World Fellowship
DESCRIPTION:Join BWC members on a fun member retreat at World Fellowship Center in Albany\, New Hampshire Friday\, July 10 – Sunday\, July 12.  \nThe weekend is filled with a range of organized to spontaneous outdoor  adventures including: hikes\, swimming/ boating at the local pond\, or curling up with a good book or art project at the lodge. All meals are included and served in the dining hall. \nFriday evening features fun night / talent show. Saturday could be a trip to the Tamworth farmers market or other morning adventures followed by a late afternoon BWC wine and cheese (or other beverages and snacks) meet up. We end the night with a live band and fire pit. Sunday is more adventures\, and then\, goodbye. \nFor folks with kids\, there is children’s fellowship in the morning from 10:00am-12:00pm for ages 3-9. \nIf you have questions about lodging or facilities\, best to check in directly with the World Fellowship Center office at (603) 447-2280 or office@worldfellowship.org. \nMake a reservation here: https://worldfellowship.org/book-now/.
URL:https://circleboston.org/event/bwc-at-world-fellowship/
LOCATION:368 Drake Hill Rd\, Conway\, NH\, United States
CATEGORIES:General Events
GEO:43.959534;-71.27532
END:VEVENT
END:VCALENDAR