BEGIN:VCALENDAR
VERSION:2.0
PRODID:-//Boston Workers Circle - ECPv6.15.20//NONSGML v1.0//EN
CALSCALE:GREGORIAN
METHOD:PUBLISH
X-WR-CALNAME:Boston Workers Circle
X-ORIGINAL-URL:https://circleboston.org
X-WR-CALDESC:Events for Boston Workers Circle
REFRESH-INTERVAL;VALUE=DURATION:PT1H
X-Robots-Tag:noindex
X-PUBLISHED-TTL:PT1H
BEGIN:VTIMEZONE
TZID:America/New_York
BEGIN:DAYLIGHT
TZOFFSETFROM:-0500
TZOFFSETTO:-0400
TZNAME:EDT
DTSTART:20240310T070000
END:DAYLIGHT
BEGIN:STANDARD
TZOFFSETFROM:-0400
TZOFFSETTO:-0500
TZNAME:EST
DTSTART:20241103T060000
END:STANDARD
BEGIN:DAYLIGHT
TZOFFSETFROM:-0500
TZOFFSETTO:-0400
TZNAME:EDT
DTSTART:20250309T070000
END:DAYLIGHT
BEGIN:STANDARD
TZOFFSETFROM:-0400
TZOFFSETTO:-0500
TZNAME:EST
DTSTART:20251102T060000
END:STANDARD
BEGIN:DAYLIGHT
TZOFFSETFROM:-0500
TZOFFSETTO:-0400
TZNAME:EDT
DTSTART:20260308T070000
END:DAYLIGHT
BEGIN:STANDARD
TZOFFSETFROM:-0400
TZOFFSETTO:-0500
TZNAME:EST
DTSTART:20261101T060000
END:STANDARD
END:VTIMEZONE
BEGIN:VEVENT
DTSTART;TZID=America/New_York:20251112T173000
DTEND;TZID=America/New_York:20251112T180000
DTSTAMP:20260420T092035
CREATED:20250220T190152Z
LAST-MODIFIED:20251112T175655Z
UID:10002804-1762968600-1762970400@circleboston.org
SUMMARY:Immigrant Justice Committee Meeting
DESCRIPTION:Get Involved To get involved or for more information\, join the Immigrant Justice Committee on the second Wednesday of the month on Zoom at 5:30 PM.\n\n\n\n\nEmail ijc@circleboston.org to receive the Zoom link for the meeting.
URL:https://circleboston.org/event/immigrant-justice-committee-meeting-43/
LOCATION:Zoom
CATEGORIES:Immigrant Justice Committee
END:VEVENT
BEGIN:VEVENT
DTSTART;TZID=America/New_York:20251112T190000
DTEND;TZID=America/New_York:20251112T203000
DTSTAMP:20260420T092035
CREATED:20251008T191525Z
LAST-MODIFIED:20251112T232641Z
UID:10003439-1762974000-1762979400@circleboston.org
SUMMARY:Adult Ed Course: Session 2
DESCRIPTION:Adult Ed Course: We Carry This In our Bodies: Navigating Family\, Trauma\, and Israel/Palestine\nAt a time when conversations about Israel/Palestine are deeply charged\, many of us struggle to stay in relationship with loved ones whose perspectives differ from our own. This three-part course will explore how American Jewish trauma lives in our bodies (based largely on the work of Resmaa Menakem)\, shapes our politics\, and shows up in interpersonal dynamics. Drawing on somatic practices\, historical context\, and scenario planning\, we’ll practice approaches for meaningful\, values-aligned conversations—along with tools for setting boundaries and caring for ourselves in the process. \nREGISTER HERE. \nCourse Sessions:All classes will be held in person at the BWC Building located at 6 Webster Street in Brookline\, MA. \nAll students are required to attend session #1\, but can choose which of the other sessions they attend. \nSession #1 – November 5 | 7-8:30PM: Diving into My Grandmother’s Hands as a source for healing Jewish trauma \nSession #2 – November 12 | 7-8:30PM: Understanding our own narratives and voices\, beginning to practice our fears \nSession #3: November 19 | 7-8:30PM: Scenario planning\, practice\, and closure (or non-closure)
URL:https://circleboston.org/event/adult-ed-course-session-2/
LOCATION:BWC Building
CATEGORIES:Adult Education
END:VEVENT
BEGIN:VEVENT
DTSTART;TZID=America/New_York:20251112T193000
DTEND;TZID=America/New_York:20251112T210000
DTSTAMP:20260420T092035
CREATED:20250805T185319Z
LAST-MODIFIED:20251112T191151Z
UID:10003279-1762975800-1762981200@circleboston.org
SUMMARY:Beginner Yiddish Semester 1: In-Person
DESCRIPTION:Let’s learn Yiddish — lomir zikh lernen yidish! This course introduces students to the fundamentals of Yiddish conversation\, reading\, and grammar through highly-interactive games\, songs\, activities\, and short texts. Students who don’t yet know the Hebrew/Yiddish alphabet will be asked to join the class a half hour early throughout the semester. \nLearn more and register here.
URL:https://circleboston.org/event/beginner-yiddish-semester-1-in-person-5/
LOCATION:BWC Building
CATEGORIES:Yiddish - Classes
END:VEVENT
BEGIN:VEVENT
DTSTART;TZID=America/New_York:20251112T200000
DTEND;TZID=America/New_York:20251112T213000
DTSTAMP:20260420T092035
CREATED:20250805T185319Z
LAST-MODIFIED:20251112T191150Z
UID:10003280-1762977600-1762983000@circleboston.org
SUMMARY:Advanced: Shtok Shraybt Vayter: Virtual
DESCRIPTION:We will read and discuss a selection of Fradl Shtok’s writing in Yiddish\, in a supportive environment that encourages each person to speak Yiddish freely and fearlessly to the best of their ability. Students who want to listen rather than read are welcome to join the class. Fradl Shtok (1890-1990) is an enigmatic and captivating writer of passionate poems\, sharply observed short stories\, and illuminating literary essays. Her short stories capture the nuances of shtetl and immigrant life\, peeling away the layers with revealing\, ironic perceptions. Shtok’s piercing poems – including her groundbreaking sonnets – are an innovation in Yiddish literature. Her poems are crafted with skill\, precision and attention to aesthetics that juxtaposes powerfully with the unrestrained desire that many of her poems embody. Studying Shtok’s texts in Yiddish enables the reader to savor the sensuous sounds\, skillful wordplay and musicality that are central to her writing. The course will offer cover a selection of short stories\, poems and critical writing by Fradl Shtok. \nLearn more and register here.
URL:https://circleboston.org/event/advanced-shtok-shraybt-vayter-virtual-5/
LOCATION:Virtual
CATEGORIES:Yiddish - Classes
END:VEVENT
END:VCALENDAR