BEGIN:VCALENDAR
VERSION:2.0
PRODID:-//Boston Workers Circle - ECPv6.15.20//NONSGML v1.0//EN
CALSCALE:GREGORIAN
METHOD:PUBLISH
X-ORIGINAL-URL:https://circleboston.org
X-WR-CALDESC:Events for Boston Workers Circle
REFRESH-INTERVAL;VALUE=DURATION:PT1H
X-Robots-Tag:noindex
X-PUBLISHED-TTL:PT1H
BEGIN:VTIMEZONE
TZID:America/New_York
BEGIN:DAYLIGHT
TZOFFSETFROM:-0500
TZOFFSETTO:-0400
TZNAME:EDT
DTSTART:20240310T070000
END:DAYLIGHT
BEGIN:STANDARD
TZOFFSETFROM:-0400
TZOFFSETTO:-0500
TZNAME:EST
DTSTART:20241103T060000
END:STANDARD
BEGIN:DAYLIGHT
TZOFFSETFROM:-0500
TZOFFSETTO:-0400
TZNAME:EDT
DTSTART:20250309T070000
END:DAYLIGHT
BEGIN:STANDARD
TZOFFSETFROM:-0400
TZOFFSETTO:-0500
TZNAME:EST
DTSTART:20251102T060000
END:STANDARD
BEGIN:DAYLIGHT
TZOFFSETFROM:-0500
TZOFFSETTO:-0400
TZNAME:EDT
DTSTART:20260308T070000
END:DAYLIGHT
BEGIN:STANDARD
TZOFFSETFROM:-0400
TZOFFSETTO:-0500
TZNAME:EST
DTSTART:20261101T060000
END:STANDARD
END:VTIMEZONE
BEGIN:VEVENT
DTSTART;TZID=America/New_York:20251111T160000
DTEND;TZID=America/New_York:20251111T190000
DTSTAMP:20260420T110159
CREATED:20251023T145610Z
LAST-MODIFIED:20251111T194142Z
UID:10003450-1762876800-1762887600@circleboston.org
SUMMARY:CANCELED farbreng:boston--kokhn mit Ozzy un Ariel
DESCRIPTION:פֿאַרברענג:באָסטאָן ־ קאָכן מיט עזריאל און אריאלדימסטיק\, דעם 11טן נאָװעמבער\, 4:00 באָסטאָנער אַרבעטער־רינג בנין\, 6 װעבשטער גאַס\, ברוקלײַן \nלאָמיר קאָכן אַ ייִדישן מאכל צוזאַמען! אין דער פּראָגראַם\, װעלן עזריאל (אַזי) גאָלד־שאַפּיראָ און אריאל שאַפּיראָ אונדז לערנען אַ רעצעפּט פֿאַר קרעפּלעך\, און מיר װעלן קאָכן אַ זופּ צוזאַמען. די גאַנכע פּראָגראַם צעט זײַן אויף ייִדיש\, און מיר װעלן האָבן געלעגנהײטן צו פֿאַרברענגען\, שמועסן\, און אפֿשר זינגען אַ פּאָר לידער \nדי פּראָגראַם איז אַ צוזאַמען־אַרבעט פֿונעם באָסטאָנער אַרבעטער־רינג און פֿאַרברענג:באָסטאָן\, אַ יוגנטרוף־פּראָיעקט װאָס שאַפֿט געלעגנהײטן צו רעדן און פֿאַרברענגען אויף ייִדיש פּנים־אל־פּנים אַ גאַנץ קײַלעכדיק יאָר \nfarbreng:boston – kokhn mit Ozzy un Arieldinstik\, dem 11tn november\, 4:00bostoner arbeter-ring binyen\, 6 Webster gas\, Brookline \nLomir kokhn a yidishn maykhl tsuzamen! In der program\, veln Ozzy Gold-Shapiro un Ariel Shapiro undz lernen a retsept far kreplakh\, un mir veln kokhn a zup tsuzamen. Di gantse program vet zayn af yidish\, un mir veln hobn gelegnheytn tsu farbrengen\, shmuesn\, un efsher zingen a por lider. \nDi program kumt for dinstik dem 11tn november 4:00 in bostoner arbeter-ring binyen\, 6 Webster gas in Brookline. Zayt azoy gut un farshraybt zikh tomer hot ir bedeye tsu kumen\, kdey mir zoln visn vifl ingredentn tsu brengen. \nFarbreng:boston is a Yiddish-language immersion program where we gather together informally to speak in Yiddish. For most of our community members\, if we want a Yiddish-speaking environment\, we have to proactively create one—so that’s what we’re doing! Here are some guidelines for being part of a language-immersion activity. \nAsking how to say something? Perfectly fine; we do this all the time. Tossing in a short English word or phrase—especially an idiom or quote—while keeping the conversation in Yiddish? Common among American Yiddish speakers and also perfectly fine. However\, we ask participants to avoid telling anecdotes or otherwise speaking in English for an extended period of time. Conversing in English disrupts the Yiddish-language environment\, and it takes away learning opportunities for students. Yiddish speakers and students at all levels are welcome at farbreng. It’s normal to feel nervous about your Yiddish\, but we applaud and encourage all students and speakers to use Yiddish. If you have any questions about the program\, please write to us at farbreng-boston@yugntruf.orgRegister here.
URL:https://circleboston.org/event/farbrengboston-kokhn-mit-ozzy-un-ariel/
LOCATION:BWC Building
CATEGORIES:Yiddish - Special Events
END:VEVENT
BEGIN:VEVENT
DTSTART;TZID=America/New_York:20251111T190000
DTEND;TZID=America/New_York:20251111T203000
DTSTAMP:20260420T110159
CREATED:20250805T185318Z
LAST-MODIFIED:20251111T185715Z
UID:10003278-1762887600-1762893000@circleboston.org
SUMMARY:Intermediate Yiddish: Virtual
DESCRIPTION:Build confidence in your Yiddish – reading\, speaking\, and listening\, in a supportive and welcoming classroom of intermediate Yiddish students. We’ll focus on building reading fluency\, comprehension strategies\, dictionary skills\, and making meaning from texts while enjoying selections from the canon of Yiddish literature. In this class\, you will find abundant opportunities to stretch and grow your Yiddish. We’ll read slowly\, translate continuously\, and look up every unfamiliar word as we read (in Yiddish) and discuss (in English and Yiddish) literature together. \nLearn more and register here.
URL:https://circleboston.org/event/intermediate-yiddish-virtual-4/
LOCATION:Virtual
CATEGORIES:Yiddish - Classes
END:VEVENT
BEGIN:VEVENT
DTSTART;TZID=America/New_York:20251111T190000
DTEND;TZID=America/New_York:20251111T210000
DTSTAMP:20260420T110159
CREATED:20251104T192252Z
LAST-MODIFIED:20251111T201213Z
UID:10003463-1762887600-1762894800@circleboston.org
SUMMARY:Gragger Team Meeting (all call)
DESCRIPTION:We’re having our first all-call Gragger meeting for the coming 2026 Gragger planning season! Please make sure to RSVP here at the team sign up form if you haven’t already: https://forms.gle/y6HhZCtdxkjuLhH98. Fill out the theme poll by 11/7! https://forms.gle/g1znpVdvfwaE3tow6
URL:https://circleboston.org/event/gragger-team-meeting-all-call/
LOCATION:BWC Building
CATEGORIES:General Events
END:VEVENT
END:VCALENDAR