BEGIN:VCALENDAR
VERSION:2.0
PRODID:-//Boston Workers Circle - ECPv6.15.20//NONSGML v1.0//EN
CALSCALE:GREGORIAN
METHOD:PUBLISH
X-ORIGINAL-URL:https://circleboston.org
X-WR-CALDESC:Events for Boston Workers Circle
REFRESH-INTERVAL;VALUE=DURATION:PT1H
X-Robots-Tag:noindex
X-PUBLISHED-TTL:PT1H
BEGIN:VTIMEZONE
TZID:America/New_York
BEGIN:DAYLIGHT
TZOFFSETFROM:-0500
TZOFFSETTO:-0400
TZNAME:EDT
DTSTART:20240310T070000
END:DAYLIGHT
BEGIN:STANDARD
TZOFFSETFROM:-0400
TZOFFSETTO:-0500
TZNAME:EST
DTSTART:20241103T060000
END:STANDARD
BEGIN:DAYLIGHT
TZOFFSETFROM:-0500
TZOFFSETTO:-0400
TZNAME:EDT
DTSTART:20250309T070000
END:DAYLIGHT
BEGIN:STANDARD
TZOFFSETFROM:-0400
TZOFFSETTO:-0500
TZNAME:EST
DTSTART:20251102T060000
END:STANDARD
BEGIN:DAYLIGHT
TZOFFSETFROM:-0500
TZOFFSETTO:-0400
TZNAME:EDT
DTSTART:20260308T070000
END:DAYLIGHT
BEGIN:STANDARD
TZOFFSETFROM:-0400
TZOFFSETTO:-0500
TZNAME:EST
DTSTART:20261101T060000
END:STANDARD
END:VTIMEZONE
BEGIN:VEVENT
DTSTART;TZID=America/New_York:20251005T103000
DTEND;TZID=America/New_York:20251005T123000
DTSTAMP:20260422T123634
CREATED:20250619T180634Z
LAST-MODIFIED:20251004T192659Z
UID:10003194-1759660200-1759667400@circleboston.org
SUMMARY:Shule Session 4 | All Parent Assembly | Sukes | BWC Committee Fair
DESCRIPTION:
URL:https://circleboston.org/event/shule-session-4-all-parent-assembly-sukes-bwc-committee-fair/
CATEGORIES:Shule
END:VEVENT
BEGIN:VEVENT
DTSTART;TZID=America/New_York:20251005T103000
DTEND;TZID=America/New_York:20251005T123000
DTSTAMP:20260422T123634
CREATED:20250915T162038Z
LAST-MODIFIED:20251004T202716Z
UID:10003364-1759660200-1759667400@circleboston.org
SUMMARY:POSTPONED TASC Session 2
DESCRIPTION:Teens Acting for Social Change (TASC) is back! Through our year-long TASC program\, teens ages 13-18 will build community with each other\, grow as social justice organizers and activists\, engage in the broader Boston social justice community\, and deepen their understanding of the connections between being Jewish and acting for social change. \nThis year TASC will meet for 16 sessions between September-May on Sundays in conjunction with Shule. Register here: https://circleboston.tfaforms.net/93
URL:https://circleboston.org/event/tasc-session-2-2/
LOCATION:BWC Building
CATEGORIES:Teens Acting for Social Change
END:VEVENT
BEGIN:VEVENT
DTSTART;TZID=America/New_York:20251005T104500
DTEND;TZID=America/New_York:20251005T121500
DTSTAMP:20260422T123634
CREATED:20250904T161952Z
LAST-MODIFIED:20251004T192659Z
UID:10003318-1759661100-1759666500@circleboston.org
SUMMARY:Circle Playtime
DESCRIPTION:
URL:https://circleboston.org/event/circle-playtime-20/
CATEGORIES:Shule
END:VEVENT
BEGIN:VEVENT
DTSTART;TZID=America/New_York:20251005T110000
DTEND;TZID=America/New_York:20251005T130000
DTSTAMP:20260422T123634
CREATED:20250916T181447Z
LAST-MODIFIED:20251004T192708Z
UID:10003404-1759662000-1759669200@circleboston.org
SUMMARY:New Member Welcome
DESCRIPTION:The Membership Committee is excited to host an event where you can ask questions\, learn about ways to get involved at BWC\, and boost our ever-growing\, and ever more necessary\, secular Jewish community. This event is open to all ages\, and we would love to welcome new members who are unsure where to start and those who are considering joining! \nRegister here!
URL:https://circleboston.org/event/new-member-welcome/
LOCATION:Brookline
END:VEVENT
BEGIN:VEVENT
DTSTART;TZID=America/New_York:20251005T150000
DTEND;TZID=America/New_York:20251005T173000
DTSTAMP:20260422T123634
CREATED:20250918T161611Z
LAST-MODIFIED:20251005T211215Z
UID:10003412-1759676400-1759685400@circleboston.org
SUMMARY:ABV Open Rehearsal
DESCRIPTION:
URL:https://circleboston.org/event/abv-open-rehearsal-2/
LOCATION:Temple Beth Zion\, 1566 Beacon St\, Brookline\, MA\, United States
CATEGORIES:A Besere Velt
GEO:42.339396;-71.132752
X-APPLE-STRUCTURED-LOCATION;VALUE=URI;X-ADDRESS=Temple Beth Zion 1566 Beacon St Brookline MA United States;X-APPLE-RADIUS=500;X-TITLE=1566 Beacon St:geo:-71.132752,42.339396
END:VEVENT
END:VCALENDAR