BEGIN:VCALENDAR
VERSION:2.0
PRODID:-//Boston Workers Circle - ECPv6.15.20//NONSGML v1.0//EN
CALSCALE:GREGORIAN
METHOD:PUBLISH
X-WR-CALNAME:Boston Workers Circle
X-ORIGINAL-URL:https://circleboston.org
X-WR-CALDESC:Events for Boston Workers Circle
REFRESH-INTERVAL;VALUE=DURATION:PT1H
X-Robots-Tag:noindex
X-PUBLISHED-TTL:PT1H
BEGIN:VTIMEZONE
TZID:America/New_York
BEGIN:DAYLIGHT
TZOFFSETFROM:-0500
TZOFFSETTO:-0400
TZNAME:EDT
DTSTART:20240310T070000
END:DAYLIGHT
BEGIN:STANDARD
TZOFFSETFROM:-0400
TZOFFSETTO:-0500
TZNAME:EST
DTSTART:20241103T060000
END:STANDARD
BEGIN:DAYLIGHT
TZOFFSETFROM:-0500
TZOFFSETTO:-0400
TZNAME:EDT
DTSTART:20250309T070000
END:DAYLIGHT
BEGIN:STANDARD
TZOFFSETFROM:-0400
TZOFFSETTO:-0500
TZNAME:EST
DTSTART:20251102T060000
END:STANDARD
BEGIN:DAYLIGHT
TZOFFSETFROM:-0500
TZOFFSETTO:-0400
TZNAME:EDT
DTSTART:20260308T070000
END:DAYLIGHT
BEGIN:STANDARD
TZOFFSETFROM:-0400
TZOFFSETTO:-0500
TZNAME:EST
DTSTART:20261101T060000
END:STANDARD
END:VTIMEZONE
BEGIN:VEVENT
DTSTART;TZID=America/New_York:20250914T103000
DTEND;TZID=America/New_York:20250914T120000
DTSTAMP:20260422T145936
CREATED:20250825T141318Z
LAST-MODIFIED:20250913T191158Z
UID:10003308-1757845800-1757851200@circleboston.org
SUMMARY:Circle Book Group
DESCRIPTION:This is an open group that welcomes all readers interested in expanding their understanding of the wide variety of Jewish experiences throughout history and across the world.  \nSeptember’s book selection is The Golem and the Jinni\, a novel by Helene Wecker. \nThe Book Group page lists titles discussed previously. Scroll down to see the list at this link.  \nTo be added to the Book Group listserv or if you have questions or want to attend via Zoom\, email BookGroup@circleboston.org.
URL:https://circleboston.org/event/circle-book-group-23/
LOCATION:Zoom
CATEGORIES:Circle Book Group
END:VEVENT
BEGIN:VEVENT
DTSTART;TZID=America/New_York:20250914T103000
DTEND;TZID=America/New_York:20250914T123000
DTSTAMP:20260422T145936
CREATED:20250619T180633Z
LAST-MODIFIED:20250913T185644Z
UID:10003192-1757845800-1757853000@circleboston.org
SUMMARY:Session 2 | Zayen Parent Kick-off Meeting
DESCRIPTION:
URL:https://circleboston.org/event/session-2-zayen-parent-kick-off-meeting/
CATEGORIES:Shule
END:VEVENT
BEGIN:VEVENT
DTSTART;TZID=America/New_York:20250914T104500
DTEND;TZID=America/New_York:20250914T121500
DTSTAMP:20260422T145936
CREATED:20250502T195223Z
LAST-MODIFIED:20250913T185644Z
UID:10002991-1757846700-1757852100@circleboston.org
SUMMARY:Kumzits: Building BWC's Intergenerational community: A social
DESCRIPTION:Calling all Shule parents and Aging In Community Planning Committee members to join for a potluck and social time to build community between Shule parents and BWC’s older members. Together we will nosh\, schmooze\, and have informal discussion to share across generational experiences. This gathering is convened as a collaboration between The Aging in Community Planning Committee\, which gathers the voices of BWC’s older members to create a community that can sustain and nourish them as they age\, providing opportunities for learning\, support and activism\, and is co-hosted with Shule Kumzits\, a group of Shule parents who meet during Shule time for peer-to-peer learning events and connection.
URL:https://circleboston.org/event/kumzits-building-bwcs-intergenerational-community-a-social/
LOCATION:Shule
CATEGORIES:Shule
END:VEVENT
BEGIN:VEVENT
DTSTART;TZID=America/New_York:20250914T104500
DTEND;TZID=America/New_York:20250914T121500
DTSTAMP:20260422T145936
CREATED:20250904T161951Z
LAST-MODIFIED:20250913T185644Z
UID:10003316-1757846700-1757852100@circleboston.org
SUMMARY:Circle Playtime
DESCRIPTION:
URL:https://circleboston.org/event/circle-playtime-19/
CATEGORIES:Shule
END:VEVENT
END:VCALENDAR