BEGIN:VCALENDAR
VERSION:2.0
PRODID:-//Boston Workers Circle - ECPv6.15.20//NONSGML v1.0//EN
CALSCALE:GREGORIAN
METHOD:PUBLISH
X-ORIGINAL-URL:https://circleboston.org
X-WR-CALDESC:Events for Boston Workers Circle
REFRESH-INTERVAL;VALUE=DURATION:PT1H
X-Robots-Tag:noindex
X-PUBLISHED-TTL:PT1H
BEGIN:VTIMEZONE
TZID:America/New_York
BEGIN:DAYLIGHT
TZOFFSETFROM:-0500
TZOFFSETTO:-0400
TZNAME:EDT
DTSTART:20240310T070000
END:DAYLIGHT
BEGIN:STANDARD
TZOFFSETFROM:-0400
TZOFFSETTO:-0500
TZNAME:EST
DTSTART:20241103T060000
END:STANDARD
BEGIN:DAYLIGHT
TZOFFSETFROM:-0500
TZOFFSETTO:-0400
TZNAME:EDT
DTSTART:20250309T070000
END:DAYLIGHT
BEGIN:STANDARD
TZOFFSETFROM:-0400
TZOFFSETTO:-0500
TZNAME:EST
DTSTART:20251102T060000
END:STANDARD
BEGIN:DAYLIGHT
TZOFFSETFROM:-0500
TZOFFSETTO:-0400
TZNAME:EDT
DTSTART:20260308T070000
END:DAYLIGHT
BEGIN:STANDARD
TZOFFSETFROM:-0400
TZOFFSETTO:-0500
TZNAME:EST
DTSTART:20261101T060000
END:STANDARD
END:VTIMEZONE
BEGIN:VEVENT
DTSTART;TZID=America/New_York:20250910T173000
DTEND;TZID=America/New_York:20250910T180000
DTSTAMP:20260420T123924
CREATED:20250220T190151Z
LAST-MODIFIED:20250910T205743Z
UID:10002802-1757525400-1757527200@circleboston.org
SUMMARY:Immigrant Justice Committee Meeting
DESCRIPTION:Get Involved To get involved or for more information\, join the Immigrant Justice Committee on the second Wednesday of the month on Zoom at 5:30 PM.\n\n\n\n\nEmail ijc@circleboston.org to receive the Zoom link for the meeting.
URL:https://circleboston.org/event/immigrant-justice-committee-meeting-41/
LOCATION:Zoom
CATEGORIES:Immigrant Justice Committee
END:VEVENT
BEGIN:VEVENT
DTSTART;TZID=America/New_York:20250910T180000
DTEND;TZID=America/New_York:20250910T190000
DTSTAMP:20260420T123924
CREATED:20250417T205055Z
LAST-MODIFIED:20250910T191144Z
UID:10002943-1757527200-1757530800@circleboston.org
SUMMARY:canceled: Membership Committee Meeting
DESCRIPTION:Contact Miles Meth at milesmeth@gmail.com for more information\, including the Zoom link.
URL:https://circleboston.org/event/membership-committee-meeting-20/
LOCATION:Zoom
END:VEVENT
BEGIN:VEVENT
DTSTART;TZID=America/New_York:20250910T193000
DTEND;TZID=America/New_York:20250910T210000
DTSTAMP:20260420T123924
CREATED:20250725T142636Z
LAST-MODIFIED:20250910T211158Z
UID:10003245-1757532600-1757538000@circleboston.org
SUMMARY:Yiddish Songs of Labor\, Protest and Bundists: A Taste Of Yiddish Class with Jonah Sidman
DESCRIPTION:Whether you already know some Yiddish or not\, this is a chance to immerse yourself in Yiddish language\, culture\, and history through the rich musical tradition of Jewish class struggle! Students of music\, history and Yiddish will enjoy this class. Each class\, students will study Yiddish songs with the aid of written lyrics in English transliteration\, discuss historical and cultural context of each one and then sing together. With chants against the police state\, a socialist murder ballad\, lullabies\, and more\, we will have plenty to discuss. We will also spend some time on pronunciation and relevant vocabulary so as to enrich the experience of both students and fans of the Yiddish language. \nRegister here.
URL:https://circleboston.org/event/yiddish-songs-of-labor-protest-and-bundists-a-taste-of-yiddish-class-with-jonah-sidman/
LOCATION:BWC Building
CATEGORIES:Yiddish - Classes
END:VEVENT
END:VCALENDAR