BEGIN:VCALENDAR
VERSION:2.0
PRODID:-//Boston Workers Circle - ECPv6.15.20//NONSGML v1.0//EN
CALSCALE:GREGORIAN
METHOD:PUBLISH
X-ORIGINAL-URL:https://circleboston.org
X-WR-CALDESC:Events for Boston Workers Circle
REFRESH-INTERVAL;VALUE=DURATION:PT1H
X-Robots-Tag:noindex
X-PUBLISHED-TTL:PT1H
BEGIN:VTIMEZONE
TZID:America/New_York
BEGIN:DAYLIGHT
TZOFFSETFROM:-0500
TZOFFSETTO:-0400
TZNAME:EDT
DTSTART:20240310T070000
END:DAYLIGHT
BEGIN:STANDARD
TZOFFSETFROM:-0400
TZOFFSETTO:-0500
TZNAME:EST
DTSTART:20241103T060000
END:STANDARD
BEGIN:DAYLIGHT
TZOFFSETFROM:-0500
TZOFFSETTO:-0400
TZNAME:EDT
DTSTART:20250309T070000
END:DAYLIGHT
BEGIN:STANDARD
TZOFFSETFROM:-0400
TZOFFSETTO:-0500
TZNAME:EST
DTSTART:20251102T060000
END:STANDARD
BEGIN:DAYLIGHT
TZOFFSETFROM:-0500
TZOFFSETTO:-0400
TZNAME:EDT
DTSTART:20260308T070000
END:DAYLIGHT
BEGIN:STANDARD
TZOFFSETFROM:-0400
TZOFFSETTO:-0500
TZNAME:EST
DTSTART:20261101T060000
END:STANDARD
END:VTIMEZONE
BEGIN:VEVENT
DTSTART;TZID=America/New_York:20250720T103000
DTEND;TZID=America/New_York:20250720T120000
DTSTAMP:20260424T155713
CREATED:20250609T200758Z
LAST-MODIFIED:20250719T221207Z
UID:10003185-1753007400-1753012800@circleboston.org
SUMMARY:Aging in Community (AIC) Committee: Small Group Discussions
DESCRIPTION:Join AIC on July 20 from 10:30am-12pm on Zoom\, as we gather in small groups to connect\, check in\, and provide support. \nZoom link: https://circleboston-org.zoom.us/j/89766496440?pwd=FZWLn5cw0orHajjjsEboAAZpPwhSJD.1 \nFor more information about Aging in Community (AIC) contact co-chairs Dianne Perlmutter and Marsha Lazar via AIC@circleboston.org.
URL:https://circleboston.org/event/aging-in-community-aic-committee-small-group-discussions/
LOCATION:Zoom
CATEGORIES:Aging in Community
END:VEVENT
END:VCALENDAR