BEGIN:VCALENDAR
VERSION:2.0
PRODID:-//Boston Workers Circle - ECPv6.15.20//NONSGML v1.0//EN
CALSCALE:GREGORIAN
METHOD:PUBLISH
X-ORIGINAL-URL:https://circleboston.org
X-WR-CALDESC:Events for Boston Workers Circle
REFRESH-INTERVAL;VALUE=DURATION:PT1H
X-Robots-Tag:noindex
X-PUBLISHED-TTL:PT1H
BEGIN:VTIMEZONE
TZID:America/New_York
BEGIN:DAYLIGHT
TZOFFSETFROM:-0500
TZOFFSETTO:-0400
TZNAME:EDT
DTSTART:20240310T070000
END:DAYLIGHT
BEGIN:STANDARD
TZOFFSETFROM:-0400
TZOFFSETTO:-0500
TZNAME:EST
DTSTART:20241103T060000
END:STANDARD
BEGIN:DAYLIGHT
TZOFFSETFROM:-0500
TZOFFSETTO:-0400
TZNAME:EDT
DTSTART:20250309T070000
END:DAYLIGHT
BEGIN:STANDARD
TZOFFSETFROM:-0400
TZOFFSETTO:-0500
TZNAME:EST
DTSTART:20251102T060000
END:STANDARD
BEGIN:DAYLIGHT
TZOFFSETFROM:-0500
TZOFFSETTO:-0400
TZNAME:EDT
DTSTART:20260308T070000
END:DAYLIGHT
BEGIN:STANDARD
TZOFFSETFROM:-0400
TZOFFSETTO:-0500
TZNAME:EST
DTSTART:20261101T060000
END:STANDARD
END:VTIMEZONE
BEGIN:VEVENT
DTSTART;VALUE=DATE:20250711
DTEND;VALUE=DATE:20250714
DTSTAMP:20260424T173251
CREATED:20250210T164248Z
LAST-MODIFIED:20250713T182134Z
UID:10002776-1752192000-1752451199@circleboston.org
SUMMARY:BWC World Fellowship Gathering
DESCRIPTION:Join BWC members for an intergenerational member getaway at World Fellowship\, a New Hampshire retreat center. Choose from a range of accommodations from tent sites to cabins to rooms upstairs in the main lodge. Families can enjoy childcare\, prepared meals\, a Friday night talent show\, a Saturday night bonfire\, and live music.  Beautiful Whitten Pond is a 1/4 mile walk through the woods for boating and swimming in a quiet place with wild blueberries and great views. It’s a treasure! Spend a weekend taking local adventures all in the comfort of a center whose tagline is wake up where Social Justice meets Nature. \nMake your reservation on the retreat center’s website here\, and note you are part of the BWC group. \nIf you have any questions contact Shule parent\, Leah Madsen at leahmadsen@gmail.com or 617-792-7529.
URL:https://circleboston.org/event/bwc-world-fellowship-gathering/
LOCATION:World Fellowship Center\, Conway\, NH\, United States
CATEGORIES:Shule
GEO:43.98132;-71.12722
END:VEVENT
END:VCALENDAR