BEGIN:VCALENDAR
VERSION:2.0
PRODID:-//Boston Workers Circle - ECPv6.15.20//NONSGML v1.0//EN
CALSCALE:GREGORIAN
METHOD:PUBLISH
X-WR-CALNAME:Boston Workers Circle
X-ORIGINAL-URL:https://circleboston.org
X-WR-CALDESC:Events for Boston Workers Circle
REFRESH-INTERVAL;VALUE=DURATION:PT1H
X-Robots-Tag:noindex
X-PUBLISHED-TTL:PT1H
BEGIN:VTIMEZONE
TZID:America/New_York
BEGIN:DAYLIGHT
TZOFFSETFROM:-0500
TZOFFSETTO:-0400
TZNAME:EDT
DTSTART:20240310T070000
END:DAYLIGHT
BEGIN:STANDARD
TZOFFSETFROM:-0400
TZOFFSETTO:-0500
TZNAME:EST
DTSTART:20241103T060000
END:STANDARD
BEGIN:DAYLIGHT
TZOFFSETFROM:-0500
TZOFFSETTO:-0400
TZNAME:EDT
DTSTART:20250309T070000
END:DAYLIGHT
BEGIN:STANDARD
TZOFFSETFROM:-0400
TZOFFSETTO:-0500
TZNAME:EST
DTSTART:20251102T060000
END:STANDARD
BEGIN:DAYLIGHT
TZOFFSETFROM:-0500
TZOFFSETTO:-0400
TZNAME:EDT
DTSTART:20260308T070000
END:DAYLIGHT
BEGIN:STANDARD
TZOFFSETFROM:-0400
TZOFFSETTO:-0500
TZNAME:EST
DTSTART:20261101T060000
END:STANDARD
END:VTIMEZONE
BEGIN:VEVENT
DTSTART;TZID=America/New_York:20250608T103000
DTEND;TZID=America/New_York:20250608T120000
DTSTAMP:20260424T173045
CREATED:20250523T212134Z
LAST-MODIFIED:20250607T220744Z
UID:10003171-1749378600-1749384000@circleboston.org
SUMMARY:BWC Sunday School (Shule) Open House
DESCRIPTION:We are excited to welcome prospective families to come and see what our vibrant secular\, culturally Jewish and Social Justice focused community is about. \nYou are invited to come to our Shule (Yiddish for Secular Sunday School) Open House for families with children ages 2 -12 years old to come learn about our project based\, secular Jewish Cultural Sunday School. We’ll gather together informally with current families\, BWC members\, and the Education Director. We’ll take some time to share stories about how people found their way to the community\, offer curricular highlights and answer questions. There will also be a chance for kids to eat and get a taste of Shule activities. \nPlease RSVP HERE so we can be sure to welcome your family and plan for supplies.
URL:https://circleboston.org/event/bwc-sunday-school-shule-open-house/
LOCATION:Lexington Playground\, Somerville
CATEGORIES:Shule
END:VEVENT
BEGIN:VEVENT
DTSTART;TZID=America/New_York:20250608T140000
DTEND;TZID=America/New_York:20250608T153000
DTSTAMP:20260424T173045
CREATED:20250507T195421Z
LAST-MODIFIED:20250607T223648Z
UID:10003153-1749391200-1749396600@circleboston.org
SUMMARY:Adult Ed Course: Introduction to Jewish Herbalism
DESCRIPTION:Adult Education Spring 2025 Course:Join ethnoherbalist\, plant historian\, and educator Naomi Spector for a three-part introduction to Jewish Herbalism. Students will have the chance to learn about and get practical experience with amulets\, honey elixirs\, and infused oils. \nMore info here.Register here.
URL:https://circleboston.org/event/adult-ed-course-introduction-to-jewish-herbalism/
LOCATION:BWC Building
CATEGORIES:Adult Education
END:VEVENT
END:VCALENDAR