BEGIN:VCALENDAR
VERSION:2.0
PRODID:-//Boston Workers Circle - ECPv6.15.20//NONSGML v1.0//EN
CALSCALE:GREGORIAN
METHOD:PUBLISH
X-WR-CALNAME:Boston Workers Circle
X-ORIGINAL-URL:https://circleboston.org
X-WR-CALDESC:Events for Boston Workers Circle
REFRESH-INTERVAL;VALUE=DURATION:PT1H
X-Robots-Tag:noindex
X-PUBLISHED-TTL:PT1H
BEGIN:VTIMEZONE
TZID:America/New_York
BEGIN:DAYLIGHT
TZOFFSETFROM:-0500
TZOFFSETTO:-0400
TZNAME:EDT
DTSTART:20240310T070000
END:DAYLIGHT
BEGIN:STANDARD
TZOFFSETFROM:-0400
TZOFFSETTO:-0500
TZNAME:EST
DTSTART:20241103T060000
END:STANDARD
BEGIN:DAYLIGHT
TZOFFSETFROM:-0500
TZOFFSETTO:-0400
TZNAME:EDT
DTSTART:20250309T070000
END:DAYLIGHT
BEGIN:STANDARD
TZOFFSETFROM:-0400
TZOFFSETTO:-0500
TZNAME:EST
DTSTART:20251102T060000
END:STANDARD
BEGIN:DAYLIGHT
TZOFFSETFROM:-0500
TZOFFSETTO:-0400
TZNAME:EDT
DTSTART:20260308T070000
END:DAYLIGHT
BEGIN:STANDARD
TZOFFSETFROM:-0400
TZOFFSETTO:-0500
TZNAME:EST
DTSTART:20261101T060000
END:STANDARD
END:VTIMEZONE
BEGIN:VEVENT
DTSTART;TZID=America/New_York:20250204T190000
DTEND;TZID=America/New_York:20250204T210000
DTSTAMP:20260420T101130
CREATED:20250122T215150Z
LAST-MODIFIED:20250124T210021Z
UID:10002768-1738695600-1738702800@circleboston.org
SUMMARY:A Conversation with Authors Shane Burley and Ben Lorber
DESCRIPTION:Join BWC\, Nehar Shalom\, Pushcart Judaica\, and Kavod Boston for a book talk with Shane Burley and Ben Lorber. \nTwo activist journalists present a progressive\, intersectional approach to the vital question: What can we do about antisemitism? \n\nAntisemitism is a central issue of our time. Under the new Trump administration\, white Christian nationalism is stronger than ever\, and its culture of authoritarianism\, conspiracism\, division and fear puts Jews along with all other marginalized groups at risk. \n\nAnd since October 7\, debates around antisemitism have become more polarized and high-stakes than ever. How can we stand in solidarity with Palestinians seeking justice\, while also avoiding antisemitism — and resisting those who seek to conflate the two? How do we forge the coalitions across communities that we need\, in order to confront the shared threats we face and build towards a better future? \n\nUsing personal stories\, historical deep-dives\, front-line reporting\, and interviews with leading change-makers\, Burley and Lorber help us break the current impasse to understand how antisemitism works\, what’s missing in contemporary debates\, and how to build true safety through solidarity\, for Jews and all people. \n\nShane Burley is the author of several books on the far-right and social movements\, and has contributed to outlets such as NBC News\, Jewish Currents\, Al Jazeera\, The Baffler\, The Daily Beast\, Haaretz\, In These Times\, Yes! Magazine\, Tikkun\, and The Oregon Historical Quarterly. \n\nBen Lorber is Senior Research Analyst at Political Research Associates\, a social movement think tank\, where he studies and publishes on antisemitism and white Christian nationalism.
URL:https://circleboston.org/event/a-conversation-with-authors-shane-burley-and-ben-lorber/
LOCATION:Nehar Shalom Community Synagogue\, 6 Eliot St\, Jamaica Plain\, MA\, United States
CATEGORIES:General Events
GEO:42.311029;-71.116856
X-APPLE-STRUCTURED-LOCATION;VALUE=URI;X-ADDRESS=Nehar Shalom Community Synagogue 6 Eliot St Jamaica Plain MA United States;X-APPLE-RADIUS=500;X-TITLE=6 Eliot St:geo:-71.116856,42.311029
END:VEVENT
END:VCALENDAR