BEGIN:VCALENDAR
VERSION:2.0
PRODID:-//Boston Workers Circle - ECPv6.15.20//NONSGML v1.0//EN
CALSCALE:GREGORIAN
METHOD:PUBLISH
X-ORIGINAL-URL:https://circleboston.org
X-WR-CALDESC:Events for Boston Workers Circle
REFRESH-INTERVAL;VALUE=DURATION:PT1H
X-Robots-Tag:noindex
X-PUBLISHED-TTL:PT1H
BEGIN:VTIMEZONE
TZID:America/New_York
BEGIN:DAYLIGHT
TZOFFSETFROM:-0500
TZOFFSETTO:-0400
TZNAME:EDT
DTSTART:20230312T070000
END:DAYLIGHT
BEGIN:STANDARD
TZOFFSETFROM:-0400
TZOFFSETTO:-0500
TZNAME:EST
DTSTART:20231105T060000
END:STANDARD
BEGIN:DAYLIGHT
TZOFFSETFROM:-0500
TZOFFSETTO:-0400
TZNAME:EDT
DTSTART:20240310T070000
END:DAYLIGHT
BEGIN:STANDARD
TZOFFSETFROM:-0400
TZOFFSETTO:-0500
TZNAME:EST
DTSTART:20241103T060000
END:STANDARD
BEGIN:DAYLIGHT
TZOFFSETFROM:-0500
TZOFFSETTO:-0400
TZNAME:EDT
DTSTART:20250309T070000
END:DAYLIGHT
BEGIN:STANDARD
TZOFFSETFROM:-0400
TZOFFSETTO:-0500
TZNAME:EST
DTSTART:20251102T060000
END:STANDARD
END:VTIMEZONE
BEGIN:VEVENT
DTSTART;TZID=America/New_York:20241116T140000
DTEND;TZID=America/New_York:20241116T160000
DTSTAMP:20260423T082725
CREATED:20241112T160603Z
LAST-MODIFIED:20241113T213447Z
UID:10002507-1731765600-1731772800@circleboston.org
SUMMARY:Family-Friendly Zingeray
DESCRIPTION:Lomir zingen tsuzamen! Let’s sing together! At this informal zingeray (song circle)\, we’ll sing songs in Yiddish with a focus on songs for children. All are welcome\, though this zingeray is especially geared towards families with young children. We’ll sing in Yiddish\, but the program will be primarily conducted in English. Some exposure to Yiddish is recommended\, but not required\, and you don’t have to be a fluent speaker to take part. Come share a song\, or join us to sing along! \nWe’ll meet at Julia and Erina’s place in Somerville. Please register to attend this program–we will email the address to participants the day before the event. \nRegister here.
URL:https://circleboston.org/event/family-friendly-zingeray/
CATEGORIES:Yiddish - Ongoing Programming
END:VEVENT
END:VCALENDAR