BEGIN:VCALENDAR
VERSION:2.0
PRODID:-//Boston Workers Circle - ECPv6.15.20//NONSGML v1.0//EN
CALSCALE:GREGORIAN
METHOD:PUBLISH
X-WR-CALNAME:Boston Workers Circle
X-ORIGINAL-URL:https://circleboston.org
X-WR-CALDESC:Events for Boston Workers Circle
REFRESH-INTERVAL;VALUE=DURATION:PT1H
X-Robots-Tag:noindex
X-PUBLISHED-TTL:PT1H
BEGIN:VTIMEZONE
TZID:America/New_York
BEGIN:DAYLIGHT
TZOFFSETFROM:-0500
TZOFFSETTO:-0400
TZNAME:EDT
DTSTART:20230312T070000
END:DAYLIGHT
BEGIN:STANDARD
TZOFFSETFROM:-0400
TZOFFSETTO:-0500
TZNAME:EST
DTSTART:20231105T060000
END:STANDARD
BEGIN:DAYLIGHT
TZOFFSETFROM:-0500
TZOFFSETTO:-0400
TZNAME:EDT
DTSTART:20240310T070000
END:DAYLIGHT
BEGIN:STANDARD
TZOFFSETFROM:-0400
TZOFFSETTO:-0500
TZNAME:EST
DTSTART:20241103T060000
END:STANDARD
BEGIN:DAYLIGHT
TZOFFSETFROM:-0500
TZOFFSETTO:-0400
TZNAME:EDT
DTSTART:20250309T070000
END:DAYLIGHT
BEGIN:STANDARD
TZOFFSETFROM:-0400
TZOFFSETTO:-0500
TZNAME:EST
DTSTART:20251102T060000
END:STANDARD
END:VTIMEZONE
BEGIN:VEVENT
DTSTART;TZID=America/New_York:20241010T190000
DTEND;TZID=America/New_York:20241010T203000
DTSTAMP:20260419T151429
CREATED:20240307T130901Z
LAST-MODIFIED:20240916T194804Z
UID:10001738-1728586800-1728592200@circleboston.org
SUMMARY:Yiddish Vinkl
DESCRIPTION:Somerville Vinkl will be held virtually until it’s safe to meet in person again. This is an opportunity for you to sharpen your Yiddish skills in a comfortable and informal setting\, whatever your level of Yiddish. All are welcome. \nSomerville Vinkl is the second Thursday of every month\, from 7:00-8:30 PM. For questions contact yiddish@circleboston.org.  \nRegister Here.
URL:https://circleboston.org/event/yiddish-vinkl-21/
LOCATION:Zoom
CATEGORIES:Yiddish - Ongoing Programming
END:VEVENT
BEGIN:VEVENT
DTSTART;TZID=America/New_York:20241010T190000
DTEND;TZID=America/New_York:20241010T210000
DTSTAMP:20260419T151429
CREATED:20240930T190734Z
LAST-MODIFIED:20240930T190736Z
UID:10002401-1728586800-1728594000@circleboston.org
SUMMARY:AFREJ: Fight Voter Suppression in Ohio!
DESCRIPTION:Join AFREJ and Jewish Alliance for Law and Social Action (JALSA) organizer\, Rachel Scarpino\, to write postcards to fight voter suppression in Ohio. In 2023\, Ohio passed several outrageous laws which will make voting more difficult this year: e.g.\, creating stricter voter ID policies\, shortening early voting deadlines\, and imposing criminal penalties on anyone who tries to drop off an absentee ballot that does not belong to them.  \nWe’ll be writing to registered voters in key districts who have not voted in the last few elections\, a list also used during a previous JALSA campaign regarding reproductive health legislation in Ohio. JALSA will supply the postcards\, names/addresses of Ohioan voters\, and a sample message\, but please bring your own postage for 24 cards. Rachel will also tell us about JALSA’s other campaigns\, including canvassing for One Fair Wage in MA. \nThis event will take place at BWC’s Office at 6 Webster Street in Brookline from 7:00 – 9:00pm. Registration is required.
URL:https://circleboston.org/event/afrej-fight-voter-suppression-in-ohio/
LOCATION:6 Webster St\, Brookline\, MA\, United States
CATEGORIES:AFREJ
GEO:42.343097;-71.123046
END:VEVENT
END:VCALENDAR