BEGIN:VCALENDAR
VERSION:2.0
PRODID:-//Boston Workers Circle - ECPv6.15.20//NONSGML v1.0//EN
CALSCALE:GREGORIAN
METHOD:PUBLISH
X-WR-CALNAME:Boston Workers Circle
X-ORIGINAL-URL:https://circleboston.org
X-WR-CALDESC:Events for Boston Workers Circle
REFRESH-INTERVAL;VALUE=DURATION:PT1H
X-Robots-Tag:noindex
X-PUBLISHED-TTL:PT1H
BEGIN:VTIMEZONE
TZID:America/New_York
BEGIN:DAYLIGHT
TZOFFSETFROM:-0500
TZOFFSETTO:-0400
TZNAME:EDT
DTSTART:20230312T070000
END:DAYLIGHT
BEGIN:STANDARD
TZOFFSETFROM:-0400
TZOFFSETTO:-0500
TZNAME:EST
DTSTART:20231105T060000
END:STANDARD
BEGIN:DAYLIGHT
TZOFFSETFROM:-0500
TZOFFSETTO:-0400
TZNAME:EDT
DTSTART:20240310T070000
END:DAYLIGHT
BEGIN:STANDARD
TZOFFSETFROM:-0400
TZOFFSETTO:-0500
TZNAME:EST
DTSTART:20241103T060000
END:STANDARD
BEGIN:DAYLIGHT
TZOFFSETFROM:-0500
TZOFFSETTO:-0400
TZNAME:EDT
DTSTART:20250309T070000
END:DAYLIGHT
BEGIN:STANDARD
TZOFFSETFROM:-0400
TZOFFSETTO:-0500
TZNAME:EST
DTSTART:20251102T060000
END:STANDARD
END:VTIMEZONE
BEGIN:VEVENT
DTSTART;TZID=America/New_York:20240922T103000
DTEND;TZID=America/New_York:20240922T120000
DTSTAMP:20260419T171245
CREATED:20240819T172706Z
LAST-MODIFIED:20240828T163144Z
UID:10002267-1727001000-1727006400@circleboston.org
SUMMARY:Aging in Community Beginning of the Season Gathering
DESCRIPTION:Email Dianne at diannp27@comcast.net for additional details.
URL:https://circleboston.org/event/aging-in-community-beginning-of-the-season-gathering/
LOCATION:Zoom and Offsite Location
CATEGORIES:Aging in Community
END:VEVENT
BEGIN:VEVENT
DTSTART;TZID=America/New_York:20240922T150000
DTEND;TZID=America/New_York:20240922T173000
DTSTAMP:20260419T171245
CREATED:20240912T182809Z
LAST-MODIFIED:20240912T182809Z
UID:10002355-1727017200-1727026200@circleboston.org
SUMMARY:A Besere Velt Yiddish Chorus Open Rehearsals
DESCRIPTION:Check out our vibrant 80-member intergenerational community chorus that weaves the heartache and irrepressible idealism of Yiddish music into a vision of justice for the 21st century.   \nCome sing with us!   \nWe welcome singers of all ages and abilities.  \nNo auditions\, you don’t need to know Yiddish\, and you don’t have to be Jewish. \nFor more information about BWC and for samples of ABV performances check out our website here.   \nEmail ABV@circleboston.org for more information.
URL:https://circleboston.org/event/a-besere-velt-yiddish-chorus-open-rehearsals-3/
LOCATION:Temple Beth Zion\, 1566 Beacon St\, Brookline\, MA\, United States
CATEGORIES:A Besere Velt
GEO:42.339396;-71.132752
X-APPLE-STRUCTURED-LOCATION;VALUE=URI;X-ADDRESS=Temple Beth Zion 1566 Beacon St Brookline MA United States;X-APPLE-RADIUS=500;X-TITLE=1566 Beacon St:geo:-71.132752,42.339396
END:VEVENT
END:VCALENDAR