BEGIN:VCALENDAR
VERSION:2.0
PRODID:-//Boston Workers Circle - ECPv6.15.20//NONSGML v1.0//EN
CALSCALE:GREGORIAN
METHOD:PUBLISH
X-WR-CALNAME:Boston Workers Circle
X-ORIGINAL-URL:https://circleboston.org
X-WR-CALDESC:Events for Boston Workers Circle
REFRESH-INTERVAL;VALUE=DURATION:PT1H
X-Robots-Tag:noindex
X-PUBLISHED-TTL:PT1H
BEGIN:VTIMEZONE
TZID:America/New_York
BEGIN:DAYLIGHT
TZOFFSETFROM:-0500
TZOFFSETTO:-0400
TZNAME:EDT
DTSTART:20230312T070000
END:DAYLIGHT
BEGIN:STANDARD
TZOFFSETFROM:-0400
TZOFFSETTO:-0500
TZNAME:EST
DTSTART:20231105T060000
END:STANDARD
BEGIN:DAYLIGHT
TZOFFSETFROM:-0500
TZOFFSETTO:-0400
TZNAME:EDT
DTSTART:20240310T070000
END:DAYLIGHT
BEGIN:STANDARD
TZOFFSETFROM:-0400
TZOFFSETTO:-0500
TZNAME:EST
DTSTART:20241103T060000
END:STANDARD
BEGIN:DAYLIGHT
TZOFFSETFROM:-0500
TZOFFSETTO:-0400
TZNAME:EDT
DTSTART:20250309T070000
END:DAYLIGHT
BEGIN:STANDARD
TZOFFSETFROM:-0400
TZOFFSETTO:-0500
TZNAME:EST
DTSTART:20251102T060000
END:STANDARD
END:VTIMEZONE
BEGIN:VEVENT
DTSTART;TZID=America/New_York:20240919T190000
DTEND;TZID=America/New_York:20240919T203000
DTSTAMP:20260425T074657
CREATED:20240916T164129Z
LAST-MODIFIED:20240916T164129Z
UID:10002368-1726772400-1726777800@circleboston.org
SUMMARY:Electoral Politics and Left Activism
DESCRIPTION:Many people feel that the stakes of the 2024 election are higher than perhaps they have ever been before. Much of that concern revolves around Project 2025 and recent Supreme Court decisions that have taken away reproductive rights\, challenged climate policy\, and have seemed to affirm Trump’s assertions that a “deep state” is undermining democracy and has to be dismantled. Others feel that electoral politics are not terribly relevant to the ongoing work of social justice grassroots organizing. Still others are withholding their votes or voting for third parties because of the ongoing war on Gaza. Join us for a free-ranging discussion on the relation between electoral politics\, left activism\, and grassroots organizing. \nRegister for this discussion here. 
URL:https://circleboston.org/event/electoral-politics-and-left-activism/
CATEGORIES:AFREJ
END:VEVENT
END:VCALENDAR