BEGIN:VCALENDAR
VERSION:2.0
PRODID:-//Boston Workers Circle - ECPv6.15.20//NONSGML v1.0//EN
CALSCALE:GREGORIAN
METHOD:PUBLISH
X-ORIGINAL-URL:https://circleboston.org
X-WR-CALDESC:Events for Boston Workers Circle
REFRESH-INTERVAL;VALUE=DURATION:PT1H
X-Robots-Tag:noindex
X-PUBLISHED-TTL:PT1H
BEGIN:VTIMEZONE
TZID:America/New_York
BEGIN:DAYLIGHT
TZOFFSETFROM:-0500
TZOFFSETTO:-0400
TZNAME:EDT
DTSTART:20230312T070000
END:DAYLIGHT
BEGIN:STANDARD
TZOFFSETFROM:-0400
TZOFFSETTO:-0500
TZNAME:EST
DTSTART:20231105T060000
END:STANDARD
BEGIN:DAYLIGHT
TZOFFSETFROM:-0500
TZOFFSETTO:-0400
TZNAME:EDT
DTSTART:20240310T070000
END:DAYLIGHT
BEGIN:STANDARD
TZOFFSETFROM:-0400
TZOFFSETTO:-0500
TZNAME:EST
DTSTART:20241103T060000
END:STANDARD
BEGIN:DAYLIGHT
TZOFFSETFROM:-0500
TZOFFSETTO:-0400
TZNAME:EDT
DTSTART:20250309T070000
END:DAYLIGHT
BEGIN:STANDARD
TZOFFSETFROM:-0400
TZOFFSETTO:-0500
TZNAME:EST
DTSTART:20251102T060000
END:STANDARD
END:VTIMEZONE
BEGIN:VEVENT
DTSTART;TZID=America/New_York:20240916T191500
DTEND;TZID=America/New_York:20240916T203000
DTSTAMP:20260419T170733
CREATED:20240828T163214Z
LAST-MODIFIED:20240828T163218Z
UID:10002280-1726514100-1726518600@circleboston.org
SUMMARY:Anti-Racism Study Group
DESCRIPTION:The BWC Anti-racism Study Group meets for 90 minutes every month and currently has a schedule of the third Monday of each month at 7:15 \nThe focus is on reading books\, and learning through reading and discussion. The booklist is divided into three\, somewhat overlapping sections: History\, Black Experience and Working on White supremacy\, White privilege\, and ourselves; Reparations\, activism. \nWe would love to have more people joining us! Members attest to the ever deeper and richer understanding of the struggle for racial equity and justice that has come out of being a part of this group.  New insights and understandings come from every book we’ve read. To be added to the email list  and for the meeting Zoom link\, please email antiracismstudygroup@circleboston.org.  \nYou can find the book list here and the schedule here.
URL:https://circleboston.org/event/anti-racism-study-group-7/
CATEGORIES:Anti-Racism Study Group
END:VEVENT
BEGIN:VEVENT
DTSTART;TZID=America/New_York:20240916T193000
DTEND;TZID=America/New_York:20240916T204500
DTSTAMP:20260419T170733
CREATED:20240808T155827Z
LAST-MODIFIED:20240916T160256Z
UID:10002258-1726515000-1726519500@circleboston.org
SUMMARY:Shmuesklas
DESCRIPTION:Class Description: Have you learned the basics of Yiddish but want to improve your speaking skills? Join us for a Yiddish conversation class! We’ll spend each session talking\, focusing on practical uses of the language and topics of interest to students. Along the way\, we’ll explore grammar and learn new vocabulary.  There will be plenty of time to talk in small groups\, so everyone can practice speaking in a friendly\, low-stress environment. \nLevel Description: This class is geared towards advanced beginner-intermediate Yiddish learners. Students should be familiar with the past\, present\, and future tenses. Students are not required to know the alef-beys. \nCost: $30 for all three classes ($10/class) with pre-registrations and $15 per class at the door.  The payment can be submitted here ( you will also get the link in the confirmation email). No one will be turned away for lack of funds.  \nRegister here.
URL:https://circleboston.org/event/shmuesklas-2/
LOCATION:BWC Building
CATEGORIES:Yiddish - Classes
END:VEVENT
END:VCALENDAR