BEGIN:VCALENDAR
VERSION:2.0
PRODID:-//Boston Workers Circle - ECPv6.15.20//NONSGML v1.0//EN
CALSCALE:GREGORIAN
METHOD:PUBLISH
X-ORIGINAL-URL:https://circleboston.org
X-WR-CALDESC:Events for Boston Workers Circle
REFRESH-INTERVAL;VALUE=DURATION:PT1H
X-Robots-Tag:noindex
X-PUBLISHED-TTL:PT1H
BEGIN:VTIMEZONE
TZID:America/New_York
BEGIN:DAYLIGHT
TZOFFSETFROM:-0500
TZOFFSETTO:-0400
TZNAME:EDT
DTSTART:20230312T070000
END:DAYLIGHT
BEGIN:STANDARD
TZOFFSETFROM:-0400
TZOFFSETTO:-0500
TZNAME:EST
DTSTART:20231105T060000
END:STANDARD
BEGIN:DAYLIGHT
TZOFFSETFROM:-0500
TZOFFSETTO:-0400
TZNAME:EDT
DTSTART:20240310T070000
END:DAYLIGHT
BEGIN:STANDARD
TZOFFSETFROM:-0400
TZOFFSETTO:-0500
TZNAME:EST
DTSTART:20241103T060000
END:STANDARD
BEGIN:DAYLIGHT
TZOFFSETFROM:-0500
TZOFFSETTO:-0400
TZNAME:EDT
DTSTART:20250309T070000
END:DAYLIGHT
BEGIN:STANDARD
TZOFFSETFROM:-0400
TZOFFSETTO:-0500
TZNAME:EST
DTSTART:20251102T060000
END:STANDARD
END:VTIMEZONE
BEGIN:VEVENT
DTSTART;TZID=America/New_York:20240915T101500
DTEND;TZID=America/New_York:20240915T120000
DTSTAMP:20260423T064653
CREATED:20240715T185522Z
LAST-MODIFIED:20240819T172640Z
UID:10002165-1726395300-1726401600@circleboston.org
SUMMARY:Circle Book Group
DESCRIPTION:This is an open group that welcomes all readers interested in expanding their understanding of the wide variety of Jewish experiences throughout history and across the world.  \nSeptember’s book is The Lost: A Search for Six of Six Million by Daniel Mendelsohn \nThe Book Group page lists titles discussed previously. Scroll down to see the list at this link.  \nTo be added to the Book Group listserv or if you have questions or want to attend via Zoom\, email BookGroup@circleboston.org.
URL:https://circleboston.org/event/circle-book-group-7/
CATEGORIES:Circle Book Group
END:VEVENT
BEGIN:VEVENT
DTSTART;TZID=America/New_York:20240915T103000
DTEND;TZID=America/New_York:20240915T123000
DTSTAMP:20260423T064653
CREATED:20240718T180045Z
LAST-MODIFIED:20240912T163425Z
UID:10002168-1726396200-1726403400@circleboston.org
SUMMARY:Shule Session 1 / New Family Orientation
DESCRIPTION:
URL:https://circleboston.org/event/shule-session-1-new-family-orientation-2/
CATEGORIES:Shule
END:VEVENT
BEGIN:VEVENT
DTSTART;TZID=America/New_York:20240915T103000
DTEND;TZID=America/New_York:20240915T123000
DTSTAMP:20260423T064653
CREATED:20240819T172916Z
LAST-MODIFIED:20240819T172917Z
UID:10002270-1726396200-1726403400@circleboston.org
SUMMARY:TASC
DESCRIPTION:Teens Acting for Social Change (TASC) is back! Through our year-long TASC program\, teens ages 13-18 will build community with each other\, grow as social justice organizers and activists\, engage in the broader Boston social justice community\, and deepen their understanding of the connections between being Jewish and acting for social change. \nThis year TASC will meet for 16 sessions between September-May on Sundays in conjunction with Shule. Final calendar to follow! \nTeens Acting for Social Change (TASC) is a group of teens making a difference in our world. TASCers build community\, learn about social justice issues\, and take action. \nTeens run the group with the assistance of an adult coordinator. TASC meets on Sunday mornings during the school year at various Boston locations.  \nTASC is open to Shule graduates and all interested teens in grades 8-12. Contact the coordinator with any questions: elias@circleboston.org. \nREGISTER HERE
URL:https://circleboston.org/event/tasc/
LOCATION:BWC Building
CATEGORIES:Teens Acting for Social Change
END:VEVENT
END:VCALENDAR