BEGIN:VCALENDAR
VERSION:2.0
PRODID:-//Boston Workers Circle - ECPv6.15.20//NONSGML v1.0//EN
CALSCALE:GREGORIAN
METHOD:PUBLISH
X-ORIGINAL-URL:https://circleboston.org
X-WR-CALDESC:Events for Boston Workers Circle
REFRESH-INTERVAL;VALUE=DURATION:PT1H
X-Robots-Tag:noindex
X-PUBLISHED-TTL:PT1H
BEGIN:VTIMEZONE
TZID:America/New_York
BEGIN:DAYLIGHT
TZOFFSETFROM:-0500
TZOFFSETTO:-0400
TZNAME:EDT
DTSTART:20230312T070000
END:DAYLIGHT
BEGIN:STANDARD
TZOFFSETFROM:-0400
TZOFFSETTO:-0500
TZNAME:EST
DTSTART:20231105T060000
END:STANDARD
BEGIN:DAYLIGHT
TZOFFSETFROM:-0500
TZOFFSETTO:-0400
TZNAME:EDT
DTSTART:20240310T070000
END:DAYLIGHT
BEGIN:STANDARD
TZOFFSETFROM:-0400
TZOFFSETTO:-0500
TZNAME:EST
DTSTART:20241103T060000
END:STANDARD
BEGIN:DAYLIGHT
TZOFFSETFROM:-0500
TZOFFSETTO:-0400
TZNAME:EDT
DTSTART:20250309T070000
END:DAYLIGHT
BEGIN:STANDARD
TZOFFSETFROM:-0400
TZOFFSETTO:-0500
TZNAME:EST
DTSTART:20251102T060000
END:STANDARD
END:VTIMEZONE
BEGIN:VEVENT
DTSTART;TZID=America/New_York:20240902T163000
DTEND;TZID=America/New_York:20240902T200000
DTSTAMP:20260419T190356
CREATED:20240807T152533Z
LAST-MODIFIED:20240819T172821Z
UID:10002256-1725294600-1725307200@circleboston.org
SUMMARY:2024 Yiddish / Klezmer Community Potluck & Campfire
DESCRIPTION:The BWC Yiddish Committee invites Yiddish speakers and students of all levels\, klezmer musicians\, and their families/friends to enjoy an outdoor potluck picnic and campfire in Medford. Optional short walk to the nearby Mystic Lakes. Drop by for a short time or stay for the whole event. There will be plenty of opportunities to chat in both Yiddish and English.  Musicians are invited to bring instruments. \nFor the potluck\, we welcome snacks\, main courses\, salads\, desserts\, drinks (non-alcoholic or beer/wine/mashke welcome). If you know what you’re bringing\, let us know on your registration form. \nThe location address will be shared with you after you register. \nQuestions about the event? Email yiddish@circleboston.org \nRegister Here
URL:https://circleboston.org/event/2024-yiddish-klezmer-community-potluck-campfire/
CATEGORIES:Yiddish - Ongoing Programming
END:VEVENT
END:VCALENDAR