BEGIN:VCALENDAR
VERSION:2.0
PRODID:-//Boston Workers Circle - ECPv6.15.20//NONSGML v1.0//EN
CALSCALE:GREGORIAN
METHOD:PUBLISH
X-ORIGINAL-URL:https://circleboston.org
X-WR-CALDESC:Events for Boston Workers Circle
REFRESH-INTERVAL;VALUE=DURATION:PT1H
X-Robots-Tag:noindex
X-PUBLISHED-TTL:PT1H
BEGIN:VTIMEZONE
TZID:America/New_York
BEGIN:DAYLIGHT
TZOFFSETFROM:-0500
TZOFFSETTO:-0400
TZNAME:EDT
DTSTART:20230312T070000
END:DAYLIGHT
BEGIN:STANDARD
TZOFFSETFROM:-0400
TZOFFSETTO:-0500
TZNAME:EST
DTSTART:20231105T060000
END:STANDARD
BEGIN:DAYLIGHT
TZOFFSETFROM:-0500
TZOFFSETTO:-0400
TZNAME:EDT
DTSTART:20240310T070000
END:DAYLIGHT
BEGIN:STANDARD
TZOFFSETFROM:-0400
TZOFFSETTO:-0500
TZNAME:EST
DTSTART:20241103T060000
END:STANDARD
BEGIN:DAYLIGHT
TZOFFSETFROM:-0500
TZOFFSETTO:-0400
TZNAME:EDT
DTSTART:20250309T070000
END:DAYLIGHT
BEGIN:STANDARD
TZOFFSETFROM:-0400
TZOFFSETTO:-0500
TZNAME:EST
DTSTART:20251102T060000
END:STANDARD
END:VTIMEZONE
BEGIN:VEVENT
DTSTART;TZID=America/New_York:20240119T103000
DTEND;TZID=America/New_York:20240119T120000
DTSTAMP:20260422T092223
CREATED:20230525T214440Z
LAST-MODIFIED:20240119T115957Z
UID:10000494-1705660200-1705665600@circleboston.org
SUMMARY:Yiddish Reading Group
DESCRIPTION:Join our Yiddish Reading Group! We meet weekly (mostly) to read fiction in Yiddish. Group members select the readings which are usually short stories or novellas. Discussion is in English. Anyone who has taken an intermediate or advanced Yiddish class at the Workers’ Circle or has similar proficiency should be able to manage well in the group.  \nIf you would like more information about the group\, including the Zoom link\, email yiddishreadinggroup@circleboston.org
URL:https://circleboston.org/event/yiddish-reading-group-66/
LOCATION:Zoom
CATEGORIES:Yiddish - Ongoing Programming
END:VEVENT
BEGIN:VEVENT
DTSTART;TZID=America/New_York:20240119T190000
DTEND;TZID=America/New_York:20240119T201500
DTSTAMP:20260422T092223
CREATED:20230729T190856Z
LAST-MODIFIED:20240119T183110Z
UID:10000712-1705690800-1705695300@circleboston.org
SUMMARY:Arts Shabes III
DESCRIPTION:Join us for an evening of celebrating Shabes and the arts!  \nThe two featured artists will be Sandy Martin\,  BWC Operations Director\, who will talk about her work with glass blowing and BWC member\, Roz Freeman\, who will talk about her work in varied media and in community art.  \nThis will be a family friendly gathering\, good for older children and teens. \nDuring the small groups participants will be asked to show and tell about a small work of art that has meaning for you. It can be something you created or a small sculpture\, textile\, painting\, piece of jewelry\, etc. This will be a family friendly gathering\, good for older children and teens. There will also be presentations about two different art forms. Please bring a small work of art (painting\, sculpture\, jewelry\, textile\, etc.) created by you or by someone else to show and tell about.  \nRegister Here. Registration is REQUIRED.Our programming is made possible by our incredible members and contributions from our community. We welcome $5-$10 donations per person to ensure we are able to continue hosting our shabes programming; they  can be made easily using our digital “pass the hat” form. Donations are not required to attend.
URL:https://circleboston.org/event/arts-shabes/
LOCATION:Zoom
CATEGORIES:Shabes Committee
END:VEVENT
END:VCALENDAR