BEGIN:VCALENDAR
VERSION:2.0
PRODID:-//Boston Workers Circle - ECPv6.15.20//NONSGML v1.0//EN
CALSCALE:GREGORIAN
METHOD:PUBLISH
X-WR-CALNAME:Boston Workers Circle
X-ORIGINAL-URL:https://circleboston.org
X-WR-CALDESC:Events for Boston Workers Circle
REFRESH-INTERVAL;VALUE=DURATION:PT1H
X-Robots-Tag:noindex
X-PUBLISHED-TTL:PT1H
BEGIN:VTIMEZONE
TZID:America/New_York
BEGIN:DAYLIGHT
TZOFFSETFROM:-0500
TZOFFSETTO:-0400
TZNAME:EDT
DTSTART:20220313T070000
END:DAYLIGHT
BEGIN:STANDARD
TZOFFSETFROM:-0400
TZOFFSETTO:-0500
TZNAME:EST
DTSTART:20221106T060000
END:STANDARD
BEGIN:DAYLIGHT
TZOFFSETFROM:-0500
TZOFFSETTO:-0400
TZNAME:EDT
DTSTART:20230312T070000
END:DAYLIGHT
BEGIN:STANDARD
TZOFFSETFROM:-0400
TZOFFSETTO:-0500
TZNAME:EST
DTSTART:20231105T060000
END:STANDARD
BEGIN:DAYLIGHT
TZOFFSETFROM:-0500
TZOFFSETTO:-0400
TZNAME:EDT
DTSTART:20240310T070000
END:DAYLIGHT
BEGIN:STANDARD
TZOFFSETFROM:-0400
TZOFFSETTO:-0500
TZNAME:EST
DTSTART:20241103T060000
END:STANDARD
END:VTIMEZONE
BEGIN:VEVENT
DTSTART;TZID=America/New_York:20231212T173000
DTEND;TZID=America/New_York:20231212T183000
DTSTAMP:20260422T145454
CREATED:20231202T142121Z
LAST-MODIFIED:20231212T191320Z
UID:10001087-1702402200-1702405800@circleboston.org
SUMMARY:Khanike/Chanukah Candle Lighting with BWC!
DESCRIPTION:A freylekhn khanike! Hanuka Alegre! Happy Chanukah! No matter how you say it\, celebrate the Festival of Lights with a fun\, low-key candle lighting with your Boston Workers Circle community on Tuesday\, December 12\, from 5:30-6:30 pm at the BWC Office at 6 Webster St. in Brookline.  \nFeel free to bring dinner\, your khanukiye (Chanukah menorah)\, and candles along with you! This event is perfect both for BWC regulars looking to see old friends and newcomers hoping to make new ones\, so join us as we celebrate Chanukah\, Khanike\, Hanuka\, Januca\, Xanuqa\, etc. (all spellings welcome here!)\n\n\n\n\nRegister Here.
URL:https://circleboston.org/event/khanike-chanukah-candle-lighting-with-bwc/
LOCATION:HYRBID – Boston Workers Circle\, Brookline\, MA\, United States
CATEGORIES:General Events
GEO:42.340959;-71.12092
END:VEVENT
BEGIN:VEVENT
DTSTART;TZID=America/New_York:20231212T190000
DTEND;TZID=America/New_York:20231212T203000
DTSTAMP:20260422T145454
CREATED:20231208T132541Z
LAST-MODIFIED:20231212T144751Z
UID:10001122-1702407600-1702413000@circleboston.org
SUMMARY:IPC Community Meeting
DESCRIPTION:The regularly scheduled monthly meeting on Tuesday Dec. 12 at 7 pm\, will focus on a community- building discussion and brainstorming to shape and mobilize for IPC action to address the current moment of catastrophic war on Gaza.  \nWe’ll talk as a large group\, brainstorm in small groups\, and ideally come out of the meeting with ad hoc groups forming around short term action interests. We’ll also deal with some committee business\, including hearing a report back on the IHRA hearing at the State House last Tuesday.  \nThe zoom link for this meeting is here.  \nNote: The Beyond Redlining program has been postponed to January 9th.
URL:https://circleboston.org/event/ipc-community-meeting/
LOCATION:Zoom
CATEGORIES:Israel/Palestine Committee
END:VEVENT
END:VCALENDAR