BEGIN:VCALENDAR
VERSION:2.0
PRODID:-//Boston Workers Circle - ECPv6.15.20//NONSGML v1.0//EN
CALSCALE:GREGORIAN
METHOD:PUBLISH
X-WR-CALNAME:Boston Workers Circle
X-ORIGINAL-URL:https://circleboston.org
X-WR-CALDESC:Events for Boston Workers Circle
REFRESH-INTERVAL;VALUE=DURATION:PT1H
X-Robots-Tag:noindex
X-PUBLISHED-TTL:PT1H
BEGIN:VTIMEZONE
TZID:America/New_York
BEGIN:DAYLIGHT
TZOFFSETFROM:-0500
TZOFFSETTO:-0400
TZNAME:EDT
DTSTART:20220313T070000
END:DAYLIGHT
BEGIN:STANDARD
TZOFFSETFROM:-0400
TZOFFSETTO:-0500
TZNAME:EST
DTSTART:20221106T060000
END:STANDARD
BEGIN:DAYLIGHT
TZOFFSETFROM:-0500
TZOFFSETTO:-0400
TZNAME:EDT
DTSTART:20230312T070000
END:DAYLIGHT
BEGIN:STANDARD
TZOFFSETFROM:-0400
TZOFFSETTO:-0500
TZNAME:EST
DTSTART:20231105T060000
END:STANDARD
BEGIN:DAYLIGHT
TZOFFSETFROM:-0500
TZOFFSETTO:-0400
TZNAME:EDT
DTSTART:20240310T070000
END:DAYLIGHT
BEGIN:STANDARD
TZOFFSETFROM:-0400
TZOFFSETTO:-0500
TZNAME:EST
DTSTART:20241103T060000
END:STANDARD
END:VTIMEZONE
BEGIN:VEVENT
DTSTART;TZID=America/New_York:20231201T103000
DTEND;TZID=America/New_York:20231201T120000
DTSTAMP:20260422T052437
CREATED:20230106T013907Z
LAST-MODIFIED:20231201T141316Z
UID:10000260-1701426600-1701432000@circleboston.org
SUMMARY:Yiddish Reading Group
DESCRIPTION:Join our Yiddish Reading Group! We meet weekly (mostly) to read fiction in Yiddish. Group members select the readings which are usually short stories or novellas. Discussion is in English. Anyone who has taken an intermediate or advanced Yiddish class at the Workers’ Circle or has similar proficiency should be able to manage well in the group.  \nIf you would like more information about the group\, including the Zoom link\, email yiddishreadinggroup@circleboston.org
URL:https://circleboston.org/event/yiddish-reading-group-59/
LOCATION:Zoom
CATEGORIES:Yiddish - Ongoing Programming
END:VEVENT
BEGIN:VEVENT
DTSTART;TZID=America/New_York:20231201T180000
DTEND;TZID=America/New_York:20231201T200000
DTSTAMP:20260422T052437
CREATED:20230729T190856Z
LAST-MODIFIED:20231201T181326Z
UID:10000711-1701453600-1701460800@circleboston.org
SUMMARY:Shabes Singing: Peace\, Salaam\, Shalom
DESCRIPTION:Join us to celebrate Shabes sharing songs of peace to lift our hearts. For this in person event we will gather for a potluck dinner at 6 o’clock. The ritual starts around 6:45 followed by singing together. If you are not comfortable sharing food in a group unmasked feel free to join us for the ritual and music when people will be masked. We will have people from across the Workers Circle community to lead the singing. Everyone will get song sheets so they can sing along.\n\n\n\n\nRegister Here.
URL:https://circleboston.org/event/singing-khanike-chanukah-shabes/
LOCATION:Boston Workers Circle\, Brookline\, MA\, United States
CATEGORIES:Shabes Committee
GEO:42.340959;-71.12092
END:VEVENT
END:VCALENDAR