BEGIN:VCALENDAR
VERSION:2.0
PRODID:-//Boston Workers Circle - ECPv6.15.20//NONSGML v1.0//EN
CALSCALE:GREGORIAN
METHOD:PUBLISH
X-WR-CALNAME:Boston Workers Circle
X-ORIGINAL-URL:https://circleboston.org
X-WR-CALDESC:Events for Boston Workers Circle
REFRESH-INTERVAL;VALUE=DURATION:PT1H
X-Robots-Tag:noindex
X-PUBLISHED-TTL:PT1H
BEGIN:VTIMEZONE
TZID:America/New_York
BEGIN:DAYLIGHT
TZOFFSETFROM:-0500
TZOFFSETTO:-0400
TZNAME:EDT
DTSTART:20220313T070000
END:DAYLIGHT
BEGIN:STANDARD
TZOFFSETFROM:-0400
TZOFFSETTO:-0500
TZNAME:EST
DTSTART:20221106T060000
END:STANDARD
BEGIN:DAYLIGHT
TZOFFSETFROM:-0500
TZOFFSETTO:-0400
TZNAME:EDT
DTSTART:20230312T070000
END:DAYLIGHT
BEGIN:STANDARD
TZOFFSETFROM:-0400
TZOFFSETTO:-0500
TZNAME:EST
DTSTART:20231105T060000
END:STANDARD
BEGIN:DAYLIGHT
TZOFFSETFROM:-0500
TZOFFSETTO:-0400
TZNAME:EDT
DTSTART:20240310T070000
END:DAYLIGHT
BEGIN:STANDARD
TZOFFSETFROM:-0400
TZOFFSETTO:-0500
TZNAME:EST
DTSTART:20241103T060000
END:STANDARD
END:VTIMEZONE
BEGIN:VEVENT
DTSTART;TZID=America/New_York:20231128T173000
DTEND;TZID=America/New_York:20231128T190000
DTSTAMP:20260420T063016
CREATED:20230824T124155Z
LAST-MODIFIED:20230824T124155Z
UID:10000767-1701192600-1701198000@circleboston.org
SUMMARY:Early Intermediate
DESCRIPTION:This class will use Colloquial Yiddish\, starting with chapter 11\, and will incorporate exercises\, songs\, and additional short readings to further our study of grammar\, conversation\, and culture. The readings will introduce students to important authors such as I.L. Peretz and Kadya Molodowsky. \nRegister Here.
URL:https://circleboston.org/event/early-intermediate-7/
LOCATION:Zoom
CATEGORIES:Yiddish - Classes
END:VEVENT
BEGIN:VEVENT
DTSTART;TZID=America/New_York:20231128T173000
DTEND;TZID=America/New_York:20231128T190000
DTSTAMP:20260420T063016
CREATED:20230906T183510Z
LAST-MODIFIED:20231128T205826Z
UID:10000805-1701192600-1701198000@circleboston.org
SUMMARY:Aging Outside the Box
DESCRIPTION:A monthly discussion/support group for folks 60 and over who don’t have children and/or grandchildren\n\n\n\n\nPlease email AIC@circleboston.org to be put in touch with the Aging Outside the Box coordinator.
URL:https://circleboston.org/event/aging-outside-the-box-5/
LOCATION:Zoom
CATEGORIES:Aging in Community
END:VEVENT
BEGIN:VEVENT
DTSTART;TZID=America/New_York:20231128T190000
DTEND;TZID=America/New_York:20231128T203000
DTSTAMP:20260420T063016
CREATED:20230823T194007Z
LAST-MODIFIED:20231128T214323Z
UID:10000758-1701198000-1701203400@circleboston.org
SUMMARY:Beginner\, Virtual
DESCRIPTION:Let’s learn Yiddish — lomir zikh lernen yidish! This course introduces students to the fundamentals of Yiddish conversation\, reading\, and grammar through highly-interactive games\, songs\, activities\, and short texts.\nStudents who don’t yet know the Hebrew alphabet will be asked to join the class a half hour early for the first several sessions
URL:https://circleboston.org/event/beginner-virtual-7/
LOCATION:Zoom
CATEGORIES:Yiddish - Classes
END:VEVENT
END:VCALENDAR