BEGIN:VCALENDAR
VERSION:2.0
PRODID:-//Boston Workers Circle - ECPv6.15.20//NONSGML v1.0//EN
CALSCALE:GREGORIAN
METHOD:PUBLISH
X-ORIGINAL-URL:https://circleboston.org
X-WR-CALDESC:Events for Boston Workers Circle
REFRESH-INTERVAL;VALUE=DURATION:PT1H
X-Robots-Tag:noindex
X-PUBLISHED-TTL:PT1H
BEGIN:VTIMEZONE
TZID:America/New_York
BEGIN:DAYLIGHT
TZOFFSETFROM:-0500
TZOFFSETTO:-0400
TZNAME:EDT
DTSTART:20220313T070000
END:DAYLIGHT
BEGIN:STANDARD
TZOFFSETFROM:-0400
TZOFFSETTO:-0500
TZNAME:EST
DTSTART:20221106T060000
END:STANDARD
BEGIN:DAYLIGHT
TZOFFSETFROM:-0500
TZOFFSETTO:-0400
TZNAME:EDT
DTSTART:20230312T070000
END:DAYLIGHT
BEGIN:STANDARD
TZOFFSETFROM:-0400
TZOFFSETTO:-0500
TZNAME:EST
DTSTART:20231105T060000
END:STANDARD
BEGIN:DAYLIGHT
TZOFFSETFROM:-0500
TZOFFSETTO:-0400
TZNAME:EDT
DTSTART:20240310T070000
END:DAYLIGHT
BEGIN:STANDARD
TZOFFSETFROM:-0400
TZOFFSETTO:-0500
TZNAME:EST
DTSTART:20241103T060000
END:STANDARD
END:VTIMEZONE
BEGIN:VEVENT
DTSTART;TZID=America/New_York:20231119T103000
DTEND;TZID=America/New_York:20231119T123000
DTSTAMP:20260420T075724
CREATED:20230519T172120Z
LAST-MODIFIED:20231119T165825Z
UID:10000471-1700389800-1700397000@circleboston.org
SUMMARY:Shule Session 7
DESCRIPTION:
URL:https://circleboston.org/event/shule-session-7/
CATEGORIES:Shule
END:VEVENT
BEGIN:VEVENT
DTSTART;TZID=America/New_York:20231119T103000
DTEND;TZID=America/New_York:20231119T123000
DTSTAMP:20260420T075724
CREATED:20231107T204316Z
LAST-MODIFIED:20231118T204316Z
UID:10001034-1700389800-1700397000@circleboston.org
SUMMARY:Aging in Community
DESCRIPTION:
URL:https://circleboston.org/event/aging-in-community-3/
LOCATION:HYBRID – Boston Workers Circle\, Brookline\, MA\, United States
CATEGORIES:Aging in Community
GEO:42.340959;-71.12092
END:VEVENT
END:VCALENDAR