BEGIN:VCALENDAR
VERSION:2.0
PRODID:-//Boston Workers Circle - ECPv6.15.20//NONSGML v1.0//EN
CALSCALE:GREGORIAN
METHOD:PUBLISH
X-ORIGINAL-URL:https://circleboston.org
X-WR-CALDESC:Events for Boston Workers Circle
REFRESH-INTERVAL;VALUE=DURATION:PT1H
X-Robots-Tag:noindex
X-PUBLISHED-TTL:PT1H
BEGIN:VTIMEZONE
TZID:America/New_York
BEGIN:DAYLIGHT
TZOFFSETFROM:-0500
TZOFFSETTO:-0400
TZNAME:EDT
DTSTART:20220313T070000
END:DAYLIGHT
BEGIN:STANDARD
TZOFFSETFROM:-0400
TZOFFSETTO:-0500
TZNAME:EST
DTSTART:20221106T060000
END:STANDARD
BEGIN:DAYLIGHT
TZOFFSETFROM:-0500
TZOFFSETTO:-0400
TZNAME:EDT
DTSTART:20230312T070000
END:DAYLIGHT
BEGIN:STANDARD
TZOFFSETFROM:-0400
TZOFFSETTO:-0500
TZNAME:EST
DTSTART:20231105T060000
END:STANDARD
BEGIN:DAYLIGHT
TZOFFSETFROM:-0500
TZOFFSETTO:-0400
TZNAME:EDT
DTSTART:20240310T070000
END:DAYLIGHT
BEGIN:STANDARD
TZOFFSETFROM:-0400
TZOFFSETTO:-0500
TZNAME:EST
DTSTART:20241103T060000
END:STANDARD
END:VTIMEZONE
BEGIN:VEVENT
DTSTART;TZID=America/New_York:20231115T190000
DTEND;TZID=America/New_York:20231115T203000
DTSTAMP:20260422T093127
CREATED:20230804T232450Z
LAST-MODIFIED:20231115T184321Z
UID:10000718-1700074800-1700080200@circleboston.org
SUMMARY:Israel-Palestine Committee Meeting: Free Speech Under Threat
DESCRIPTION:The program will focus on the attack on free speech that is currently underway and directed at Students for Justice in Palestine (SJP) as well as progressive Jewish groups.  The ADL has sent a letter to almost 200 colleges and universities accusing SJP of violating “the prohibition against materially supporting a foreign terrorist organization” with absolutely no evidence. Brandeis has dechartered its chapter of SJP for chanting “From the River to the Sea”. Come learn and mobilize with us!                 \nA new member orientation will follow. \nRegister for the Zoom Here
URL:https://circleboston.org/event/israel-palestine-committee-meeting-6/
LOCATION:Zoom
CATEGORIES:Israel/Palestine Committee
END:VEVENT
BEGIN:VEVENT
DTSTART;TZID=America/New_York:20231115T190000
DTEND;TZID=America/New_York:20231115T203000
DTSTAMP:20260422T093127
CREATED:20230830T151110Z
LAST-MODIFIED:20231115T211317Z
UID:10000791-1700074800-1700080200@circleboston.org
SUMMARY:Advanced Beginner
DESCRIPTION:Do you know about der\, di\, dos\, and dem\, but shudder when you hear the words “dative” and “accusative”? Do you know how to exchange pleasantries in Yiddish but not how to talk about what happened yesterday? Do you know the alef-beys\, but not have enough vocabulary to tell a story? Would you like to study Yiddish every week with an enthusiastic teacher who showers you with positive feedback no matter how many mistakes you make? This advanced beginner Yiddish class might just be right for you. \nRegister Here.
URL:https://circleboston.org/event/advanced-beginner-16/
LOCATION:Zoom
CATEGORIES:Yiddish - Classes
END:VEVENT
BEGIN:VEVENT
DTSTART;TZID=America/New_York:20231115T193000
DTEND;TZID=America/New_York:20231115T210000
DTSTAMP:20260422T093127
CREATED:20230825T185528Z
LAST-MODIFIED:20231115T211316Z
UID:10000779-1700076600-1700082000@circleboston.org
SUMMARY:Beginner\, In-Person
DESCRIPTION:Let’s learn Yiddish — lomir zikh lernen yidish! Learn elementary grammar\, how to read Yiddish and conversation skills. Students who don’t yet know the Hebrew alphabet will be asked to join the class a half hour early for the first several sessions. The class will be interactive and lively\, using the textbook Colloquial Yiddish\, and exposing students to Yiddish culture through songs\, games\, and other multimedia materials. \nRegister Here.
URL:https://circleboston.org/event/beginner-in-person-6/
LOCATION:Boston Workers Circle\, Brookline\, MA\, United States
CATEGORIES:Yiddish - Classes
GEO:42.340959;-71.12092
END:VEVENT
BEGIN:VEVENT
DTSTART;TZID=America/New_York:20231115T200000
DTEND;TZID=America/New_York:20231115T213000
DTSTAMP:20260422T093127
CREATED:20230823T193959Z
LAST-MODIFIED:20231115T211316Z
UID:10000756-1700078400-1700083800@circleboston.org
SUMMARY:Advanced
DESCRIPTION:Celia Dropkin (1887-1956) is a dynamic writer whose work is exciting\, intense and confronting. Best known for her fierce and intimate poetry\, Dropkin brings the same bold\, unflinching voice to her short stories. Dropkin’s stories take the reader deep under the skins of sharply drawn characters\, casting a critical gaze on the settings and social circumstances that they encounter. In this course\, we will read a selection of Dropkin’s short stories in the original Yiddish\, and will discuss the themes\, characters\, contexts and stylistics of these works. \nRegister Here.
URL:https://circleboston.org/event/advanced-6/
LOCATION:Zoom
CATEGORIES:Yiddish - Classes
END:VEVENT
END:VCALENDAR