BEGIN:VCALENDAR
VERSION:2.0
PRODID:-//Boston Workers Circle - ECPv6.15.20//NONSGML v1.0//EN
CALSCALE:GREGORIAN
METHOD:PUBLISH
X-WR-CALNAME:Boston Workers Circle
X-ORIGINAL-URL:https://circleboston.org
X-WR-CALDESC:Events for Boston Workers Circle
REFRESH-INTERVAL;VALUE=DURATION:PT1H
X-Robots-Tag:noindex
X-PUBLISHED-TTL:PT1H
BEGIN:VTIMEZONE
TZID:America/New_York
BEGIN:DAYLIGHT
TZOFFSETFROM:-0500
TZOFFSETTO:-0400
TZNAME:EDT
DTSTART:20220313T070000
END:DAYLIGHT
BEGIN:STANDARD
TZOFFSETFROM:-0400
TZOFFSETTO:-0500
TZNAME:EST
DTSTART:20221106T060000
END:STANDARD
BEGIN:DAYLIGHT
TZOFFSETFROM:-0500
TZOFFSETTO:-0400
TZNAME:EDT
DTSTART:20230312T070000
END:DAYLIGHT
BEGIN:STANDARD
TZOFFSETFROM:-0400
TZOFFSETTO:-0500
TZNAME:EST
DTSTART:20231105T060000
END:STANDARD
BEGIN:DAYLIGHT
TZOFFSETFROM:-0500
TZOFFSETTO:-0400
TZNAME:EDT
DTSTART:20240310T070000
END:DAYLIGHT
BEGIN:STANDARD
TZOFFSETFROM:-0400
TZOFFSETTO:-0500
TZNAME:EST
DTSTART:20241103T060000
END:STANDARD
END:VTIMEZONE
BEGIN:VEVENT
DTSTART;TZID=America/New_York:20231102T160000
DTEND;TZID=America/New_York:20231102T170000
DTSTAMP:20260420T032636
CREATED:20231101T134533Z
LAST-MODIFIED:20231102T184323Z
UID:10001021-1698940800-1698944400@circleboston.org
SUMMARY:Interfaith Mass Action: Ceasefire Now
DESCRIPTION:As people of conscience of every faith and background\, we hold every life as sacred. As clergy\, faith leaders\, and people of faith\, we call on all of our siblings in spirit to rise up and demand that our elected officials use all of their leverage to call for a ceasefire. We mourn all dead and are fighting for all lives. \nWe commit to using our diverse spiritual practices of word\, song\, and ritual to preserve life\, to demand an end to the bombardment of Gaza\, allow humanitarian aid\, release all political prisoners and hostages\, and fight for a world where Palestinians are free and there is safety for all.  \n \nFor three weeks our thousands of marches\, school walkouts\, phone banks\, and Congressional office sit-ins have awakened the US public. It is working. The majority of Americans now support a ceasefire. It’s time our politicians take action. We pray that they act and we will keep acting until they do.  \n \nFor three weeks our thousands of marches\, school walkouts\, phone banks\, and Congressional office sit-ins have awakened the US public. It is working. The majority of Americans now support a ceasefire. It’s time our politicians take action. We pray that they act and we will keep acting until they do. \nRSVP
URL:https://circleboston.org/event/interfaith-mass-action-ceasefire-now/
LOCATION:Brewer Fountain\, Boston\, MA\, United States
CATEGORIES:Israel/Palestine Committee
GEO:42.357767;-71.064848
END:VEVENT
BEGIN:VEVENT
DTSTART;TZID=America/New_York:20231102T193000
DTEND;TZID=America/New_York:20231102T210000
DTSTAMP:20260420T032636
CREATED:20230106T013906Z
LAST-MODIFIED:20231102T162829Z
UID:10000253-1698953400-1698958800@circleboston.org
SUMMARY:Di Nest: Yiddish Arts Incubator
DESCRIPTION:Di Nest is an incubator for Yiddish-language creative projects! Join us on the first Thursday of the month to share and workshop community members’ artistic works in progress. All forms of creativity in Yiddish (or prominently featuring Yiddish) are welcome: poetry\, prose\, music\, visual arts\, performing arts\, translations into Yiddish\, and more. \nDi Nest is open to Yiddish speakers and students of all levels. Whether you’re just starting to create in Yiddish or have been doing so for years\, you’re welcome to attend! Sessions will be in a mix of Yiddish and English. \nEach session will include time to workshop material of several participants and a chance for everyone to spend time creating. If you have material you would like to workshop\, please email yiddish@circleboston.org. Whether or not you’re bringing material to workshop\, you are welcome to attend and offer feedback to fellow participants. \nRegister Here.
URL:https://circleboston.org/event/di-nest-yiddish-creative-project-incubator-13/
LOCATION:Zoom
CATEGORIES:Yiddish - Ongoing Programming
END:VEVENT
END:VCALENDAR