BEGIN:VCALENDAR
VERSION:2.0
PRODID:-//Boston Workers Circle - ECPv6.15.20//NONSGML v1.0//EN
CALSCALE:GREGORIAN
METHOD:PUBLISH
X-ORIGINAL-URL:https://circleboston.org
X-WR-CALDESC:Events for Boston Workers Circle
REFRESH-INTERVAL;VALUE=DURATION:PT1H
X-Robots-Tag:noindex
X-PUBLISHED-TTL:PT1H
BEGIN:VTIMEZONE
TZID:America/New_York
BEGIN:DAYLIGHT
TZOFFSETFROM:-0500
TZOFFSETTO:-0400
TZNAME:EDT
DTSTART:20220313T070000
END:DAYLIGHT
BEGIN:STANDARD
TZOFFSETFROM:-0400
TZOFFSETTO:-0500
TZNAME:EST
DTSTART:20221106T060000
END:STANDARD
BEGIN:DAYLIGHT
TZOFFSETFROM:-0500
TZOFFSETTO:-0400
TZNAME:EDT
DTSTART:20230312T070000
END:DAYLIGHT
BEGIN:STANDARD
TZOFFSETFROM:-0400
TZOFFSETTO:-0500
TZNAME:EST
DTSTART:20231105T060000
END:STANDARD
BEGIN:DAYLIGHT
TZOFFSETFROM:-0500
TZOFFSETTO:-0400
TZNAME:EDT
DTSTART:20240310T070000
END:DAYLIGHT
BEGIN:STANDARD
TZOFFSETFROM:-0400
TZOFFSETTO:-0500
TZNAME:EST
DTSTART:20241103T060000
END:STANDARD
END:VTIMEZONE
BEGIN:VEVENT
DTSTART;TZID=America/New_York:20231101T180000
DTEND;TZID=America/New_York:20231101T193000
DTSTAMP:20260424T063522
CREATED:20231030T154857Z
LAST-MODIFIED:20231101T134532Z
UID:10000991-1698861600-1698867000@circleboston.org
SUMMARY:IPC Study Group
DESCRIPTION:The IPC Study Group is a subcommittee of the Israel/Palestine Committee (IPC) which meets on Zoom the first Wednesday of every month at 6pm to discuss books\, films\, articles\, and/or webinars we’re reading and watching together\, to deepen our understanding of the history and context of Israel/Palestine. \nAll are welcome to join us. You can find what we’re currently studying together here\, as well as information on what we’ve previously read and watched. Learn more about us here. The IPC Study Group communicates between sessions via google email list. Contact ipc@circleboston.org to let us know you’re coming\, for more information\, or to join the email list and help us choose what we’re going to learn about together for future sessions!
URL:https://circleboston.org/event/ipc-study-group-37/
LOCATION:Zoom
CATEGORIES:Israel/Palestine Committee
END:VEVENT
BEGIN:VEVENT
DTSTART;TZID=America/New_York:20231101T190000
DTEND;TZID=America/New_York:20231101T203000
DTSTAMP:20260424T063522
CREATED:20230830T151052Z
LAST-MODIFIED:20231101T211319Z
UID:10000787-1698865200-1698870600@circleboston.org
SUMMARY:Advanced Beginner
DESCRIPTION:Do you know about der\, di\, dos\, and dem\, but shudder when you hear the words “dative” and “accusative”? Do you know how to exchange pleasantries in Yiddish but not how to talk about what happened yesterday? Do you know the alef-beys\, but not have enough vocabulary to tell a story? Would you like to study Yiddish every week with an enthusiastic teacher who showers you with positive feedback no matter how many mistakes you make? This advanced beginner Yiddish class might just be right for you. \nRegister Here.
URL:https://circleboston.org/event/advanced-beginner-14/
LOCATION:Zoom
CATEGORIES:Yiddish - Classes
END:VEVENT
BEGIN:VEVENT
DTSTART;TZID=America/New_York:20231101T193000
DTEND;TZID=America/New_York:20231101T210000
DTSTAMP:20260424T063522
CREATED:20230825T185521Z
LAST-MODIFIED:20231101T211319Z
UID:10000777-1698867000-1698872400@circleboston.org
SUMMARY:Beginner\, In-Person
DESCRIPTION:Let’s learn Yiddish — lomir zikh lernen yidish! Learn elementary grammar\, how to read Yiddish and conversation skills. Students who don’t yet know the Hebrew alphabet will be asked to join the class a half hour early for the first several sessions. The class will be interactive and lively\, using the textbook Colloquial Yiddish\, and exposing students to Yiddish culture through songs\, games\, and other multimedia materials. \nRegister Here.
URL:https://circleboston.org/event/beginner-in-person-4/
LOCATION:Boston Workers Circle\, Brookline\, MA\, United States
CATEGORIES:Yiddish - Classes
GEO:42.340959;-71.12092
END:VEVENT
BEGIN:VEVENT
DTSTART;TZID=America/New_York:20231101T200000
DTEND;TZID=America/New_York:20231101T213000
DTSTAMP:20260424T063522
CREATED:20230823T193958Z
LAST-MODIFIED:20231101T211319Z
UID:10000752-1698868800-1698874200@circleboston.org
SUMMARY:Advanced
DESCRIPTION:Celia Dropkin (1887-1956) is a dynamic writer whose work is exciting\, intense and confronting. Best known for her fierce and intimate poetry\, Dropkin brings the same bold\, unflinching voice to her short stories. Dropkin’s stories take the reader deep under the skins of sharply drawn characters\, casting a critical gaze on the settings and social circumstances that they encounter. In this course\, we will read a selection of Dropkin’s short stories in the original Yiddish\, and will discuss the themes\, characters\, contexts and stylistics of these works. \nRegister Here.
URL:https://circleboston.org/event/advanced-4/
LOCATION:Zoom
CATEGORIES:Yiddish - Classes
END:VEVENT
END:VCALENDAR