BEGIN:VCALENDAR
VERSION:2.0
PRODID:-//Boston Workers Circle - ECPv6.15.20//NONSGML v1.0//EN
CALSCALE:GREGORIAN
METHOD:PUBLISH
X-WR-CALNAME:Boston Workers Circle
X-ORIGINAL-URL:https://circleboston.org
X-WR-CALDESC:Events for Boston Workers Circle
REFRESH-INTERVAL;VALUE=DURATION:PT1H
X-Robots-Tag:noindex
X-PUBLISHED-TTL:PT1H
BEGIN:VTIMEZONE
TZID:America/New_York
BEGIN:DAYLIGHT
TZOFFSETFROM:-0500
TZOFFSETTO:-0400
TZNAME:EDT
DTSTART:20220313T070000
END:DAYLIGHT
BEGIN:STANDARD
TZOFFSETFROM:-0400
TZOFFSETTO:-0500
TZNAME:EST
DTSTART:20221106T060000
END:STANDARD
BEGIN:DAYLIGHT
TZOFFSETFROM:-0500
TZOFFSETTO:-0400
TZNAME:EDT
DTSTART:20230312T070000
END:DAYLIGHT
BEGIN:STANDARD
TZOFFSETFROM:-0400
TZOFFSETTO:-0500
TZNAME:EST
DTSTART:20231105T060000
END:STANDARD
BEGIN:DAYLIGHT
TZOFFSETFROM:-0500
TZOFFSETTO:-0400
TZNAME:EDT
DTSTART:20240310T070000
END:DAYLIGHT
BEGIN:STANDARD
TZOFFSETFROM:-0400
TZOFFSETTO:-0500
TZNAME:EST
DTSTART:20241103T060000
END:STANDARD
END:VTIMEZONE
BEGIN:VEVENT
DTSTART;TZID=America/New_York:20231029T103000
DTEND;TZID=America/New_York:20231029T123000
DTSTAMP:20260424T173817
CREATED:20230519T172119Z
LAST-MODIFIED:20231029T152827Z
UID:10000469-1698575400-1698582600@circleboston.org
SUMMARY:Shule Session 5
DESCRIPTION:
URL:https://circleboston.org/event/shule-session-5/
CATEGORIES:Shule
END:VEVENT
BEGIN:VEVENT
DTSTART;TZID=America/New_York:20231029T104500
DTEND;TZID=America/New_York:20231029T114500
DTSTAMP:20260424T173817
CREATED:20231024T151943Z
LAST-MODIFIED:20231029T152827Z
UID:10000988-1698576300-1698579900@circleboston.org
SUMMARY:Shule: Responding to the crisis in Israel and Palestine as parents
DESCRIPTION:A parent processing space to examine the impact of the crisis in Israel/Palestine and the things we need to get in touch with our deepest values as we confront this moment as people and as parents facilitated by BWC board president\, Rachel Hess and others\nThis conversation will take place at Shule in person.
URL:https://circleboston.org/event/shule-responding-to-the-crisis-in-israel-and-palestine-as-parents/
CATEGORIES:Shule
END:VEVENT
END:VCALENDAR