BEGIN:VCALENDAR
VERSION:2.0
PRODID:-//Boston Workers Circle - ECPv6.15.20//NONSGML v1.0//EN
CALSCALE:GREGORIAN
METHOD:PUBLISH
X-ORIGINAL-URL:https://circleboston.org
X-WR-CALDESC:Events for Boston Workers Circle
REFRESH-INTERVAL;VALUE=DURATION:PT1H
X-Robots-Tag:noindex
X-PUBLISHED-TTL:PT1H
BEGIN:VTIMEZONE
TZID:America/New_York
BEGIN:DAYLIGHT
TZOFFSETFROM:-0500
TZOFFSETTO:-0400
TZNAME:EDT
DTSTART:20220313T070000
END:DAYLIGHT
BEGIN:STANDARD
TZOFFSETFROM:-0400
TZOFFSETTO:-0500
TZNAME:EST
DTSTART:20221106T060000
END:STANDARD
BEGIN:DAYLIGHT
TZOFFSETFROM:-0500
TZOFFSETTO:-0400
TZNAME:EDT
DTSTART:20230312T070000
END:DAYLIGHT
BEGIN:STANDARD
TZOFFSETFROM:-0400
TZOFFSETTO:-0500
TZNAME:EST
DTSTART:20231105T060000
END:STANDARD
BEGIN:DAYLIGHT
TZOFFSETFROM:-0500
TZOFFSETTO:-0400
TZNAME:EDT
DTSTART:20240310T070000
END:DAYLIGHT
BEGIN:STANDARD
TZOFFSETFROM:-0400
TZOFFSETTO:-0500
TZNAME:EST
DTSTART:20241103T060000
END:STANDARD
END:VTIMEZONE
BEGIN:VEVENT
DTSTART;TZID=America/New_York:20231021T160000
DTEND;TZID=America/New_York:20231021T180000
DTSTAMP:20260420T123606
CREATED:20230919T152353Z
LAST-MODIFIED:20231021T162839Z
UID:10000841-1697904000-1697911200@circleboston.org
SUMMARY:Yiddish Community Picnic
DESCRIPTION:Join fellow BWC Yiddish speakers and students for a Yiddish shmues and picnic for shaleshudes\, the third meal of shabes that takes place on Saturday afternoon. Please feel free to bring a dish\, snack\, or (non-alcoholic) drink to share! All levels of Yiddish\, beginning to fluent\, are welcome. There will be plenty of opportunities to chat in both Yiddish and English. Drop by for a short time or stay for the whole event\, and make sure to dress for the weather! \nRain Date: October 28\n\n\n\n\nRegister Here.
URL:https://circleboston.org/event/yiddish-community-picnic/
LOCATION:Front Lawn – Cambridge Public Library\, 449 Broadway\, Cambridge\, MA 02138\, USA
CATEGORIES:Yiddish - Ongoing Programming
END:VEVENT
END:VCALENDAR