BEGIN:VCALENDAR
VERSION:2.0
PRODID:-//Boston Workers Circle - ECPv6.15.20//NONSGML v1.0//EN
CALSCALE:GREGORIAN
METHOD:PUBLISH
X-WR-CALNAME:Boston Workers Circle
X-ORIGINAL-URL:https://circleboston.org
X-WR-CALDESC:Events for Boston Workers Circle
REFRESH-INTERVAL;VALUE=DURATION:PT1H
X-Robots-Tag:noindex
X-PUBLISHED-TTL:PT1H
BEGIN:VTIMEZONE
TZID:America/New_York
BEGIN:DAYLIGHT
TZOFFSETFROM:-0500
TZOFFSETTO:-0400
TZNAME:EDT
DTSTART:20220313T070000
END:DAYLIGHT
BEGIN:STANDARD
TZOFFSETFROM:-0400
TZOFFSETTO:-0500
TZNAME:EST
DTSTART:20221106T060000
END:STANDARD
BEGIN:DAYLIGHT
TZOFFSETFROM:-0500
TZOFFSETTO:-0400
TZNAME:EDT
DTSTART:20230312T070000
END:DAYLIGHT
BEGIN:STANDARD
TZOFFSETFROM:-0400
TZOFFSETTO:-0500
TZNAME:EST
DTSTART:20231105T060000
END:STANDARD
BEGIN:DAYLIGHT
TZOFFSETFROM:-0500
TZOFFSETTO:-0400
TZNAME:EDT
DTSTART:20240310T070000
END:DAYLIGHT
BEGIN:STANDARD
TZOFFSETFROM:-0400
TZOFFSETTO:-0500
TZNAME:EST
DTSTART:20241103T060000
END:STANDARD
END:VTIMEZONE
BEGIN:VEVENT
DTSTART;TZID=America/New_York:20231016T170000
DTEND;TZID=America/New_York:20231016T183000
DTSTAMP:20260422T121427
CREATED:20230823T193955Z
LAST-MODIFIED:20231016T202828Z
UID:10000747-1697475600-1697481000@circleboston.org
SUMMARY:Continuing Intermediate
DESCRIPTION:In this class\, we’ll read Kadya Molodowsky’s 1942 novel Fun Lublin Biz Nyu York. It’s written as a diary of a young woman who immigrates to New York under troubling circumstances. We’ll read the text of the book together in class\, looking up unfamiliar words as we go\, discussing the text in Yiddish and/or English to make sure everyone is following along\, and along the way\, indulge in lengthy tangents about whatever else comes up. \nRegister Here.
URL:https://circleboston.org/event/continuing-intermediate/
LOCATION:Zoom
CATEGORIES:Yiddish - Classes
END:VEVENT
BEGIN:VEVENT
DTSTART;TZID=America/New_York:20231016T170000
DTEND;TZID=America/New_York:20231016T183000
DTSTAMP:20260422T121427
CREATED:20231003T105850Z
LAST-MODIFIED:20231016T111343Z
UID:10000903-1697475600-1697481000@circleboston.org
SUMMARY:Yiddish Class - Intermediate
DESCRIPTION:Yiddish class is happening! I’m so excited to see you all! We’ll commence on Monday October 16th at 5pm eastern time\, and then we’re going to take a hiatus the following week (because I’ll be in Mexico on a work trip with spotty internet) and then we will reconvene on the 30th of October and meet for a total of 8 sessions (or longer\, if we decide to!) \nI’m looking forward to seeing you all in class! \nTextbook: Fun Lublin Tsu Nyu York by Kadya MolodovskyZoom link: https://circleboston-org.zoom.us/j/87340826794?pwd=tZErpQyLT78fAk76YaYJdbx0BurODp.1 \nAny questions\, contact abby.g.howell@gmail.com (512-762-2113).\nJoin Zoom Meeting\nhttps://circleboston-org.zoom.us/j/87340826794?pwd=tZErpQyLT78fAk76YaYJdbx0BurODp.1 (ID: 87340826794\, passcode: 573839)\nJoin by phone\n(US) +1 309-205-3325 (passcode: 573839)\nJoining instructions: https://www.google.com/url?q=https://applications.zoom.us/addon/invitation/detail?meetingUuid%3DV7qgV1SAQzyqMGl2u2Zs2w%253D%253D%26signature%3D6cf53876e2183a63e5d567bf90311ee3c64a55f997088ab77bc3cbeaec720875%26v%3D1&sa=D&source=calendar&usg=AOvVaw2nGcoQuLbOuzym8Lwq66vq\nMeeting host: abby.g.howell@gmail.com \nJoin Zoom Meeting: https://circleboston-org.zoom.us/j/87340826794?pwd=tZErpQyLT78fAk76YaYJdbx0BurODp.1
URL:https://circleboston.org/event/yiddish-class-intermediate/
CATEGORIES:General Events
ORGANIZER;CN="abby.g.howell@gmail.com":MAILTO:abby.g.howell@gmail.com
END:VEVENT
BEGIN:VEVENT
DTSTART;TZID=America/New_York:20231016T173000
DTEND;TZID=America/New_York:20231016T183000
DTSTAMP:20260422T121427
CREATED:20230902T233850Z
LAST-MODIFIED:20231016T111343Z
UID:10000799-1697477400-1697481000@circleboston.org
SUMMARY:Member Training: Publicity Visuals
DESCRIPTION:Join our communications manager Mira for a session all about the visuals that go into spreading the word about your work! This session will cover some basic information about branding and graphic design\, taking quality photos to document your work and improve your future outreach efforts\, and using Canva\, a beginner-friendly graphic design platform\, to create visuals for print and digital publicity.\n\n\n\n\nRegister Here.
URL:https://circleboston.org/event/member-training-publicity-visuals/
LOCATION:Zoom
CATEGORIES:General Events
END:VEVENT
END:VCALENDAR