BEGIN:VCALENDAR
VERSION:2.0
PRODID:-//Boston Workers Circle - ECPv6.15.20//NONSGML v1.0//EN
CALSCALE:GREGORIAN
METHOD:PUBLISH
X-WR-CALNAME:Boston Workers Circle
X-ORIGINAL-URL:https://circleboston.org
X-WR-CALDESC:Events for Boston Workers Circle
REFRESH-INTERVAL;VALUE=DURATION:PT1H
X-Robots-Tag:noindex
X-PUBLISHED-TTL:PT1H
BEGIN:VTIMEZONE
TZID:America/New_York
BEGIN:DAYLIGHT
TZOFFSETFROM:-0500
TZOFFSETTO:-0400
TZNAME:EDT
DTSTART:20220313T070000
END:DAYLIGHT
BEGIN:STANDARD
TZOFFSETFROM:-0400
TZOFFSETTO:-0500
TZNAME:EST
DTSTART:20221106T060000
END:STANDARD
BEGIN:DAYLIGHT
TZOFFSETFROM:-0500
TZOFFSETTO:-0400
TZNAME:EDT
DTSTART:20230312T070000
END:DAYLIGHT
BEGIN:STANDARD
TZOFFSETFROM:-0400
TZOFFSETTO:-0500
TZNAME:EST
DTSTART:20231105T060000
END:STANDARD
BEGIN:DAYLIGHT
TZOFFSETFROM:-0500
TZOFFSETTO:-0400
TZNAME:EDT
DTSTART:20240310T070000
END:DAYLIGHT
BEGIN:STANDARD
TZOFFSETFROM:-0400
TZOFFSETTO:-0500
TZNAME:EST
DTSTART:20241103T060000
END:STANDARD
END:VTIMEZONE
BEGIN:VEVENT
DTSTART;TZID=America/New_York:20231015T103000
DTEND;TZID=America/New_York:20231015T123000
DTSTAMP:20260422T121422
CREATED:20230519T172119Z
LAST-MODIFIED:20231015T151334Z
UID:10000468-1697365800-1697373000@circleboston.org
SUMMARY:Shule Family Brunches / Family-Teacher Meetings
DESCRIPTION:
URL:https://circleboston.org/event/shule-family-brunches-family-teacher-meetings/
CATEGORIES:Shule
END:VEVENT
BEGIN:VEVENT
DTSTART;TZID=America/New_York:20231015T150000
DTEND;TZID=America/New_York:20231015T173000
DTSTAMP:20260422T121422
CREATED:20230821T144334Z
LAST-MODIFIED:20231014T215816Z
UID:10000739-1697382000-1697391000@circleboston.org
SUMMARY:A Besere Velt Yiddish Chorus Open Rehearsal
DESCRIPTION:Check out A Besere Velt Yiddish Chorus’s open rehearsals in October! A Besere Velt (a better world) – is the Yiddish Chorus of the Boston Workers Circle. We are a vibrant 80-member intergenerational community chorus that weaves the heartache and irrepressible idealism of Yiddish music into a vision of justice for the 21st century. Our songs contain the history\, culture and progressive values to inspire us to action today.  \nWhen you join A Besere Velt\, you become a custodian of a centuries-old cultural legacy and join a warm\, welcoming community sharing a passion for music\, culture\, and heritage. Our powerful message is progressive and universal. We sing the songs of the workers\, activists\, artists and all who struggled for freedom and justice – struggles that continue today.  \nAll are welcome\, ages 13 and up. There are no auditions; no need to be able to read music. You don’t have to be Jewish\, nor do you need to know Yiddish. Come sing with us!  \nEmail abv@circleboston.org for more information and plan to join us for our open rehearsals on October 1st & 15th in Brookline.  \nFor more information about BWC and for samples of ABV performances check out our website: circleboston.org/arts
URL:https://circleboston.org/event/a-besere-velt-yiddish-chorus-open-rehearsal-2/
LOCATION:Temple Beth Zion\, 1566 Beacon St\, Brookline\, MA 02446\, USA
CATEGORIES:A Besere Velt
END:VEVENT
END:VCALENDAR