BEGIN:VCALENDAR
VERSION:2.0
PRODID:-//Boston Workers Circle - ECPv6.15.20//NONSGML v1.0//EN
CALSCALE:GREGORIAN
METHOD:PUBLISH
X-ORIGINAL-URL:https://circleboston.org
X-WR-CALDESC:Events for Boston Workers Circle
REFRESH-INTERVAL;VALUE=DURATION:PT1H
X-Robots-Tag:noindex
X-PUBLISHED-TTL:PT1H
BEGIN:VTIMEZONE
TZID:America/New_York
BEGIN:DAYLIGHT
TZOFFSETFROM:-0500
TZOFFSETTO:-0400
TZNAME:EDT
DTSTART:20220313T070000
END:DAYLIGHT
BEGIN:STANDARD
TZOFFSETFROM:-0400
TZOFFSETTO:-0500
TZNAME:EST
DTSTART:20221106T060000
END:STANDARD
BEGIN:DAYLIGHT
TZOFFSETFROM:-0500
TZOFFSETTO:-0400
TZNAME:EDT
DTSTART:20230312T070000
END:DAYLIGHT
BEGIN:STANDARD
TZOFFSETFROM:-0400
TZOFFSETTO:-0500
TZNAME:EST
DTSTART:20231105T060000
END:STANDARD
BEGIN:DAYLIGHT
TZOFFSETFROM:-0500
TZOFFSETTO:-0400
TZNAME:EDT
DTSTART:20240310T070000
END:DAYLIGHT
BEGIN:STANDARD
TZOFFSETFROM:-0400
TZOFFSETTO:-0500
TZNAME:EST
DTSTART:20241103T060000
END:STANDARD
END:VTIMEZONE
BEGIN:VEVENT
DTSTART;TZID=America/New_York:20231011T190000
DTEND;TZID=America/New_York:20231011T203000
DTSTAMP:20260420T141854
CREATED:20230823T193903Z
LAST-MODIFIED:20231011T195819Z
UID:10000746-1697050800-1697056200@circleboston.org
SUMMARY:Advanced Beginner
DESCRIPTION:Do you know about der\, di\, dos\, and dem\, but shudder when you hear the words “dative” and “accusative”? Do you know how to exchange pleasantries in Yiddish but not how to talk about what happened yesterday? Do you know the alef-beys\, but not have enough vocabulary to tell a story? Would you like to study Yiddish every week with an enthusiastic teacher who showers you with positive feedback no matter how many mistakes you make? This advanced beginner Yiddish class might just be right for you. \nRegister Here.
URL:https://circleboston.org/event/advanced-beginner-11/
LOCATION:Zoom
CATEGORIES:Yiddish - Classes
END:VEVENT
BEGIN:VEVENT
DTSTART;TZID=America/New_York:20231011T190000
DTEND;TZID=America/New_York:20231011T203000
DTSTAMP:20260420T141854
CREATED:20230923T105406Z
LAST-MODIFIED:20231011T111316Z
UID:10000895-1697050800-1697056200@circleboston.org
SUMMARY:Strategic Planning Community Coversation
DESCRIPTION:Over the summer\, BWC began a strategic planning process to help us co-create a shared vision for where our community is headed as we set new 3-year strategic priorities. Our new strategic priorities need to be shaped by the many perspectives within our community. To make that happen\, we need to hear from you! \nAll BWC members are invited to join the strategic planning committee for an update on the strategic planning process\, a presentation on themes that came up in this summer’s environmental scan (which included an all member survey and interviews with members\, partners\, and staff)\, and a discussion on what you would like to see the organization focus on in the next 3 years. We need your voice in the mix as we write our next chapter together\, so keep an eye on your email for when we send out further information to all BWC members. Not yet a member? Join today!
URL:https://circleboston.org/event/strategic-planning-community-coversation/
LOCATION:Zoom
CATEGORIES:General Events
END:VEVENT
BEGIN:VEVENT
DTSTART;TZID=America/New_York:20231011T190000
DTEND;TZID=America/New_York:20231011T203000
DTSTAMP:20260420T141854
CREATED:20231003T105834Z
LAST-MODIFIED:20231011T111316Z
UID:10000902-1697050800-1697056200@circleboston.org
SUMMARY:Yiddish Class - Advanced Beginner
DESCRIPTION:I’m looking forward to having you in Yiddish class! Class will be on Wednesdays from 7 to 8:30 Eastern Standard Time \nTextbook: Colloquial Yiddish by Lily Kahn \nZoom link: https://circleboston-org.zoom.us/j/88525115374?pwd=YUgmaH2dosp8qZVyZv9xc7oeZvr0bm.1 \nReach out to abby.g.howell@gmail.com (512-762-2113) with any questions. I’m looking forward to seeing you in class!\nJoin Zoom Meeting\nhttps://circleboston-org.zoom.us/j/88525115374?pwd=YUgmaH2dosp8qZVyZv9xc7oeZvr0bm.1 (ID: 88525115374\, passcode: 713486)\nJoin by phone\n(US) +1 301-715-8592 (passcode: 713486)\nJoining instructions: https://www.google.com/url?q=https://applications.zoom.us/addon/invitation/detail?meetingUuid%3DZUsmZWvJTUKw69raWgq3DA%253D%253D%26signature%3D6fae7563f2bb578d5ddd60cbf1791aa50fcee54b70d29636f298ae0562308480%26v%3D1&sa=D&source=calendar&usg=AOvVaw0I34-TYq5-uuK-ICOj5FBl\nMeeting host: abby.g.howell@gmail.com \nJoin Zoom Meeting: https://circleboston-org.zoom.us/j/88525115374?pwd=YUgmaH2dosp8qZVyZv9xc7oeZvr0bm.1
URL:https://circleboston.org/event/yiddish-class-advanced-beginner/
CATEGORIES:General Events
ORGANIZER;CN="abby.g.howell@gmail.com":MAILTO:abby.g.howell@gmail.com
END:VEVENT
BEGIN:VEVENT
DTSTART;TZID=America/New_York:20231011T193000
DTEND;TZID=America/New_York:20231011T210000
DTSTAMP:20260420T141854
CREATED:20230823T193903Z
LAST-MODIFIED:20231011T195819Z
UID:10000744-1697052600-1697058000@circleboston.org
SUMMARY:Beginner\, In-Person
DESCRIPTION:Let’s learn Yiddish — lomir zikh lernen yidish! Learn elementary grammar\, how to read Yiddish and conversation skills. Students who don’t yet know the Hebrew alphabet will be asked to join the class a half hour early for the first several sessions. The class will be interactive and lively\, using the textbook Colloquial Yiddish\, and exposing students to Yiddish culture through songs\, games\, and other multimedia materials. \nRegister Here.
URL:https://circleboston.org/event/beginner-in-person/
LOCATION:Boston Workers Circle: Center for Jewish Culture & Social Justice\, 6 Webster St\, Brookline\, MA 02446\, USA
CATEGORIES:Yiddish - Classes
END:VEVENT
BEGIN:VEVENT
DTSTART;TZID=America/New_York:20231011T200000
DTEND;TZID=America/New_York:20231011T213000
DTSTAMP:20260420T141854
CREATED:20230823T193903Z
LAST-MODIFIED:20231011T195819Z
UID:10000745-1697054400-1697059800@circleboston.org
SUMMARY:Advanced
DESCRIPTION:Celia Dropkin (1887-1956) is a dynamic writer whose work is exciting\, intense and confronting. Best known for her fierce and intimate poetry\, Dropkin brings the same bold\, unflinching voice to her short stories. Dropkin’s stories take the reader deep under the skins of sharply drawn characters\, casting a critical gaze on the settings and social circumstances that they encounter. In this course\, we will read a selection of Dropkin’s short stories in the original Yiddish\, and will discuss the themes\, characters\, contexts and stylistics of these works. \nRegister Here.
URL:https://circleboston.org/event/advanced/
LOCATION:Zoom
CATEGORIES:Yiddish - Classes
END:VEVENT
END:VCALENDAR