BEGIN:VCALENDAR
VERSION:2.0
PRODID:-//Boston Workers Circle - ECPv6.15.20//NONSGML v1.0//EN
CALSCALE:GREGORIAN
METHOD:PUBLISH
X-ORIGINAL-URL:https://circleboston.org
X-WR-CALDESC:Events for Boston Workers Circle
REFRESH-INTERVAL;VALUE=DURATION:PT1H
X-Robots-Tag:noindex
X-PUBLISHED-TTL:PT1H
BEGIN:VTIMEZONE
TZID:America/New_York
BEGIN:DAYLIGHT
TZOFFSETFROM:-0500
TZOFFSETTO:-0400
TZNAME:EDT
DTSTART:20220313T070000
END:DAYLIGHT
BEGIN:STANDARD
TZOFFSETFROM:-0400
TZOFFSETTO:-0500
TZNAME:EST
DTSTART:20221106T060000
END:STANDARD
BEGIN:DAYLIGHT
TZOFFSETFROM:-0500
TZOFFSETTO:-0400
TZNAME:EDT
DTSTART:20230312T070000
END:DAYLIGHT
BEGIN:STANDARD
TZOFFSETFROM:-0400
TZOFFSETTO:-0500
TZNAME:EST
DTSTART:20231105T060000
END:STANDARD
BEGIN:DAYLIGHT
TZOFFSETFROM:-0500
TZOFFSETTO:-0400
TZNAME:EDT
DTSTART:20240310T070000
END:DAYLIGHT
BEGIN:STANDARD
TZOFFSETFROM:-0400
TZOFFSETTO:-0500
TZNAME:EST
DTSTART:20241103T060000
END:STANDARD
END:VTIMEZONE
BEGIN:VEVENT
DTSTART;TZID=America/New_York:20231010T173000
DTEND;TZID=America/New_York:20231010T190000
DTSTAMP:20260422T093012
CREATED:20230823T193902Z
LAST-MODIFIED:20231010T195831Z
UID:10000743-1696959000-1696964400@circleboston.org
SUMMARY:Early Intermediate
DESCRIPTION:This class will use Colloquial Yiddish\, starting with chapter 11\, and will incorporate exercises\, songs\, and additional short readings to further our study of grammar\, conversation\, and culture.  \nRegister Here.
URL:https://circleboston.org/event/early-intermediate/
LOCATION:Zoom
CATEGORIES:Yiddish - Classes
END:VEVENT
BEGIN:VEVENT
DTSTART;TZID=America/New_York:20231010T190000
DTEND;TZID=America/New_York:20231010T203000
DTSTAMP:20260422T093012
CREATED:20230823T193902Z
LAST-MODIFIED:20231010T195831Z
UID:10000742-1696964400-1696969800@circleboston.org
SUMMARY:Beginner\, Virtual
DESCRIPTION:Let’s learn Yiddish — lomir zikh lernen yidish! This course introduces students to the fundamentals of Yiddish conversation\, reading\, and grammar through highly-interactive games\, songs\, activities\, and short texts.\nStudents who don’t yet know the Hebrew alphabet will be asked to join the class a half hour early for the first several sessions
URL:https://circleboston.org/event/beginner-virtual/
LOCATION:Zoom
CATEGORIES:Yiddish - Classes
END:VEVENT
END:VCALENDAR